BEGIN:VCALENDAR
VERSION:2.0
PRODID:-//Goujonissimo - ECPv6.15.16//NONSGML v1.0//EN
CALSCALE:GREGORIAN
METHOD:PUBLISH
X-WR-CALNAME:Goujonissimo
X-ORIGINAL-URL:https://goujonissimo.be/nl/
X-WR-CALDESC:Evenementen voor Goujonissimo
REFRESH-INTERVAL;VALUE=DURATION:PT1H
X-Robots-Tag:noindex
X-PUBLISHED-TTL:PT1H
BEGIN:VTIMEZONE
TZID:Europe/Brussels
BEGIN:DAYLIGHT
TZOFFSETFROM:+0100
TZOFFSETTO:+0200
TZNAME:CEST
DTSTART:20240331T010000
END:DAYLIGHT
BEGIN:STANDARD
TZOFFSETFROM:+0200
TZOFFSETTO:+0100
TZNAME:CET
DTSTART:20241027T010000
END:STANDARD
BEGIN:DAYLIGHT
TZOFFSETFROM:+0100
TZOFFSETTO:+0200
TZNAME:CEST
DTSTART:20250330T010000
END:DAYLIGHT
BEGIN:STANDARD
TZOFFSETFROM:+0200
TZOFFSETTO:+0100
TZNAME:CET
DTSTART:20251026T010000
END:STANDARD
BEGIN:DAYLIGHT
TZOFFSETFROM:+0100
TZOFFSETTO:+0200
TZNAME:CEST
DTSTART:20260329T010000
END:DAYLIGHT
BEGIN:STANDARD
TZOFFSETFROM:+0200
TZOFFSETTO:+0100
TZNAME:CET
DTSTART:20261025T010000
END:STANDARD
END:VTIMEZONE
BEGIN:VEVENT
DTSTART;TZID=Europe/Brussels:20250811T130000
DTEND;TZID=Europe/Brussels:20250811T160000
DTSTAMP:20260421T102551
CREATED:20240718T100347Z
LAST-MODIFIED:20240718T102803Z
UID:10009757-1754917200-1754928000@goujonissimo.be
SUMMARY:liedjes verzinnen is leuk!
DESCRIPTION:We spelen muzikale spelletjes met je en helpen je om samen liedjes te ontwikkelen die over jou en je emoties gaan ! \nKinderen van 8 tot 12 jaar. \nFranstalig.
URL:https://goujonissimo.be/nl/event/inviter-des-chansons-cest-rigolo/2025-08-11/
CATEGORIES:Convivial
ATTACH;FMTTYPE=image/png:https://goujonissimo.be/wp-content/uploads/2024/07/image-site-web-inventer-des-chansons.png
END:VEVENT
BEGIN:VEVENT
DTSTART;TZID=Europe/Brussels:20250812T130000
DTEND;TZID=Europe/Brussels:20250812T160000
DTSTAMP:20260421T102551
CREATED:20240718T100347Z
LAST-MODIFIED:20240718T102803Z
UID:10009758-1755003600-1755014400@goujonissimo.be
SUMMARY:liedjes verzinnen is leuk!
DESCRIPTION:We spelen muzikale spelletjes met je en helpen je om samen liedjes te ontwikkelen die over jou en je emoties gaan ! \nKinderen van 8 tot 12 jaar. \nFranstalig.
URL:https://goujonissimo.be/nl/event/inviter-des-chansons-cest-rigolo/2025-08-12/
CATEGORIES:Convivial
ATTACH;FMTTYPE=image/png:https://goujonissimo.be/wp-content/uploads/2024/07/image-site-web-inventer-des-chansons.png
END:VEVENT
BEGIN:VEVENT
DTSTART;TZID=Europe/Brussels:20250813T130000
DTEND;TZID=Europe/Brussels:20250813T160000
DTSTAMP:20260421T102551
CREATED:20240718T100347Z
LAST-MODIFIED:20240718T102803Z
UID:10009759-1755090000-1755100800@goujonissimo.be
SUMMARY:liedjes verzinnen is leuk!
DESCRIPTION:We spelen muzikale spelletjes met je en helpen je om samen liedjes te ontwikkelen die over jou en je emoties gaan ! \nKinderen van 8 tot 12 jaar. \nFranstalig.
URL:https://goujonissimo.be/nl/event/inviter-des-chansons-cest-rigolo/2025-08-13/
CATEGORIES:Convivial
ATTACH;FMTTYPE=image/png:https://goujonissimo.be/wp-content/uploads/2024/07/image-site-web-inventer-des-chansons.png
END:VEVENT
END:VCALENDAR