BEGIN:VCALENDAR
VERSION:2.0
PRODID:-//Goujonissimo - ECPv6.15.16//NONSGML v1.0//EN
CALSCALE:GREGORIAN
METHOD:PUBLISH
X-ORIGINAL-URL:https://goujonissimo.be/nl/
X-WR-CALDESC:Evenementen voor Goujonissimo
REFRESH-INTERVAL;VALUE=DURATION:PT1H
X-Robots-Tag:noindex
X-PUBLISHED-TTL:PT1H
BEGIN:VTIMEZONE
TZID:Europe/Zurich
BEGIN:DAYLIGHT
TZOFFSETFROM:+0100
TZOFFSETTO:+0200
TZNAME:CEST
DTSTART:20240331T010000
END:DAYLIGHT
BEGIN:STANDARD
TZOFFSETFROM:+0200
TZOFFSETTO:+0100
TZNAME:CET
DTSTART:20241027T010000
END:STANDARD
BEGIN:DAYLIGHT
TZOFFSETFROM:+0100
TZOFFSETTO:+0200
TZNAME:CEST
DTSTART:20250330T010000
END:DAYLIGHT
BEGIN:STANDARD
TZOFFSETFROM:+0200
TZOFFSETTO:+0100
TZNAME:CET
DTSTART:20251026T010000
END:STANDARD
BEGIN:DAYLIGHT
TZOFFSETFROM:+0100
TZOFFSETTO:+0200
TZNAME:CEST
DTSTART:20260329T010000
END:DAYLIGHT
BEGIN:STANDARD
TZOFFSETFROM:+0200
TZOFFSETTO:+0100
TZNAME:CET
DTSTART:20261025T010000
END:STANDARD
END:VTIMEZONE
BEGIN:VTIMEZONE
TZID:Europe/Brussels
BEGIN:DAYLIGHT
TZOFFSETFROM:+0100
TZOFFSETTO:+0200
TZNAME:CEST
DTSTART:20240331T010000
END:DAYLIGHT
BEGIN:STANDARD
TZOFFSETFROM:+0200
TZOFFSETTO:+0100
TZNAME:CET
DTSTART:20241027T010000
END:STANDARD
BEGIN:DAYLIGHT
TZOFFSETFROM:+0100
TZOFFSETTO:+0200
TZNAME:CEST
DTSTART:20250330T010000
END:DAYLIGHT
BEGIN:STANDARD
TZOFFSETFROM:+0200
TZOFFSETTO:+0100
TZNAME:CET
DTSTART:20251026T010000
END:STANDARD
BEGIN:DAYLIGHT
TZOFFSETFROM:+0100
TZOFFSETTO:+0200
TZNAME:CEST
DTSTART:20260329T010000
END:DAYLIGHT
BEGIN:STANDARD
TZOFFSETFROM:+0200
TZOFFSETTO:+0100
TZNAME:CET
DTSTART:20261025T010000
END:STANDARD
END:VTIMEZONE
BEGIN:VEVENT
DTSTART;TZID=Europe/Zurich:20251201T090000
DTEND;TZID=Europe/Zurich:20251201T123000
DTSTAMP:20260420T021130
CREATED:20251219T125925Z
LAST-MODIFIED:20251219T143210Z
UID:10011312-1764579600-1764592200@goujonissimo.be
SUMMARY:Gezond Koken
DESCRIPTION:Elke vierde donderdag van de maand organiseren Medikuregem en Goujonissimo samen een workshop gezond koken. Diëtiste Nacera zorgt voor gezonde ingrediënten en vertelt over gezonde voeding. Daarna gaat de groep deelnemers samen aan de slag om een maaltijd te bereiden en er ook samen lekker van te eten en te genieten.
URL:https://goujonissimo.be/nl/event/gezond-koken-2/2025-12-01/
LOCATION:Keuken
CATEGORIES:Convivial,Gezondheid
ATTACH;FMTTYPE=image/webp:https://goujonissimo.be/wp-content/uploads/2024/03/Goujonissimo_Activite-Cuisine-Saine.webp
END:VEVENT
BEGIN:VEVENT
DTSTART;TZID=Europe/Brussels:20251203T100000
DTEND;TZID=Europe/Brussels:20251203T113000
DTSTAMP:20260420T021130
CREATED:20250124T100151Z
LAST-MODIFIED:20250902T110719Z
UID:10009384-1764756000-1764761400@goujonissimo.be
SUMMARY:Babymassage
DESCRIPTION:Een fijne\, rustige en interactieve activiteit voor ouders en hun baby tussen 4 weken en 6 maanden. \n2/07: Goujonissimo 10h – 11h30 \n6 /08: Goujonissimo 10h – 11h30 \n3/09: Huis van het kind 10h – 11h30 \n1/10: Huis van het kind 10h – 11h30 \n5/11: Goujonissimo 10h – 11h30 \n3/12: Huis van het kind 10h – 11h30 \n 
URL:https://goujonissimo.be/nl/event/babymassage-3-2/2025-12-03/
CATEGORIES:Convivial,Gezondheid,Informatie,Mental Zorg
ATTACH;FMTTYPE=image/jpeg:https://goujonissimo.be/wp-content/uploads/2024/05/babymassage.jpg
END:VEVENT
BEGIN:VEVENT
DTSTART;TZID=Europe/Brussels:20251203T140000
DTEND;TZID=Europe/Brussels:20251203T160000
DTSTAMP:20260420T021130
CREATED:20240718T100347Z
LAST-MODIFIED:20240718T102803Z
UID:10009866-1764770400-1764777600@goujonissimo.be
SUMMARY:liedjes verzinnen is leuk!
DESCRIPTION:We spelen muzikale spelletjes met je en helpen je om samen liedjes te ontwikkelen die over jou en je emoties gaan ! \nKinderen van 8 tot 12 jaar. \nFranstalig.
URL:https://goujonissimo.be/nl/event/inviter-des-chansons-cest-rigolo/2025-12-03/
CATEGORIES:Convivial
ATTACH;FMTTYPE=image/png:https://goujonissimo.be/wp-content/uploads/2024/07/image-site-web-inventer-des-chansons.png
END:VEVENT
END:VCALENDAR