BEGIN:VCALENDAR
VERSION:2.0
PRODID:-//Goujonissimo - ECPv6.15.16//NONSGML v1.0//EN
CALSCALE:GREGORIAN
METHOD:PUBLISH
X-WR-CALNAME:Goujonissimo
X-ORIGINAL-URL:https://goujonissimo.be/nl/
X-WR-CALDESC:Evenementen voor Goujonissimo
REFRESH-INTERVAL;VALUE=DURATION:PT1H
X-Robots-Tag:noindex
X-PUBLISHED-TTL:PT1H
BEGIN:VTIMEZONE
TZID:Europe/Brussels
BEGIN:DAYLIGHT
TZOFFSETFROM:+0100
TZOFFSETTO:+0200
TZNAME:CEST
DTSTART:20250330T010000
END:DAYLIGHT
BEGIN:STANDARD
TZOFFSETFROM:+0200
TZOFFSETTO:+0100
TZNAME:CET
DTSTART:20251026T010000
END:STANDARD
BEGIN:DAYLIGHT
TZOFFSETFROM:+0100
TZOFFSETTO:+0200
TZNAME:CEST
DTSTART:20260329T010000
END:DAYLIGHT
BEGIN:STANDARD
TZOFFSETFROM:+0200
TZOFFSETTO:+0100
TZNAME:CET
DTSTART:20261025T010000
END:STANDARD
BEGIN:DAYLIGHT
TZOFFSETFROM:+0100
TZOFFSETTO:+0200
TZNAME:CEST
DTSTART:20270328T010000
END:DAYLIGHT
BEGIN:STANDARD
TZOFFSETFROM:+0200
TZOFFSETTO:+0100
TZNAME:CET
DTSTART:20271031T010000
END:STANDARD
END:VTIMEZONE
BEGIN:VTIMEZONE
TZID:Europe/Zurich
BEGIN:DAYLIGHT
TZOFFSETFROM:+0100
TZOFFSETTO:+0200
TZNAME:CEST
DTSTART:20250330T010000
END:DAYLIGHT
BEGIN:STANDARD
TZOFFSETFROM:+0200
TZOFFSETTO:+0100
TZNAME:CET
DTSTART:20251026T010000
END:STANDARD
BEGIN:DAYLIGHT
TZOFFSETFROM:+0100
TZOFFSETTO:+0200
TZNAME:CEST
DTSTART:20260329T010000
END:DAYLIGHT
BEGIN:STANDARD
TZOFFSETFROM:+0200
TZOFFSETTO:+0100
TZNAME:CET
DTSTART:20261025T010000
END:STANDARD
BEGIN:DAYLIGHT
TZOFFSETFROM:+0100
TZOFFSETTO:+0200
TZNAME:CEST
DTSTART:20270328T010000
END:DAYLIGHT
BEGIN:STANDARD
TZOFFSETFROM:+0200
TZOFFSETTO:+0100
TZNAME:CET
DTSTART:20271031T010000
END:STANDARD
END:VTIMEZONE
BEGIN:VEVENT
DTSTART;TZID=Europe/Brussels:20260114T103000
DTEND;TZID=Europe/Brussels:20260114T120000
DTSTAMP:20260423T010611
CREATED:20240829T075633Z
LAST-MODIFIED:20260109T073805Z
UID:10009469-1768386600-1768392000@goujonissimo.be
SUMMARY:Op weg naar ontspanning
DESCRIPTION:Ontdek manieren om je te relaxeren: \n\nademhalings- en meditatieoefeningen\nmindful wandelen\nmeditatief tekenen\ngeluidsimmersie\n\nIn Goujonissimo
URL:https://goujonissimo.be/nl/event/op-weg-naar-ontspanning/2026-01-14/
LOCATION:Gym
CATEGORIES:Gezondheid,Mental Zorg
ATTACH;FMTTYPE=image/webp:https://goujonissimo.be/wp-content/uploads/2024/05/abdominal-breathing-african-woman-practicing-belly-relaxation-breath-awareness-yoga-exercise-meditation-body-mind-emotions-226379546.webp
END:VEVENT
BEGIN:VEVENT
DTSTART;TZID=Europe/Zurich:20260122T090000
DTEND;TZID=Europe/Zurich:20260122T123000
DTSTAMP:20260423T010611
CREATED:20260122T104307Z
LAST-MODIFIED:20260319T111134Z
UID:10011844-1769072400-1769085000@goujonissimo.be
SUMMARY:Gezond Koken
DESCRIPTION:Elke vierde donderdag van de maand organiseren Medikuregem en Goujonissimo samen een workshop gezond koken. Diëtiste Nacera zorgt voor gezonde ingrediënten en vertelt over gezonde voeding. Daarna gaat de groep deelnemers samen aan de slag om een maaltijd te bereiden en er ook samen lekker van te eten en te genieten.
URL:https://goujonissimo.be/nl/event/gezond-koken-2-2-2/2026-01-22/
LOCATION:Keuken
CATEGORIES:Convivial,Gezondheid
ATTACH;FMTTYPE=image/webp:https://goujonissimo.be/wp-content/uploads/2024/03/Goujonissimo_Activite-Cuisine-Saine.webp
END:VEVENT
BEGIN:VEVENT
DTSTART;TZID=Europe/Brussels:20260122T160000
DTEND;TZID=Europe/Brussels:20260122T173000
DTSTAMP:20260423T010611
CREATED:20240829T075633Z
LAST-MODIFIED:20260109T073805Z
UID:10012733-1769097600-1769103000@goujonissimo.be
SUMMARY:Op weg naar ontspanning
DESCRIPTION:Ontdek manieren om je te relaxeren: \n\nademhalings- en meditatieoefeningen\nmindful wandelen\nmeditatief tekenen\ngeluidsimmersie\n\nIn Goujonissimo
URL:https://goujonissimo.be/nl/event/op-weg-naar-ontspanning/2026-01-22/
LOCATION:Gym
CATEGORIES:Gezondheid,Mental Zorg
ATTACH;FMTTYPE=image/webp:https://goujonissimo.be/wp-content/uploads/2024/05/abdominal-breathing-african-woman-practicing-belly-relaxation-breath-awareness-yoga-exercise-meditation-body-mind-emotions-226379546.webp
END:VEVENT
BEGIN:VEVENT
DTSTART;TZID=Europe/Brussels:20260128T103000
DTEND;TZID=Europe/Brussels:20260128T120000
DTSTAMP:20260423T010611
CREATED:20240829T075633Z
LAST-MODIFIED:20260109T073805Z
UID:10009470-1769596200-1769601600@goujonissimo.be
SUMMARY:Op weg naar ontspanning
DESCRIPTION:Ontdek manieren om je te relaxeren: \n\nademhalings- en meditatieoefeningen\nmindful wandelen\nmeditatief tekenen\ngeluidsimmersie\n\nIn Goujonissimo
URL:https://goujonissimo.be/nl/event/op-weg-naar-ontspanning/2026-01-28/
LOCATION:Gym
CATEGORIES:Gezondheid,Mental Zorg
ATTACH;FMTTYPE=image/webp:https://goujonissimo.be/wp-content/uploads/2024/05/abdominal-breathing-african-woman-practicing-belly-relaxation-breath-awareness-yoga-exercise-meditation-body-mind-emotions-226379546.webp
END:VEVENT
BEGIN:VEVENT
DTSTART;TZID=Europe/Zurich:20260129T090000
DTEND;TZID=Europe/Zurich:20260129T123000
DTSTAMP:20260423T010611
CREATED:20260122T104307Z
LAST-MODIFIED:20260319T111134Z
UID:10012782-1769677200-1769689800@goujonissimo.be
SUMMARY:Gezond Koken
DESCRIPTION:Elke vierde donderdag van de maand organiseren Medikuregem en Goujonissimo samen een workshop gezond koken. Diëtiste Nacera zorgt voor gezonde ingrediënten en vertelt over gezonde voeding. Daarna gaat de groep deelnemers samen aan de slag om een maaltijd te bereiden en er ook samen lekker van te eten en te genieten.
URL:https://goujonissimo.be/nl/event/gezond-koken-2-2-2/2026-01-29/
LOCATION:Keuken
CATEGORIES:Convivial,Gezondheid
ATTACH;FMTTYPE=image/webp:https://goujonissimo.be/wp-content/uploads/2024/03/Goujonissimo_Activite-Cuisine-Saine.webp
END:VEVENT
BEGIN:VEVENT
DTSTART;TZID=Europe/Brussels:20260211T103000
DTEND;TZID=Europe/Brussels:20260211T120000
DTSTAMP:20260423T010611
CREATED:20240829T075633Z
LAST-MODIFIED:20260109T073805Z
UID:10009471-1770805800-1770811200@goujonissimo.be
SUMMARY:Op weg naar ontspanning
DESCRIPTION:Ontdek manieren om je te relaxeren: \n\nademhalings- en meditatieoefeningen\nmindful wandelen\nmeditatief tekenen\ngeluidsimmersie\n\nIn Goujonissimo
URL:https://goujonissimo.be/nl/event/op-weg-naar-ontspanning/2026-02-11/
LOCATION:Gym
CATEGORIES:Gezondheid,Mental Zorg
ATTACH;FMTTYPE=image/webp:https://goujonissimo.be/wp-content/uploads/2024/05/abdominal-breathing-african-woman-practicing-belly-relaxation-breath-awareness-yoga-exercise-meditation-body-mind-emotions-226379546.webp
END:VEVENT
BEGIN:VEVENT
DTSTART;TZID=Europe/Brussels:20260225T103000
DTEND;TZID=Europe/Brussels:20260225T120000
DTSTAMP:20260423T010611
CREATED:20240829T075633Z
LAST-MODIFIED:20260109T073805Z
UID:10009472-1772015400-1772020800@goujonissimo.be
SUMMARY:Op weg naar ontspanning
DESCRIPTION:Ontdek manieren om je te relaxeren: \n\nademhalings- en meditatieoefeningen\nmindful wandelen\nmeditatief tekenen\ngeluidsimmersie\n\nIn Goujonissimo
URL:https://goujonissimo.be/nl/event/op-weg-naar-ontspanning/2026-02-25/
LOCATION:Gym
CATEGORIES:Gezondheid,Mental Zorg
ATTACH;FMTTYPE=image/webp:https://goujonissimo.be/wp-content/uploads/2024/05/abdominal-breathing-african-woman-practicing-belly-relaxation-breath-awareness-yoga-exercise-meditation-body-mind-emotions-226379546.webp
END:VEVENT
BEGIN:VEVENT
DTSTART;TZID=Europe/Brussels:20260311T103000
DTEND;TZID=Europe/Brussels:20260311T120000
DTSTAMP:20260423T010611
CREATED:20240829T075633Z
LAST-MODIFIED:20260109T073805Z
UID:10009473-1773225000-1773230400@goujonissimo.be
SUMMARY:Op weg naar ontspanning
DESCRIPTION:Ontdek manieren om je te relaxeren: \n\nademhalings- en meditatieoefeningen\nmindful wandelen\nmeditatief tekenen\ngeluidsimmersie\n\nIn Goujonissimo
URL:https://goujonissimo.be/nl/event/op-weg-naar-ontspanning/2026-03-11/
LOCATION:Gym
CATEGORIES:Gezondheid,Mental Zorg
ATTACH;FMTTYPE=image/webp:https://goujonissimo.be/wp-content/uploads/2024/05/abdominal-breathing-african-woman-practicing-belly-relaxation-breath-awareness-yoga-exercise-meditation-body-mind-emotions-226379546.webp
END:VEVENT
BEGIN:VEVENT
DTSTART;TZID=Europe/Brussels:20260325T103000
DTEND;TZID=Europe/Brussels:20260325T120000
DTSTAMP:20260423T010611
CREATED:20240829T075633Z
LAST-MODIFIED:20260109T073805Z
UID:10009474-1774434600-1774440000@goujonissimo.be
SUMMARY:Op weg naar ontspanning
DESCRIPTION:Ontdek manieren om je te relaxeren: \n\nademhalings- en meditatieoefeningen\nmindful wandelen\nmeditatief tekenen\ngeluidsimmersie\n\nIn Goujonissimo
URL:https://goujonissimo.be/nl/event/op-weg-naar-ontspanning/2026-03-25/
LOCATION:Gym
CATEGORIES:Gezondheid,Mental Zorg
ATTACH;FMTTYPE=image/webp:https://goujonissimo.be/wp-content/uploads/2024/05/abdominal-breathing-african-woman-practicing-belly-relaxation-breath-awareness-yoga-exercise-meditation-body-mind-emotions-226379546.webp
END:VEVENT
BEGIN:VEVENT
DTSTART;TZID=Europe/Zurich:20260326T090000
DTEND;TZID=Europe/Zurich:20260326T120000
DTSTAMP:20260423T010611
CREATED:20260122T104307Z
LAST-MODIFIED:20260319T111134Z
UID:10013500-1774515600-1774526400@goujonissimo.be
SUMMARY:Gezond Koken
DESCRIPTION:Elke vierde donderdag van de maand organiseren Medikuregem en Goujonissimo samen een workshop gezond koken. Diëtiste Nacera zorgt voor gezonde ingrediënten en vertelt over gezonde voeding. Daarna gaat de groep deelnemers samen aan de slag om een maaltijd te bereiden en er ook samen lekker van te eten en te genieten.
URL:https://goujonissimo.be/nl/event/gezond-koken-2-2-2/2026-03-26/
LOCATION:Keuken
CATEGORIES:Convivial,Gezondheid
ATTACH;FMTTYPE=image/webp:https://goujonissimo.be/wp-content/uploads/2024/03/Goujonissimo_Activite-Cuisine-Saine.webp
END:VEVENT
BEGIN:VEVENT
DTSTART;TZID=Europe/Brussels:20260408T103000
DTEND;TZID=Europe/Brussels:20260408T120000
DTSTAMP:20260423T010611
CREATED:20240829T075633Z
LAST-MODIFIED:20260109T073805Z
UID:10009475-1775644200-1775649600@goujonissimo.be
SUMMARY:Op weg naar ontspanning
DESCRIPTION:Ontdek manieren om je te relaxeren: \n\nademhalings- en meditatieoefeningen\nmindful wandelen\nmeditatief tekenen\ngeluidsimmersie\n\nIn Goujonissimo
URL:https://goujonissimo.be/nl/event/op-weg-naar-ontspanning/2026-04-08/
LOCATION:Gym
CATEGORIES:Gezondheid,Mental Zorg
ATTACH;FMTTYPE=image/webp:https://goujonissimo.be/wp-content/uploads/2024/05/abdominal-breathing-african-woman-practicing-belly-relaxation-breath-awareness-yoga-exercise-meditation-body-mind-emotions-226379546.webp
END:VEVENT
BEGIN:VEVENT
DTSTART;TZID=Europe/Brussels:20260422T103000
DTEND;TZID=Europe/Brussels:20260422T120000
DTSTAMP:20260423T010611
CREATED:20240829T075633Z
LAST-MODIFIED:20260109T073805Z
UID:10009476-1776853800-1776859200@goujonissimo.be
SUMMARY:Op weg naar ontspanning
DESCRIPTION:Ontdek manieren om je te relaxeren: \n\nademhalings- en meditatieoefeningen\nmindful wandelen\nmeditatief tekenen\ngeluidsimmersie\n\nIn Goujonissimo
URL:https://goujonissimo.be/nl/event/op-weg-naar-ontspanning/2026-04-22/
LOCATION:Gym
CATEGORIES:Gezondheid,Mental Zorg
ATTACH;FMTTYPE=image/webp:https://goujonissimo.be/wp-content/uploads/2024/05/abdominal-breathing-african-woman-practicing-belly-relaxation-breath-awareness-yoga-exercise-meditation-body-mind-emotions-226379546.webp
END:VEVENT
BEGIN:VEVENT
DTSTART;TZID=Europe/Brussels:20260506T103000
DTEND;TZID=Europe/Brussels:20260506T120000
DTSTAMP:20260423T010611
CREATED:20240829T075633Z
LAST-MODIFIED:20260109T073805Z
UID:10009477-1778063400-1778068800@goujonissimo.be
SUMMARY:Op weg naar ontspanning
DESCRIPTION:Ontdek manieren om je te relaxeren: \n\nademhalings- en meditatieoefeningen\nmindful wandelen\nmeditatief tekenen\ngeluidsimmersie\n\nIn Goujonissimo
URL:https://goujonissimo.be/nl/event/op-weg-naar-ontspanning/2026-05-06/
LOCATION:Gym
CATEGORIES:Gezondheid,Mental Zorg
ATTACH;FMTTYPE=image/webp:https://goujonissimo.be/wp-content/uploads/2024/05/abdominal-breathing-african-woman-practicing-belly-relaxation-breath-awareness-yoga-exercise-meditation-body-mind-emotions-226379546.webp
END:VEVENT
BEGIN:VEVENT
DTSTART;TZID=Europe/Brussels:20260520T103000
DTEND;TZID=Europe/Brussels:20260520T120000
DTSTAMP:20260423T010611
CREATED:20240829T075633Z
LAST-MODIFIED:20260109T073805Z
UID:10009478-1779273000-1779278400@goujonissimo.be
SUMMARY:Op weg naar ontspanning
DESCRIPTION:Ontdek manieren om je te relaxeren: \n\nademhalings- en meditatieoefeningen\nmindful wandelen\nmeditatief tekenen\ngeluidsimmersie\n\nIn Goujonissimo
URL:https://goujonissimo.be/nl/event/op-weg-naar-ontspanning/2026-05-20/
LOCATION:Gym
CATEGORIES:Gezondheid,Mental Zorg
ATTACH;FMTTYPE=image/webp:https://goujonissimo.be/wp-content/uploads/2024/05/abdominal-breathing-african-woman-practicing-belly-relaxation-breath-awareness-yoga-exercise-meditation-body-mind-emotions-226379546.webp
END:VEVENT
BEGIN:VEVENT
DTSTART;TZID=Europe/Zurich:20260528T090000
DTEND;TZID=Europe/Zurich:20260528T123000
DTSTAMP:20260423T010611
CREATED:20260122T104307Z
LAST-MODIFIED:20260319T111134Z
UID:10011847-1779958800-1779971400@goujonissimo.be
SUMMARY:Gezond Koken
DESCRIPTION:Elke vierde donderdag van de maand organiseren Medikuregem en Goujonissimo samen een workshop gezond koken. Diëtiste Nacera zorgt voor gezonde ingrediënten en vertelt over gezonde voeding. Daarna gaat de groep deelnemers samen aan de slag om een maaltijd te bereiden en er ook samen lekker van te eten en te genieten.
URL:https://goujonissimo.be/nl/event/gezond-koken-2-2-2/2026-05-28/
LOCATION:Keuken
CATEGORIES:Convivial,Gezondheid
ATTACH;FMTTYPE=image/webp:https://goujonissimo.be/wp-content/uploads/2024/03/Goujonissimo_Activite-Cuisine-Saine.webp
END:VEVENT
BEGIN:VEVENT
DTSTART;TZID=Europe/Brussels:20260603T103000
DTEND;TZID=Europe/Brussels:20260603T120000
DTSTAMP:20260423T010611
CREATED:20240829T075633Z
LAST-MODIFIED:20260109T073805Z
UID:10009479-1780482600-1780488000@goujonissimo.be
SUMMARY:Op weg naar ontspanning
DESCRIPTION:Ontdek manieren om je te relaxeren: \n\nademhalings- en meditatieoefeningen\nmindful wandelen\nmeditatief tekenen\ngeluidsimmersie\n\nIn Goujonissimo
URL:https://goujonissimo.be/nl/event/op-weg-naar-ontspanning/2026-06-03/
LOCATION:Gym
CATEGORIES:Gezondheid,Mental Zorg
ATTACH;FMTTYPE=image/webp:https://goujonissimo.be/wp-content/uploads/2024/05/abdominal-breathing-african-woman-practicing-belly-relaxation-breath-awareness-yoga-exercise-meditation-body-mind-emotions-226379546.webp
END:VEVENT
BEGIN:VEVENT
DTSTART;TZID=Europe/Brussels:20260617T103000
DTEND;TZID=Europe/Brussels:20260617T120000
DTSTAMP:20260423T010611
CREATED:20240829T075633Z
LAST-MODIFIED:20260109T073805Z
UID:10009480-1781692200-1781697600@goujonissimo.be
SUMMARY:Op weg naar ontspanning
DESCRIPTION:Ontdek manieren om je te relaxeren: \n\nademhalings- en meditatieoefeningen\nmindful wandelen\nmeditatief tekenen\ngeluidsimmersie\n\nIn Goujonissimo
URL:https://goujonissimo.be/nl/event/op-weg-naar-ontspanning/2026-06-17/
LOCATION:Gym
CATEGORIES:Gezondheid,Mental Zorg
ATTACH;FMTTYPE=image/webp:https://goujonissimo.be/wp-content/uploads/2024/05/abdominal-breathing-african-woman-practicing-belly-relaxation-breath-awareness-yoga-exercise-meditation-body-mind-emotions-226379546.webp
END:VEVENT
BEGIN:VEVENT
DTSTART;TZID=Europe/Brussels:20260701T103000
DTEND;TZID=Europe/Brussels:20260701T120000
DTSTAMP:20260423T010611
CREATED:20240829T075633Z
LAST-MODIFIED:20260109T073805Z
UID:10009481-1782901800-1782907200@goujonissimo.be
SUMMARY:Op weg naar ontspanning
DESCRIPTION:Ontdek manieren om je te relaxeren: \n\nademhalings- en meditatieoefeningen\nmindful wandelen\nmeditatief tekenen\ngeluidsimmersie\n\nIn Goujonissimo
URL:https://goujonissimo.be/nl/event/op-weg-naar-ontspanning/2026-07-01/
LOCATION:Gym
CATEGORIES:Gezondheid,Mental Zorg
ATTACH;FMTTYPE=image/webp:https://goujonissimo.be/wp-content/uploads/2024/05/abdominal-breathing-african-woman-practicing-belly-relaxation-breath-awareness-yoga-exercise-meditation-body-mind-emotions-226379546.webp
END:VEVENT
BEGIN:VEVENT
DTSTART;TZID=Europe/Brussels:20260715T103000
DTEND;TZID=Europe/Brussels:20260715T120000
DTSTAMP:20260423T010611
CREATED:20240829T075633Z
LAST-MODIFIED:20260109T073805Z
UID:10009482-1784111400-1784116800@goujonissimo.be
SUMMARY:Op weg naar ontspanning
DESCRIPTION:Ontdek manieren om je te relaxeren: \n\nademhalings- en meditatieoefeningen\nmindful wandelen\nmeditatief tekenen\ngeluidsimmersie\n\nIn Goujonissimo
URL:https://goujonissimo.be/nl/event/op-weg-naar-ontspanning/2026-07-15/
LOCATION:Gym
CATEGORIES:Gezondheid,Mental Zorg
ATTACH;FMTTYPE=image/webp:https://goujonissimo.be/wp-content/uploads/2024/05/abdominal-breathing-african-woman-practicing-belly-relaxation-breath-awareness-yoga-exercise-meditation-body-mind-emotions-226379546.webp
END:VEVENT
BEGIN:VEVENT
DTSTART;TZID=Europe/Brussels:20260729T103000
DTEND;TZID=Europe/Brussels:20260729T120000
DTSTAMP:20260423T010611
CREATED:20240829T075633Z
LAST-MODIFIED:20260109T073805Z
UID:10009483-1785321000-1785326400@goujonissimo.be
SUMMARY:Op weg naar ontspanning
DESCRIPTION:Ontdek manieren om je te relaxeren: \n\nademhalings- en meditatieoefeningen\nmindful wandelen\nmeditatief tekenen\ngeluidsimmersie\n\nIn Goujonissimo
URL:https://goujonissimo.be/nl/event/op-weg-naar-ontspanning/2026-07-29/
LOCATION:Gym
CATEGORIES:Gezondheid,Mental Zorg
ATTACH;FMTTYPE=image/webp:https://goujonissimo.be/wp-content/uploads/2024/05/abdominal-breathing-african-woman-practicing-belly-relaxation-breath-awareness-yoga-exercise-meditation-body-mind-emotions-226379546.webp
END:VEVENT
BEGIN:VEVENT
DTSTART;TZID=Europe/Brussels:20260812T103000
DTEND;TZID=Europe/Brussels:20260812T120000
DTSTAMP:20260423T010611
CREATED:20240829T075633Z
LAST-MODIFIED:20260109T073805Z
UID:10009484-1786530600-1786536000@goujonissimo.be
SUMMARY:Op weg naar ontspanning
DESCRIPTION:Ontdek manieren om je te relaxeren: \n\nademhalings- en meditatieoefeningen\nmindful wandelen\nmeditatief tekenen\ngeluidsimmersie\n\nIn Goujonissimo
URL:https://goujonissimo.be/nl/event/op-weg-naar-ontspanning/2026-08-12/
LOCATION:Gym
CATEGORIES:Gezondheid,Mental Zorg
ATTACH;FMTTYPE=image/webp:https://goujonissimo.be/wp-content/uploads/2024/05/abdominal-breathing-african-woman-practicing-belly-relaxation-breath-awareness-yoga-exercise-meditation-body-mind-emotions-226379546.webp
END:VEVENT
BEGIN:VEVENT
DTSTART;TZID=Europe/Brussels:20260826T103000
DTEND;TZID=Europe/Brussels:20260826T120000
DTSTAMP:20260423T010611
CREATED:20240829T075633Z
LAST-MODIFIED:20260109T073805Z
UID:10009485-1787740200-1787745600@goujonissimo.be
SUMMARY:Op weg naar ontspanning
DESCRIPTION:Ontdek manieren om je te relaxeren: \n\nademhalings- en meditatieoefeningen\nmindful wandelen\nmeditatief tekenen\ngeluidsimmersie\n\nIn Goujonissimo
URL:https://goujonissimo.be/nl/event/op-weg-naar-ontspanning/2026-08-26/
LOCATION:Gym
CATEGORIES:Gezondheid,Mental Zorg
ATTACH;FMTTYPE=image/webp:https://goujonissimo.be/wp-content/uploads/2024/05/abdominal-breathing-african-woman-practicing-belly-relaxation-breath-awareness-yoga-exercise-meditation-body-mind-emotions-226379546.webp
END:VEVENT
BEGIN:VEVENT
DTSTART;TZID=Europe/Brussels:20260909T103000
DTEND;TZID=Europe/Brussels:20260909T120000
DTSTAMP:20260423T010611
CREATED:20240829T075633Z
LAST-MODIFIED:20260109T073805Z
UID:10009486-1788949800-1788955200@goujonissimo.be
SUMMARY:Op weg naar ontspanning
DESCRIPTION:Ontdek manieren om je te relaxeren: \n\nademhalings- en meditatieoefeningen\nmindful wandelen\nmeditatief tekenen\ngeluidsimmersie\n\nIn Goujonissimo
URL:https://goujonissimo.be/nl/event/op-weg-naar-ontspanning/2026-09-09/
LOCATION:Gym
CATEGORIES:Gezondheid,Mental Zorg
ATTACH;FMTTYPE=image/webp:https://goujonissimo.be/wp-content/uploads/2024/05/abdominal-breathing-african-woman-practicing-belly-relaxation-breath-awareness-yoga-exercise-meditation-body-mind-emotions-226379546.webp
END:VEVENT
BEGIN:VEVENT
DTSTART;TZID=Europe/Brussels:20260923T103000
DTEND;TZID=Europe/Brussels:20260923T120000
DTSTAMP:20260423T010611
CREATED:20240829T075633Z
LAST-MODIFIED:20260109T073805Z
UID:10009487-1790159400-1790164800@goujonissimo.be
SUMMARY:Op weg naar ontspanning
DESCRIPTION:Ontdek manieren om je te relaxeren: \n\nademhalings- en meditatieoefeningen\nmindful wandelen\nmeditatief tekenen\ngeluidsimmersie\n\nIn Goujonissimo
URL:https://goujonissimo.be/nl/event/op-weg-naar-ontspanning/2026-09-23/
LOCATION:Gym
CATEGORIES:Gezondheid,Mental Zorg
ATTACH;FMTTYPE=image/webp:https://goujonissimo.be/wp-content/uploads/2024/05/abdominal-breathing-african-woman-practicing-belly-relaxation-breath-awareness-yoga-exercise-meditation-body-mind-emotions-226379546.webp
END:VEVENT
BEGIN:VEVENT
DTSTART;TZID=Europe/Zurich:20260924T090000
DTEND;TZID=Europe/Zurich:20260924T123000
DTSTAMP:20260423T010611
CREATED:20260122T104307Z
LAST-MODIFIED:20260319T111134Z
UID:10011851-1790240400-1790253000@goujonissimo.be
SUMMARY:Gezond Koken
DESCRIPTION:Elke vierde donderdag van de maand organiseren Medikuregem en Goujonissimo samen een workshop gezond koken. Diëtiste Nacera zorgt voor gezonde ingrediënten en vertelt over gezonde voeding. Daarna gaat de groep deelnemers samen aan de slag om een maaltijd te bereiden en er ook samen lekker van te eten en te genieten.
URL:https://goujonissimo.be/nl/event/gezond-koken-2-2-2/2026-09-24/
LOCATION:Keuken
CATEGORIES:Convivial,Gezondheid
ATTACH;FMTTYPE=image/webp:https://goujonissimo.be/wp-content/uploads/2024/03/Goujonissimo_Activite-Cuisine-Saine.webp
END:VEVENT
BEGIN:VEVENT
DTSTART;TZID=Europe/Brussels:20261007T103000
DTEND;TZID=Europe/Brussels:20261007T120000
DTSTAMP:20260423T010611
CREATED:20240829T075633Z
LAST-MODIFIED:20260109T073805Z
UID:10009488-1791369000-1791374400@goujonissimo.be
SUMMARY:Op weg naar ontspanning
DESCRIPTION:Ontdek manieren om je te relaxeren: \n\nademhalings- en meditatieoefeningen\nmindful wandelen\nmeditatief tekenen\ngeluidsimmersie\n\nIn Goujonissimo
URL:https://goujonissimo.be/nl/event/op-weg-naar-ontspanning/2026-10-07/
LOCATION:Gym
CATEGORIES:Gezondheid,Mental Zorg
ATTACH;FMTTYPE=image/webp:https://goujonissimo.be/wp-content/uploads/2024/05/abdominal-breathing-african-woman-practicing-belly-relaxation-breath-awareness-yoga-exercise-meditation-body-mind-emotions-226379546.webp
END:VEVENT
BEGIN:VEVENT
DTSTART;TZID=Europe/Brussels:20261021T103000
DTEND;TZID=Europe/Brussels:20261021T120000
DTSTAMP:20260423T010611
CREATED:20240829T075633Z
LAST-MODIFIED:20260109T073805Z
UID:10009489-1792578600-1792584000@goujonissimo.be
SUMMARY:Op weg naar ontspanning
DESCRIPTION:Ontdek manieren om je te relaxeren: \n\nademhalings- en meditatieoefeningen\nmindful wandelen\nmeditatief tekenen\ngeluidsimmersie\n\nIn Goujonissimo
URL:https://goujonissimo.be/nl/event/op-weg-naar-ontspanning/2026-10-21/
LOCATION:Gym
CATEGORIES:Gezondheid,Mental Zorg
ATTACH;FMTTYPE=image/webp:https://goujonissimo.be/wp-content/uploads/2024/05/abdominal-breathing-african-woman-practicing-belly-relaxation-breath-awareness-yoga-exercise-meditation-body-mind-emotions-226379546.webp
END:VEVENT
BEGIN:VEVENT
DTSTART;TZID=Europe/Brussels:20261104T103000
DTEND;TZID=Europe/Brussels:20261104T120000
DTSTAMP:20260423T010611
CREATED:20240829T075633Z
LAST-MODIFIED:20260109T073805Z
UID:10009490-1793788200-1793793600@goujonissimo.be
SUMMARY:Op weg naar ontspanning
DESCRIPTION:Ontdek manieren om je te relaxeren: \n\nademhalings- en meditatieoefeningen\nmindful wandelen\nmeditatief tekenen\ngeluidsimmersie\n\nIn Goujonissimo
URL:https://goujonissimo.be/nl/event/op-weg-naar-ontspanning/2026-11-04/
LOCATION:Gym
CATEGORIES:Gezondheid,Mental Zorg
ATTACH;FMTTYPE=image/webp:https://goujonissimo.be/wp-content/uploads/2024/05/abdominal-breathing-african-woman-practicing-belly-relaxation-breath-awareness-yoga-exercise-meditation-body-mind-emotions-226379546.webp
END:VEVENT
BEGIN:VEVENT
DTSTART;TZID=Europe/Brussels:20261118T103000
DTEND;TZID=Europe/Brussels:20261118T120000
DTSTAMP:20260423T010611
CREATED:20240829T075633Z
LAST-MODIFIED:20260109T073805Z
UID:10009491-1794997800-1795003200@goujonissimo.be
SUMMARY:Op weg naar ontspanning
DESCRIPTION:Ontdek manieren om je te relaxeren: \n\nademhalings- en meditatieoefeningen\nmindful wandelen\nmeditatief tekenen\ngeluidsimmersie\n\nIn Goujonissimo
URL:https://goujonissimo.be/nl/event/op-weg-naar-ontspanning/2026-11-18/
LOCATION:Gym
CATEGORIES:Gezondheid,Mental Zorg
ATTACH;FMTTYPE=image/webp:https://goujonissimo.be/wp-content/uploads/2024/05/abdominal-breathing-african-woman-practicing-belly-relaxation-breath-awareness-yoga-exercise-meditation-body-mind-emotions-226379546.webp
END:VEVENT
BEGIN:VEVENT
DTSTART;TZID=Europe/Brussels:20261202T103000
DTEND;TZID=Europe/Brussels:20261202T120000
DTSTAMP:20260423T010611
CREATED:20240829T075633Z
LAST-MODIFIED:20260109T073805Z
UID:10009492-1796207400-1796212800@goujonissimo.be
SUMMARY:Op weg naar ontspanning
DESCRIPTION:Ontdek manieren om je te relaxeren: \n\nademhalings- en meditatieoefeningen\nmindful wandelen\nmeditatief tekenen\ngeluidsimmersie\n\nIn Goujonissimo
URL:https://goujonissimo.be/nl/event/op-weg-naar-ontspanning/2026-12-02/
LOCATION:Gym
CATEGORIES:Gezondheid,Mental Zorg
ATTACH;FMTTYPE=image/webp:https://goujonissimo.be/wp-content/uploads/2024/05/abdominal-breathing-african-woman-practicing-belly-relaxation-breath-awareness-yoga-exercise-meditation-body-mind-emotions-226379546.webp
END:VEVENT
END:VCALENDAR