BEGIN:VCALENDAR
VERSION:2.0
PRODID:-//Goujonissimo - ECPv6.15.16//NONSGML v1.0//EN
CALSCALE:GREGORIAN
METHOD:PUBLISH
X-WR-CALNAME:Goujonissimo
X-ORIGINAL-URL:https://goujonissimo.be/nl/
X-WR-CALDESC:Evenementen voor Goujonissimo
REFRESH-INTERVAL;VALUE=DURATION:PT1H
X-Robots-Tag:noindex
X-PUBLISHED-TTL:PT1H
BEGIN:VTIMEZONE
TZID:Europe/Brussels
BEGIN:DAYLIGHT
TZOFFSETFROM:+0100
TZOFFSETTO:+0200
TZNAME:CEST
DTSTART:20240331T010000
END:DAYLIGHT
BEGIN:STANDARD
TZOFFSETFROM:+0200
TZOFFSETTO:+0100
TZNAME:CET
DTSTART:20241027T010000
END:STANDARD
BEGIN:DAYLIGHT
TZOFFSETFROM:+0100
TZOFFSETTO:+0200
TZNAME:CEST
DTSTART:20250330T010000
END:DAYLIGHT
BEGIN:STANDARD
TZOFFSETFROM:+0200
TZOFFSETTO:+0100
TZNAME:CET
DTSTART:20251026T010000
END:STANDARD
BEGIN:DAYLIGHT
TZOFFSETFROM:+0100
TZOFFSETTO:+0200
TZNAME:CEST
DTSTART:20260329T010000
END:DAYLIGHT
BEGIN:STANDARD
TZOFFSETFROM:+0200
TZOFFSETTO:+0100
TZNAME:CET
DTSTART:20261025T010000
END:STANDARD
END:VTIMEZONE
BEGIN:VTIMEZONE
TZID:Europe/Zurich
BEGIN:DAYLIGHT
TZOFFSETFROM:+0100
TZOFFSETTO:+0200
TZNAME:CEST
DTSTART:20240331T010000
END:DAYLIGHT
BEGIN:STANDARD
TZOFFSETFROM:+0200
TZOFFSETTO:+0100
TZNAME:CET
DTSTART:20241027T010000
END:STANDARD
BEGIN:DAYLIGHT
TZOFFSETFROM:+0100
TZOFFSETTO:+0200
TZNAME:CEST
DTSTART:20250330T010000
END:DAYLIGHT
BEGIN:STANDARD
TZOFFSETFROM:+0200
TZOFFSETTO:+0100
TZNAME:CET
DTSTART:20251026T010000
END:STANDARD
BEGIN:DAYLIGHT
TZOFFSETFROM:+0100
TZOFFSETTO:+0200
TZNAME:CEST
DTSTART:20260329T010000
END:DAYLIGHT
BEGIN:STANDARD
TZOFFSETFROM:+0200
TZOFFSETTO:+0100
TZNAME:CET
DTSTART:20261025T010000
END:STANDARD
END:VTIMEZONE
BEGIN:VEVENT
DTSTART;TZID=Europe/Brussels:20251029T100000
DTEND;TZID=Europe/Brussels:20251029T111500
DTSTAMP:20260420T030742
CREATED:20251219T114332Z
LAST-MODIFIED:20251219T143018Z
UID:10010937-1761732000-1761736500@goujonissimo.be
SUMMARY:Zachte gym vrouwen
DESCRIPTION:Lokaal Dienstencentrum Cosmos biedt een “Zachte Gym” aan voor senioren in Goujonissimo. \nIn kleine groepen van 10 tot 15 personen beweeg je samen op muziek. Het is een activiteit die bedoeld is voor senioren of mensen die soms moeilijk tot bewegen komen. \nOp donderdag is de activiteit alleen voor vrouwen. \nGroep 1: 10u – 10u30 en groep 2: 10u45 – 11u15
URL:https://goujonissimo.be/nl/event/zachte-gym-vrouwen-2/2025-10-29/
ATTACH;FMTTYPE=image/png:https://goujonissimo.be/wp-content/uploads/2024/03/gym-douce.png
END:VEVENT
BEGIN:VEVENT
DTSTART;TZID=Europe/Brussels:20251027T170000
DTEND;TZID=Europe/Brussels:20251027T180000
DTSTAMP:20260420T030742
CREATED:20240917T142340Z
LAST-MODIFIED:20260403T082527Z
UID:10006051-1761584400-1761588000@goujonissimo.be
SUMMARY:Samen lopen
DESCRIPTION:Wil je samen in groep lopen? \nKom en neem deel aan de gratis loopgroep die elke maandag om 17 uur plaatsvindt. \nVergeet niet in sportkleding te komen. \nVoor alle niveaus! \nOntmoetingsplaats: Goujonissimo
URL:https://goujonissimo.be/nl/event/samen-lopen-2/2025-10-27/
ATTACH;FMTTYPE=image/webp:https://goujonissimo.be/wp-content/uploads/2024/09/courir-e1726582766322.webp
END:VEVENT
BEGIN:VEVENT
DTSTART;TZID=Europe/Zurich:20251027T143000
DTEND;TZID=Europe/Zurich:20251027T150000
DTSTAMP:20260420T030742
CREATED:20240326T092426Z
LAST-MODIFIED:20250814T082939Z
UID:10008995-1761575400-1761577200@goujonissimo.be
SUMMARY:Zachte Gym
DESCRIPTION:Lokaal Dienstencentrum Cosmos biedt een “Zachte Gym” aan voor senioren in Goujonissimo. \nIn kleine groepen van 10 tot 15 personen beweeg je samen op muziek. Het is een activiteit die bedoeld is voor senioren of mensen die soms moeilijk tot bewegen komen.  \nOp maandag is de groep gemengd en sporten mannen en vrouwen samen.
URL:https://goujonissimo.be/nl/event/zachte-gym-2/2025-10-27/
LOCATION:Gym
CATEGORIES:Sportive
ATTACH;FMTTYPE=image/png:https://goujonissimo.be/wp-content/uploads/2024/03/gym-douce.png
END:VEVENT
BEGIN:VEVENT
DTSTART;TZID=Europe/Brussels:20251027T090000
DTEND;TZID=Europe/Brussels:20251027T120000
DTSTAMP:20260420T030742
CREATED:20241206T133625Z
LAST-MODIFIED:20260403T082419Z
UID:10006921-1761555600-1761566400@goujonissimo.be
SUMMARY:De handen in elkaar (creatieve activiteiten)
DESCRIPTION:Creatieve activiteiten elke maandag van 9.00 tot 12.00 \nNaaiatelier\, breien\, duurzame voeding\, museumbezoek… \nIn Goujonissimo
URL:https://goujonissimo.be/nl/event/de-handen-in-elkaar-creatieve-activiteiten/2025-10-27/
ATTACH;FMTTYPE=image/png:https://goujonissimo.be/wp-content/uploads/2024/12/image-1.png
END:VEVENT
BEGIN:VEVENT
DTSTART;TZID=Europe/Brussels:20251024T100000
DTEND;TZID=Europe/Brussels:20251024T110000
DTSTAMP:20260420T030742
CREATED:20250411T114609Z
LAST-MODIFIED:20260213T101005Z
UID:10007647-1761300000-1761303600@goujonissimo.be
SUMMARY:Werelddans
DESCRIPTION:Wil je boeiende ritmes en fascinerende culturen ontdekken? \nSluit je elke vrijdag bij ons aan voor een nieuwe dans! \nIn Goujonissimo
URL:https://goujonissimo.be/nl/event/werelddans/2025-10-24/
ATTACH;FMTTYPE=image/jpeg:https://goujonissimo.be/wp-content/uploads/2025/04/danse-femme.jpg
END:VEVENT
BEGIN:VEVENT
DTSTART;TZID=Europe/Brussels:20251023T160000
DTEND;TZID=Europe/Brussels:20251023T160000
DTSTAMP:20260420T030742
CREATED:20241031T114715Z
LAST-MODIFIED:20260327T105602Z
UID:10009992-1761235200-1761235200@goujonissimo.be
SUMMARY:Atelier Creo- zelfexpressie
DESCRIPTION:Twee keer per maand neemt kunstenares Joanna je mee in de wereld van de schilderkunst. Om de beurt (Atelier Creo – expressie)\, samen met onze psychologen (Amina en Anaïs)\, vind je daar ontspanning en een manier om jezelf uit te drukken via verschillende vormen van kunst. De andere keer (Atelier Creo – cursus) deelt Joanna haar technische kennis met je en leert ze je tekenen als een professional ;)! De sessies zijn bedoeld voor volwassenen\, en iedereen is welkom – ongeacht taal of talent.
URL:https://goujonissimo.be/nl/event/workshop-zelfexpressie-verf/2025-10-23/
ATTACH;FMTTYPE=image/jpeg:https://goujonissimo.be/wp-content/uploads/2024/10/atelier-peinture.jpg
END:VEVENT
BEGIN:VEVENT
DTSTART;TZID=Europe/Brussels:20251022T140000
DTEND;TZID=Europe/Brussels:20251022T160000
DTSTAMP:20260420T030742
CREATED:20240718T100347Z
LAST-MODIFIED:20240718T102803Z
UID:10009864-1761141600-1761148800@goujonissimo.be
SUMMARY:liedjes verzinnen is leuk!
DESCRIPTION:We spelen muzikale spelletjes met je en helpen je om samen liedjes te ontwikkelen die over jou en je emoties gaan ! \nKinderen van 8 tot 12 jaar. \nFranstalig.
URL:https://goujonissimo.be/nl/event/inviter-des-chansons-cest-rigolo/2025-10-22/
CATEGORIES:Convivial
ATTACH;FMTTYPE=image/png:https://goujonissimo.be/wp-content/uploads/2024/07/image-site-web-inventer-des-chansons.png
END:VEVENT
BEGIN:VEVENT
DTSTART;TZID=Europe/Brussels:20251022T103000
DTEND;TZID=Europe/Brussels:20251022T120000
DTSTAMP:20260420T030742
CREATED:20240829T075633Z
LAST-MODIFIED:20260109T073805Z
UID:10009463-1761129000-1761134400@goujonissimo.be
SUMMARY:Op weg naar ontspanning
DESCRIPTION:Ontdek manieren om je te relaxeren: \n\nademhalings- en meditatieoefeningen\nmindful wandelen\nmeditatief tekenen\ngeluidsimmersie\n\nIn Goujonissimo
URL:https://goujonissimo.be/nl/event/op-weg-naar-ontspanning/2025-10-22/
LOCATION:Gym
CATEGORIES:Gezondheid,Mental Zorg
ATTACH;FMTTYPE=image/webp:https://goujonissimo.be/wp-content/uploads/2024/05/abdominal-breathing-african-woman-practicing-belly-relaxation-breath-awareness-yoga-exercise-meditation-body-mind-emotions-226379546.webp
END:VEVENT
BEGIN:VEVENT
DTSTART;TZID=Europe/Brussels:20251022T100000
DTEND;TZID=Europe/Brussels:20251022T111500
DTSTAMP:20260420T030742
CREATED:20251219T114332Z
LAST-MODIFIED:20251219T143018Z
UID:10010936-1761127200-1761131700@goujonissimo.be
SUMMARY:Zachte gym vrouwen
DESCRIPTION:Lokaal Dienstencentrum Cosmos biedt een “Zachte Gym” aan voor senioren in Goujonissimo. \nIn kleine groepen van 10 tot 15 personen beweeg je samen op muziek. Het is een activiteit die bedoeld is voor senioren of mensen die soms moeilijk tot bewegen komen. \nOp donderdag is de activiteit alleen voor vrouwen. \nGroep 1: 10u – 10u30 en groep 2: 10u45 – 11u15
URL:https://goujonissimo.be/nl/event/zachte-gym-vrouwen-2/2025-10-22/
ATTACH;FMTTYPE=image/png:https://goujonissimo.be/wp-content/uploads/2024/03/gym-douce.png
END:VEVENT
BEGIN:VEVENT
DTSTART;TZID=Europe/Zurich:20251021T093000
DTEND;TZID=Europe/Zurich:20251021T110000
DTSTAMP:20260420T030742
CREATED:20240405T084752Z
LAST-MODIFIED:20251020T161708Z
UID:10003853-1761039000-1761044400@goujonissimo.be
SUMMARY:Yoga Yengar
DESCRIPTION:Yogadocent Karin geeft twee keer per week Yengar Yoga in Goujonissimo. Dit is een actieve vorm van yoga\, waarbij je werkt met hulpmiddelen zoals blokken\, dekens en stoelen om je te helpen de verschillende houdingen op de juiste manier aan te nemen. Yoga draagt bij aan je kracht\, flexibiliteit en stabiliteit en kan ook een grote stimulans zijn voor je mentale welzijn.  \nTarieven \n\n15 € / 1 les\n60 € / 5 les\n120 € / 10 les
URL:https://goujonissimo.be/nl/event/yoga-yengar/2025-10-21/
LOCATION:Gym
CATEGORIES:Sportive
ATTACH;FMTTYPE=image/jpeg:https://goujonissimo.be/wp-content/uploads/2024/04/yoga-yengar.jpg
END:VEVENT
BEGIN:VEVENT
DTSTART;TZID=Europe/Zurich:20251020T183000
DTEND;TZID=Europe/Zurich:20251020T200000
DTSTAMP:20260420T030742
CREATED:20240326T092426Z
LAST-MODIFIED:20260403T082743Z
UID:10004116-1760985000-1760990400@goujonissimo.be
SUMMARY:Yoga Yengar
DESCRIPTION:Yogadocent Karin geeft twee keer per week Yengar Yoga in Goujonissimo. Dit is een actieve vorm van yoga\, waarbij je werkt met hulpmiddelen zoals blokken\, dekens en stoelen om je te helpen de verschillende houdingen op de juiste manier aan te nemen. Yoga draagt bij aan je kracht\, flexibiliteit en stabiliteit en kan ook een grote stimulans zijn voor je mentale welzijn.  \nTarieven \n\n15 € / 1 les\n60 € / 5 les\n120 € / 10 les
URL:https://goujonissimo.be/nl/event/yoga-yengar-2/2025-10-20/
LOCATION:Gym
CATEGORIES:Sportive
ATTACH;FMTTYPE=image/jpeg:https://goujonissimo.be/wp-content/uploads/2024/04/yoga-yengar.jpg
END:VEVENT
BEGIN:VEVENT
DTSTART;TZID=Europe/Brussels:20251020T170000
DTEND;TZID=Europe/Brussels:20251020T180000
DTSTAMP:20260420T030742
CREATED:20240917T142340Z
LAST-MODIFIED:20260403T082527Z
UID:10006050-1760979600-1760983200@goujonissimo.be
SUMMARY:Samen lopen
DESCRIPTION:Wil je samen in groep lopen? \nKom en neem deel aan de gratis loopgroep die elke maandag om 17 uur plaatsvindt. \nVergeet niet in sportkleding te komen. \nVoor alle niveaus! \nOntmoetingsplaats: Goujonissimo
URL:https://goujonissimo.be/nl/event/samen-lopen-2/2025-10-20/
ATTACH;FMTTYPE=image/webp:https://goujonissimo.be/wp-content/uploads/2024/09/courir-e1726582766322.webp
END:VEVENT
BEGIN:VEVENT
DTSTART;TZID=Europe/Zurich:20251020T143000
DTEND;TZID=Europe/Zurich:20251020T150000
DTSTAMP:20260420T030742
CREATED:20240326T092426Z
LAST-MODIFIED:20250814T082939Z
UID:10008994-1760970600-1760972400@goujonissimo.be
SUMMARY:Zachte Gym
DESCRIPTION:Lokaal Dienstencentrum Cosmos biedt een “Zachte Gym” aan voor senioren in Goujonissimo. \nIn kleine groepen van 10 tot 15 personen beweeg je samen op muziek. Het is een activiteit die bedoeld is voor senioren of mensen die soms moeilijk tot bewegen komen.  \nOp maandag is de groep gemengd en sporten mannen en vrouwen samen.
URL:https://goujonissimo.be/nl/event/zachte-gym-2/2025-10-20/
LOCATION:Gym
CATEGORIES:Sportive
ATTACH;FMTTYPE=image/png:https://goujonissimo.be/wp-content/uploads/2024/03/gym-douce.png
END:VEVENT
BEGIN:VEVENT
DTSTART;TZID=Europe/Brussels:20251020T090000
DTEND;TZID=Europe/Brussels:20251020T120000
DTSTAMP:20260420T030742
CREATED:20241206T133625Z
LAST-MODIFIED:20260403T082419Z
UID:10006920-1760950800-1760961600@goujonissimo.be
SUMMARY:De handen in elkaar (creatieve activiteiten)
DESCRIPTION:Creatieve activiteiten elke maandag van 9.00 tot 12.00 \nNaaiatelier\, breien\, duurzame voeding\, museumbezoek… \nIn Goujonissimo
URL:https://goujonissimo.be/nl/event/de-handen-in-elkaar-creatieve-activiteiten/2025-10-20/
ATTACH;FMTTYPE=image/png:https://goujonissimo.be/wp-content/uploads/2024/12/image-1.png
END:VEVENT
BEGIN:VEVENT
DTSTART;TZID=Europe/Brussels:20251017T100000
DTEND;TZID=Europe/Brussels:20251017T110000
DTSTAMP:20260420T030742
CREATED:20250411T114609Z
LAST-MODIFIED:20260213T101005Z
UID:10007646-1760695200-1760698800@goujonissimo.be
SUMMARY:Werelddans
DESCRIPTION:Wil je boeiende ritmes en fascinerende culturen ontdekken? \nSluit je elke vrijdag bij ons aan voor een nieuwe dans! \nIn Goujonissimo
URL:https://goujonissimo.be/nl/event/werelddans/2025-10-17/
ATTACH;FMTTYPE=image/jpeg:https://goujonissimo.be/wp-content/uploads/2025/04/danse-femme.jpg
END:VEVENT
BEGIN:VEVENT
DTSTART;TZID=Europe/Brussels:20251015T100000
DTEND;TZID=Europe/Brussels:20251015T111500
DTSTAMP:20260420T030742
CREATED:20251219T114332Z
LAST-MODIFIED:20251219T143018Z
UID:10010935-1760522400-1760526900@goujonissimo.be
SUMMARY:Zachte gym vrouwen
DESCRIPTION:Lokaal Dienstencentrum Cosmos biedt een “Zachte Gym” aan voor senioren in Goujonissimo. \nIn kleine groepen van 10 tot 15 personen beweeg je samen op muziek. Het is een activiteit die bedoeld is voor senioren of mensen die soms moeilijk tot bewegen komen. \nOp donderdag is de activiteit alleen voor vrouwen. \nGroep 1: 10u – 10u30 en groep 2: 10u45 – 11u15
URL:https://goujonissimo.be/nl/event/zachte-gym-vrouwen-2/2025-10-15/
ATTACH;FMTTYPE=image/png:https://goujonissimo.be/wp-content/uploads/2024/03/gym-douce.png
END:VEVENT
BEGIN:VEVENT
DTSTART;TZID=Europe/Zurich:20251014T093000
DTEND;TZID=Europe/Zurich:20251014T110000
DTSTAMP:20260420T030742
CREATED:20240405T084752Z
LAST-MODIFIED:20251020T161708Z
UID:10003852-1760434200-1760439600@goujonissimo.be
SUMMARY:Yoga Yengar
DESCRIPTION:Yogadocent Karin geeft twee keer per week Yengar Yoga in Goujonissimo. Dit is een actieve vorm van yoga\, waarbij je werkt met hulpmiddelen zoals blokken\, dekens en stoelen om je te helpen de verschillende houdingen op de juiste manier aan te nemen. Yoga draagt bij aan je kracht\, flexibiliteit en stabiliteit en kan ook een grote stimulans zijn voor je mentale welzijn.  \nTarieven \n\n15 € / 1 les\n60 € / 5 les\n120 € / 10 les
URL:https://goujonissimo.be/nl/event/yoga-yengar/2025-10-14/
LOCATION:Gym
CATEGORIES:Sportive
ATTACH;FMTTYPE=image/jpeg:https://goujonissimo.be/wp-content/uploads/2024/04/yoga-yengar.jpg
END:VEVENT
BEGIN:VEVENT
DTSTART;TZID=Europe/Zurich:20251013T183000
DTEND;TZID=Europe/Zurich:20251013T200000
DTSTAMP:20260420T030742
CREATED:20240326T092426Z
LAST-MODIFIED:20260403T082743Z
UID:10004115-1760380200-1760385600@goujonissimo.be
SUMMARY:Yoga Yengar
DESCRIPTION:Yogadocent Karin geeft twee keer per week Yengar Yoga in Goujonissimo. Dit is een actieve vorm van yoga\, waarbij je werkt met hulpmiddelen zoals blokken\, dekens en stoelen om je te helpen de verschillende houdingen op de juiste manier aan te nemen. Yoga draagt bij aan je kracht\, flexibiliteit en stabiliteit en kan ook een grote stimulans zijn voor je mentale welzijn.  \nTarieven \n\n15 € / 1 les\n60 € / 5 les\n120 € / 10 les
URL:https://goujonissimo.be/nl/event/yoga-yengar-2/2025-10-13/
LOCATION:Gym
CATEGORIES:Sportive
ATTACH;FMTTYPE=image/jpeg:https://goujonissimo.be/wp-content/uploads/2024/04/yoga-yengar.jpg
END:VEVENT
BEGIN:VEVENT
DTSTART;TZID=Europe/Brussels:20251013T170000
DTEND;TZID=Europe/Brussels:20251013T180000
DTSTAMP:20260420T030742
CREATED:20240917T142340Z
LAST-MODIFIED:20260403T082527Z
UID:10006049-1760374800-1760378400@goujonissimo.be
SUMMARY:Samen lopen
DESCRIPTION:Wil je samen in groep lopen? \nKom en neem deel aan de gratis loopgroep die elke maandag om 17 uur plaatsvindt. \nVergeet niet in sportkleding te komen. \nVoor alle niveaus! \nOntmoetingsplaats: Goujonissimo
URL:https://goujonissimo.be/nl/event/samen-lopen-2/2025-10-13/
ATTACH;FMTTYPE=image/webp:https://goujonissimo.be/wp-content/uploads/2024/09/courir-e1726582766322.webp
END:VEVENT
BEGIN:VEVENT
DTSTART;TZID=Europe/Zurich:20251013T143000
DTEND;TZID=Europe/Zurich:20251013T150000
DTSTAMP:20260420T030742
CREATED:20240326T092426Z
LAST-MODIFIED:20250814T082939Z
UID:10008993-1760365800-1760367600@goujonissimo.be
SUMMARY:Zachte Gym
DESCRIPTION:Lokaal Dienstencentrum Cosmos biedt een “Zachte Gym” aan voor senioren in Goujonissimo. \nIn kleine groepen van 10 tot 15 personen beweeg je samen op muziek. Het is een activiteit die bedoeld is voor senioren of mensen die soms moeilijk tot bewegen komen.  \nOp maandag is de groep gemengd en sporten mannen en vrouwen samen.
URL:https://goujonissimo.be/nl/event/zachte-gym-2/2025-10-13/
LOCATION:Gym
CATEGORIES:Sportive
ATTACH;FMTTYPE=image/png:https://goujonissimo.be/wp-content/uploads/2024/03/gym-douce.png
END:VEVENT
BEGIN:VEVENT
DTSTART;TZID=Europe/Brussels:20251013T090000
DTEND;TZID=Europe/Brussels:20251013T120000
DTSTAMP:20260420T030742
CREATED:20241206T133625Z
LAST-MODIFIED:20260403T082419Z
UID:10006919-1760346000-1760356800@goujonissimo.be
SUMMARY:De handen in elkaar (creatieve activiteiten)
DESCRIPTION:Creatieve activiteiten elke maandag van 9.00 tot 12.00 \nNaaiatelier\, breien\, duurzame voeding\, museumbezoek… \nIn Goujonissimo
URL:https://goujonissimo.be/nl/event/de-handen-in-elkaar-creatieve-activiteiten/2025-10-13/
ATTACH;FMTTYPE=image/png:https://goujonissimo.be/wp-content/uploads/2024/12/image-1.png
END:VEVENT
BEGIN:VEVENT
DTSTART;TZID=Europe/Brussels:20251010T100000
DTEND;TZID=Europe/Brussels:20251010T110000
DTSTAMP:20260420T030742
CREATED:20250411T114609Z
LAST-MODIFIED:20260213T101005Z
UID:10007645-1760090400-1760094000@goujonissimo.be
SUMMARY:Werelddans
DESCRIPTION:Wil je boeiende ritmes en fascinerende culturen ontdekken? \nSluit je elke vrijdag bij ons aan voor een nieuwe dans! \nIn Goujonissimo
URL:https://goujonissimo.be/nl/event/werelddans/2025-10-10/
ATTACH;FMTTYPE=image/jpeg:https://goujonissimo.be/wp-content/uploads/2025/04/danse-femme.jpg
END:VEVENT
BEGIN:VEVENT
DTSTART;TZID=Europe/Brussels:20251009T160000
DTEND;TZID=Europe/Brussels:20251009T180000
DTSTAMP:20260420T030742
CREATED:20241031T114715Z
LAST-MODIFIED:20260327T105602Z
UID:10009991-1760025600-1760032800@goujonissimo.be
SUMMARY:Atelier Creo- zelfexpressie
DESCRIPTION:Twee keer per maand neemt kunstenares Joanna je mee in de wereld van de schilderkunst. Om de beurt (Atelier Creo – expressie)\, samen met onze psychologen (Amina en Anaïs)\, vind je daar ontspanning en een manier om jezelf uit te drukken via verschillende vormen van kunst. De andere keer (Atelier Creo – cursus) deelt Joanna haar technische kennis met je en leert ze je tekenen als een professional ;)! De sessies zijn bedoeld voor volwassenen\, en iedereen is welkom – ongeacht taal of talent.
URL:https://goujonissimo.be/nl/event/workshop-zelfexpressie-verf/2025-10-09/
ATTACH;FMTTYPE=image/jpeg:https://goujonissimo.be/wp-content/uploads/2024/10/atelier-peinture.jpg
END:VEVENT
BEGIN:VEVENT
DTSTART;TZID=Europe/Brussels:20251008T140000
DTEND;TZID=Europe/Brussels:20251008T190000
DTSTAMP:20260420T030742
CREATED:20250926T115430Z
LAST-MODIFIED:20250926T122318Z
UID:10009994-1759932000-1759950000@goujonissimo.be
SUMMARY:Wij bestaan 2 jaar!
DESCRIPTION:Vier mee – Denk mee – Ontmoet elkaar \n  \n14u: Welkom – taart en koffie \n14u30 – 16u30: Ontdek enkele van onze activiteiten (dans\, relaxatie…) + samen denken \n17u: Verwelkoming en receptie \n18u – 19u: Samen denken + kleine hap \n  \nKinderanimatie: 14u – 17u \n  \nIedereen welkom! \n  \n85 Rue des goujons \n1070 Anderlecht
URL:https://goujonissimo.be/nl/event/wij-bestaan-2-jaar/
ATTACH;FMTTYPE=image/png:https://goujonissimo.be/wp-content/uploads/2025/09/images.png
END:VEVENT
BEGIN:VEVENT
DTSTART;TZID=Europe/Brussels:20251008T103000
DTEND;TZID=Europe/Brussels:20251008T120000
DTSTAMP:20260420T030742
CREATED:20240829T075633Z
LAST-MODIFIED:20260109T073805Z
UID:10009462-1759919400-1759924800@goujonissimo.be
SUMMARY:Op weg naar ontspanning
DESCRIPTION:Ontdek manieren om je te relaxeren: \n\nademhalings- en meditatieoefeningen\nmindful wandelen\nmeditatief tekenen\ngeluidsimmersie\n\nIn Goujonissimo
URL:https://goujonissimo.be/nl/event/op-weg-naar-ontspanning/2025-10-08/
LOCATION:Gym
CATEGORIES:Gezondheid,Mental Zorg
ATTACH;FMTTYPE=image/webp:https://goujonissimo.be/wp-content/uploads/2024/05/abdominal-breathing-african-woman-practicing-belly-relaxation-breath-awareness-yoga-exercise-meditation-body-mind-emotions-226379546.webp
END:VEVENT
BEGIN:VEVENT
DTSTART;TZID=Europe/Brussels:20251008T100000
DTEND;TZID=Europe/Brussels:20251008T111500
DTSTAMP:20260420T030742
CREATED:20251219T114332Z
LAST-MODIFIED:20251219T143018Z
UID:10010934-1759917600-1759922100@goujonissimo.be
SUMMARY:Zachte gym vrouwen
DESCRIPTION:Lokaal Dienstencentrum Cosmos biedt een “Zachte Gym” aan voor senioren in Goujonissimo. \nIn kleine groepen van 10 tot 15 personen beweeg je samen op muziek. Het is een activiteit die bedoeld is voor senioren of mensen die soms moeilijk tot bewegen komen. \nOp donderdag is de activiteit alleen voor vrouwen. \nGroep 1: 10u – 10u30 en groep 2: 10u45 – 11u15
URL:https://goujonissimo.be/nl/event/zachte-gym-vrouwen-2/2025-10-08/
ATTACH;FMTTYPE=image/png:https://goujonissimo.be/wp-content/uploads/2024/03/gym-douce.png
END:VEVENT
BEGIN:VEVENT
DTSTART;TZID=Europe/Zurich:20251007T093000
DTEND;TZID=Europe/Zurich:20251007T110000
DTSTAMP:20260420T030742
CREATED:20240405T084752Z
LAST-MODIFIED:20251020T161708Z
UID:10003851-1759829400-1759834800@goujonissimo.be
SUMMARY:Yoga Yengar
DESCRIPTION:Yogadocent Karin geeft twee keer per week Yengar Yoga in Goujonissimo. Dit is een actieve vorm van yoga\, waarbij je werkt met hulpmiddelen zoals blokken\, dekens en stoelen om je te helpen de verschillende houdingen op de juiste manier aan te nemen. Yoga draagt bij aan je kracht\, flexibiliteit en stabiliteit en kan ook een grote stimulans zijn voor je mentale welzijn.  \nTarieven \n\n15 € / 1 les\n60 € / 5 les\n120 € / 10 les
URL:https://goujonissimo.be/nl/event/yoga-yengar/2025-10-07/
LOCATION:Gym
CATEGORIES:Sportive
ATTACH;FMTTYPE=image/jpeg:https://goujonissimo.be/wp-content/uploads/2024/04/yoga-yengar.jpg
END:VEVENT
BEGIN:VEVENT
DTSTART;TZID=Europe/Zurich:20251006T183000
DTEND;TZID=Europe/Zurich:20251006T200000
DTSTAMP:20260420T030742
CREATED:20240326T092426Z
LAST-MODIFIED:20260403T082743Z
UID:10004114-1759775400-1759780800@goujonissimo.be
SUMMARY:Yoga Yengar
DESCRIPTION:Yogadocent Karin geeft twee keer per week Yengar Yoga in Goujonissimo. Dit is een actieve vorm van yoga\, waarbij je werkt met hulpmiddelen zoals blokken\, dekens en stoelen om je te helpen de verschillende houdingen op de juiste manier aan te nemen. Yoga draagt bij aan je kracht\, flexibiliteit en stabiliteit en kan ook een grote stimulans zijn voor je mentale welzijn.  \nTarieven \n\n15 € / 1 les\n60 € / 5 les\n120 € / 10 les
URL:https://goujonissimo.be/nl/event/yoga-yengar-2/2025-10-06/
LOCATION:Gym
CATEGORIES:Sportive
ATTACH;FMTTYPE=image/jpeg:https://goujonissimo.be/wp-content/uploads/2024/04/yoga-yengar.jpg
END:VEVENT
BEGIN:VEVENT
DTSTART;TZID=Europe/Brussels:20251006T170000
DTEND;TZID=Europe/Brussels:20251006T180000
DTSTAMP:20260420T030742
CREATED:20240917T142340Z
LAST-MODIFIED:20260403T082527Z
UID:10006048-1759770000-1759773600@goujonissimo.be
SUMMARY:Samen lopen
DESCRIPTION:Wil je samen in groep lopen? \nKom en neem deel aan de gratis loopgroep die elke maandag om 17 uur plaatsvindt. \nVergeet niet in sportkleding te komen. \nVoor alle niveaus! \nOntmoetingsplaats: Goujonissimo
URL:https://goujonissimo.be/nl/event/samen-lopen-2/2025-10-06/
ATTACH;FMTTYPE=image/webp:https://goujonissimo.be/wp-content/uploads/2024/09/courir-e1726582766322.webp
END:VEVENT
BEGIN:VEVENT
DTSTART;TZID=Europe/Zurich:20251006T143000
DTEND;TZID=Europe/Zurich:20251006T150000
DTSTAMP:20260420T030742
CREATED:20240326T092426Z
LAST-MODIFIED:20250814T082939Z
UID:10008992-1759761000-1759762800@goujonissimo.be
SUMMARY:Zachte Gym
DESCRIPTION:Lokaal Dienstencentrum Cosmos biedt een “Zachte Gym” aan voor senioren in Goujonissimo. \nIn kleine groepen van 10 tot 15 personen beweeg je samen op muziek. Het is een activiteit die bedoeld is voor senioren of mensen die soms moeilijk tot bewegen komen.  \nOp maandag is de groep gemengd en sporten mannen en vrouwen samen.
URL:https://goujonissimo.be/nl/event/zachte-gym-2/2025-10-06/
LOCATION:Gym
CATEGORIES:Sportive
ATTACH;FMTTYPE=image/png:https://goujonissimo.be/wp-content/uploads/2024/03/gym-douce.png
END:VEVENT
END:VCALENDAR