BEGIN:VCALENDAR
VERSION:2.0
PRODID:-//Goujonissimo - ECPv6.15.16//NONSGML v1.0//EN
CALSCALE:GREGORIAN
METHOD:PUBLISH
X-WR-CALNAME:Goujonissimo
X-ORIGINAL-URL:https://goujonissimo.be/nl/
X-WR-CALDESC:Evenementen voor Goujonissimo
REFRESH-INTERVAL;VALUE=DURATION:PT1H
X-Robots-Tag:noindex
X-PUBLISHED-TTL:PT1H
BEGIN:VTIMEZONE
TZID:Europe/Brussels
BEGIN:DAYLIGHT
TZOFFSETFROM:+0100
TZOFFSETTO:+0200
TZNAME:CEST
DTSTART:20240331T010000
END:DAYLIGHT
BEGIN:STANDARD
TZOFFSETFROM:+0200
TZOFFSETTO:+0100
TZNAME:CET
DTSTART:20241027T010000
END:STANDARD
BEGIN:DAYLIGHT
TZOFFSETFROM:+0100
TZOFFSETTO:+0200
TZNAME:CEST
DTSTART:20250330T010000
END:DAYLIGHT
BEGIN:STANDARD
TZOFFSETFROM:+0200
TZOFFSETTO:+0100
TZNAME:CET
DTSTART:20251026T010000
END:STANDARD
BEGIN:DAYLIGHT
TZOFFSETFROM:+0100
TZOFFSETTO:+0200
TZNAME:CEST
DTSTART:20260329T010000
END:DAYLIGHT
BEGIN:STANDARD
TZOFFSETFROM:+0200
TZOFFSETTO:+0100
TZNAME:CET
DTSTART:20261025T010000
END:STANDARD
END:VTIMEZONE
BEGIN:VTIMEZONE
TZID:Europe/Zurich
BEGIN:DAYLIGHT
TZOFFSETFROM:+0100
TZOFFSETTO:+0200
TZNAME:CEST
DTSTART:20240331T010000
END:DAYLIGHT
BEGIN:STANDARD
TZOFFSETFROM:+0200
TZOFFSETTO:+0100
TZNAME:CET
DTSTART:20241027T010000
END:STANDARD
BEGIN:DAYLIGHT
TZOFFSETFROM:+0100
TZOFFSETTO:+0200
TZNAME:CEST
DTSTART:20250330T010000
END:DAYLIGHT
BEGIN:STANDARD
TZOFFSETFROM:+0200
TZOFFSETTO:+0100
TZNAME:CET
DTSTART:20251026T010000
END:STANDARD
BEGIN:DAYLIGHT
TZOFFSETFROM:+0100
TZOFFSETTO:+0200
TZNAME:CEST
DTSTART:20260329T010000
END:DAYLIGHT
BEGIN:STANDARD
TZOFFSETFROM:+0200
TZOFFSETTO:+0100
TZNAME:CET
DTSTART:20261025T010000
END:STANDARD
END:VTIMEZONE
BEGIN:VEVENT
DTSTART;TZID=Europe/Brussels:20250917T100000
DTEND;TZID=Europe/Brussels:20250917T111500
DTSTAMP:20260420T073713
CREATED:20251219T114332Z
LAST-MODIFIED:20251219T143018Z
UID:10010931-1758103200-1758107700@goujonissimo.be
SUMMARY:Zachte gym vrouwen
DESCRIPTION:Lokaal Dienstencentrum Cosmos biedt een “Zachte Gym” aan voor senioren in Goujonissimo. \nIn kleine groepen van 10 tot 15 personen beweeg je samen op muziek. Het is een activiteit die bedoeld is voor senioren of mensen die soms moeilijk tot bewegen komen. \nOp donderdag is de activiteit alleen voor vrouwen. \nGroep 1: 10u – 10u30 en groep 2: 10u45 – 11u15
URL:https://goujonissimo.be/nl/event/zachte-gym-vrouwen-2/2025-09-17/
ATTACH;FMTTYPE=image/png:https://goujonissimo.be/wp-content/uploads/2024/03/gym-douce.png
END:VEVENT
BEGIN:VEVENT
DTSTART;TZID=Europe/Zurich:20250916T093000
DTEND;TZID=Europe/Zurich:20250916T110000
DTSTAMP:20260420T073713
CREATED:20240405T084752Z
LAST-MODIFIED:20251020T161708Z
UID:10003848-1758015000-1758020400@goujonissimo.be
SUMMARY:Yoga Yengar
DESCRIPTION:Yogadocent Karin geeft twee keer per week Yengar Yoga in Goujonissimo. Dit is een actieve vorm van yoga\, waarbij je werkt met hulpmiddelen zoals blokken\, dekens en stoelen om je te helpen de verschillende houdingen op de juiste manier aan te nemen. Yoga draagt bij aan je kracht\, flexibiliteit en stabiliteit en kan ook een grote stimulans zijn voor je mentale welzijn.  \nTarieven \n\n15 € / 1 les\n60 € / 5 les\n120 € / 10 les
URL:https://goujonissimo.be/nl/event/yoga-yengar/2025-09-16/
LOCATION:Gym
CATEGORIES:Sportive
ATTACH;FMTTYPE=image/jpeg:https://goujonissimo.be/wp-content/uploads/2024/04/yoga-yengar.jpg
END:VEVENT
BEGIN:VEVENT
DTSTART;TZID=Europe/Zurich:20250915T183000
DTEND;TZID=Europe/Zurich:20250915T200000
DTSTAMP:20260420T073713
CREATED:20240326T092426Z
LAST-MODIFIED:20260403T082743Z
UID:10004111-1757961000-1757966400@goujonissimo.be
SUMMARY:Yoga Yengar
DESCRIPTION:Yogadocent Karin geeft twee keer per week Yengar Yoga in Goujonissimo. Dit is een actieve vorm van yoga\, waarbij je werkt met hulpmiddelen zoals blokken\, dekens en stoelen om je te helpen de verschillende houdingen op de juiste manier aan te nemen. Yoga draagt bij aan je kracht\, flexibiliteit en stabiliteit en kan ook een grote stimulans zijn voor je mentale welzijn.  \nTarieven \n\n15 € / 1 les\n60 € / 5 les\n120 € / 10 les
URL:https://goujonissimo.be/nl/event/yoga-yengar-2/2025-09-15/
LOCATION:Gym
CATEGORIES:Sportive
ATTACH;FMTTYPE=image/jpeg:https://goujonissimo.be/wp-content/uploads/2024/04/yoga-yengar.jpg
END:VEVENT
BEGIN:VEVENT
DTSTART;TZID=Europe/Brussels:20250915T170000
DTEND;TZID=Europe/Brussels:20250915T180000
DTSTAMP:20260420T073713
CREATED:20240917T142340Z
LAST-MODIFIED:20260403T082527Z
UID:10006045-1757955600-1757959200@goujonissimo.be
SUMMARY:Samen lopen
DESCRIPTION:Wil je samen in groep lopen? \nKom en neem deel aan de gratis loopgroep die elke maandag om 17 uur plaatsvindt. \nVergeet niet in sportkleding te komen. \nVoor alle niveaus! \nOntmoetingsplaats: Goujonissimo
URL:https://goujonissimo.be/nl/event/samen-lopen-2/2025-09-15/
ATTACH;FMTTYPE=image/webp:https://goujonissimo.be/wp-content/uploads/2024/09/courir-e1726582766322.webp
END:VEVENT
BEGIN:VEVENT
DTSTART;TZID=Europe/Zurich:20250915T143000
DTEND;TZID=Europe/Zurich:20250915T150000
DTSTAMP:20260420T073713
CREATED:20240326T092426Z
LAST-MODIFIED:20250814T082939Z
UID:10008989-1757946600-1757948400@goujonissimo.be
SUMMARY:Zachte Gym
DESCRIPTION:Lokaal Dienstencentrum Cosmos biedt een “Zachte Gym” aan voor senioren in Goujonissimo. \nIn kleine groepen van 10 tot 15 personen beweeg je samen op muziek. Het is een activiteit die bedoeld is voor senioren of mensen die soms moeilijk tot bewegen komen.  \nOp maandag is de groep gemengd en sporten mannen en vrouwen samen.
URL:https://goujonissimo.be/nl/event/zachte-gym-2/2025-09-15/
LOCATION:Gym
CATEGORIES:Sportive
ATTACH;FMTTYPE=image/png:https://goujonissimo.be/wp-content/uploads/2024/03/gym-douce.png
END:VEVENT
BEGIN:VEVENT
DTSTART;TZID=Europe/Brussels:20250915T090000
DTEND;TZID=Europe/Brussels:20250915T120000
DTSTAMP:20260420T073713
CREATED:20241206T133625Z
LAST-MODIFIED:20260403T082419Z
UID:10006915-1757926800-1757937600@goujonissimo.be
SUMMARY:De handen in elkaar (creatieve activiteiten)
DESCRIPTION:Creatieve activiteiten elke maandag van 9.00 tot 12.00 \nNaaiatelier\, breien\, duurzame voeding\, museumbezoek… \nIn Goujonissimo
URL:https://goujonissimo.be/nl/event/de-handen-in-elkaar-creatieve-activiteiten/2025-09-15/
ATTACH;FMTTYPE=image/png:https://goujonissimo.be/wp-content/uploads/2024/12/image-1.png
END:VEVENT
BEGIN:VEVENT
DTSTART;TZID=Europe/Brussels:20250912T100000
DTEND;TZID=Europe/Brussels:20250912T110000
DTSTAMP:20260420T073713
CREATED:20250411T114609Z
LAST-MODIFIED:20260213T101005Z
UID:10007641-1757671200-1757674800@goujonissimo.be
SUMMARY:Werelddans
DESCRIPTION:Wil je boeiende ritmes en fascinerende culturen ontdekken? \nSluit je elke vrijdag bij ons aan voor een nieuwe dans! \nIn Goujonissimo
URL:https://goujonissimo.be/nl/event/werelddans/2025-09-12/
ATTACH;FMTTYPE=image/jpeg:https://goujonissimo.be/wp-content/uploads/2025/04/danse-femme.jpg
END:VEVENT
BEGIN:VEVENT
DTSTART;TZID=Europe/Brussels:20250911T090000
DTEND;TZID=Europe/Brussels:20250911T130000
DTSTAMP:20260420T073713
CREATED:20241004T125955Z
LAST-MODIFIED:20260403T095659Z
UID:10006387-1757581200-1757595600@goujonissimo.be
SUMMARY:Wereldkeuken
DESCRIPTION:Op reis door verschillende smaken: ontdek de lekkernijen van de wereld! \nElke maand koken we samen en ontdekken verschillenden gerechten van over de hele wereld. \n\nElke tweede donderdag van de maand\nVan 9.00 tot 13.00
URL:https://goujonissimo.be/nl/event/wereldkeuken/2025-09-11/
ATTACH;FMTTYPE=image/jpeg:https://goujonissimo.be/wp-content/uploads/2024/10/gastronomie-monde-carte.jpg
END:VEVENT
BEGIN:VEVENT
DTSTART;TZID=Europe/Brussels:20250910T103000
DTEND;TZID=Europe/Brussels:20250910T120000
DTSTAMP:20260420T073713
CREATED:20240829T075633Z
LAST-MODIFIED:20260109T073805Z
UID:10009460-1757500200-1757505600@goujonissimo.be
SUMMARY:Op weg naar ontspanning
DESCRIPTION:Ontdek manieren om je te relaxeren: \n\nademhalings- en meditatieoefeningen\nmindful wandelen\nmeditatief tekenen\ngeluidsimmersie\n\nIn Goujonissimo
URL:https://goujonissimo.be/nl/event/op-weg-naar-ontspanning/2025-09-10/
LOCATION:Gym
CATEGORIES:Gezondheid,Mental Zorg
ATTACH;FMTTYPE=image/webp:https://goujonissimo.be/wp-content/uploads/2024/05/abdominal-breathing-african-woman-practicing-belly-relaxation-breath-awareness-yoga-exercise-meditation-body-mind-emotions-226379546.webp
END:VEVENT
BEGIN:VEVENT
DTSTART;TZID=Europe/Brussels:20250910T100000
DTEND;TZID=Europe/Brussels:20250910T111500
DTSTAMP:20260420T073713
CREATED:20251219T114332Z
LAST-MODIFIED:20251219T143018Z
UID:10010930-1757498400-1757502900@goujonissimo.be
SUMMARY:Zachte gym vrouwen
DESCRIPTION:Lokaal Dienstencentrum Cosmos biedt een “Zachte Gym” aan voor senioren in Goujonissimo. \nIn kleine groepen van 10 tot 15 personen beweeg je samen op muziek. Het is een activiteit die bedoeld is voor senioren of mensen die soms moeilijk tot bewegen komen. \nOp donderdag is de activiteit alleen voor vrouwen. \nGroep 1: 10u – 10u30 en groep 2: 10u45 – 11u15
URL:https://goujonissimo.be/nl/event/zachte-gym-vrouwen-2/2025-09-10/
ATTACH;FMTTYPE=image/png:https://goujonissimo.be/wp-content/uploads/2024/03/gym-douce.png
END:VEVENT
BEGIN:VEVENT
DTSTART;TZID=Europe/Brussels:20250910T093000
DTEND;TZID=Europe/Brussels:20250910T110000
DTSTAMP:20260420T073713
CREATED:20250605T101330Z
LAST-MODIFIED:20250905T081049Z
UID:10009364-1757496600-1757502000@goujonissimo.be
SUMMARY:Workshop in gesprek over de menopause
DESCRIPTION:Wat kan je verwachten? \nLaten we praten over de menopauze- een natuurlijke levensfase die alle vrouwen treft\, maar vaak weinig bekend is. \nBegrijp de veranderingen\, neem weloverwogen beslissingen en ontdek mogelijke oplossingen. \n  \n 
URL:https://goujonissimo.be/nl/event/workshop-in-gesprek-over-de-menopause/
ATTACH;FMTTYPE=image/jpeg:https://goujonissimo.be/wp-content/uploads/2025/06/what-is-menopause-and-what-happens-during-menopause.jpg
END:VEVENT
BEGIN:VEVENT
DTSTART;TZID=Europe/Zurich:20250909T093000
DTEND;TZID=Europe/Zurich:20250909T110000
DTSTAMP:20260420T073713
CREATED:20240405T084752Z
LAST-MODIFIED:20251020T161708Z
UID:10003847-1757410200-1757415600@goujonissimo.be
SUMMARY:Yoga Yengar
DESCRIPTION:Yogadocent Karin geeft twee keer per week Yengar Yoga in Goujonissimo. Dit is een actieve vorm van yoga\, waarbij je werkt met hulpmiddelen zoals blokken\, dekens en stoelen om je te helpen de verschillende houdingen op de juiste manier aan te nemen. Yoga draagt bij aan je kracht\, flexibiliteit en stabiliteit en kan ook een grote stimulans zijn voor je mentale welzijn.  \nTarieven \n\n15 € / 1 les\n60 € / 5 les\n120 € / 10 les
URL:https://goujonissimo.be/nl/event/yoga-yengar/2025-09-09/
LOCATION:Gym
CATEGORIES:Sportive
ATTACH;FMTTYPE=image/jpeg:https://goujonissimo.be/wp-content/uploads/2024/04/yoga-yengar.jpg
END:VEVENT
BEGIN:VEVENT
DTSTART;TZID=Europe/Zurich:20250908T183000
DTEND;TZID=Europe/Zurich:20250908T200000
DTSTAMP:20260420T073713
CREATED:20240326T092426Z
LAST-MODIFIED:20260403T082743Z
UID:10004110-1757356200-1757361600@goujonissimo.be
SUMMARY:Yoga Yengar
DESCRIPTION:Yogadocent Karin geeft twee keer per week Yengar Yoga in Goujonissimo. Dit is een actieve vorm van yoga\, waarbij je werkt met hulpmiddelen zoals blokken\, dekens en stoelen om je te helpen de verschillende houdingen op de juiste manier aan te nemen. Yoga draagt bij aan je kracht\, flexibiliteit en stabiliteit en kan ook een grote stimulans zijn voor je mentale welzijn.  \nTarieven \n\n15 € / 1 les\n60 € / 5 les\n120 € / 10 les
URL:https://goujonissimo.be/nl/event/yoga-yengar-2/2025-09-08/
LOCATION:Gym
CATEGORIES:Sportive
ATTACH;FMTTYPE=image/jpeg:https://goujonissimo.be/wp-content/uploads/2024/04/yoga-yengar.jpg
END:VEVENT
BEGIN:VEVENT
DTSTART;TZID=Europe/Brussels:20250908T170000
DTEND;TZID=Europe/Brussels:20250908T180000
DTSTAMP:20260420T073713
CREATED:20240917T142340Z
LAST-MODIFIED:20260403T082527Z
UID:10006044-1757350800-1757354400@goujonissimo.be
SUMMARY:Samen lopen
DESCRIPTION:Wil je samen in groep lopen? \nKom en neem deel aan de gratis loopgroep die elke maandag om 17 uur plaatsvindt. \nVergeet niet in sportkleding te komen. \nVoor alle niveaus! \nOntmoetingsplaats: Goujonissimo
URL:https://goujonissimo.be/nl/event/samen-lopen-2/2025-09-08/
ATTACH;FMTTYPE=image/webp:https://goujonissimo.be/wp-content/uploads/2024/09/courir-e1726582766322.webp
END:VEVENT
BEGIN:VEVENT
DTSTART;TZID=Europe/Zurich:20250908T143000
DTEND;TZID=Europe/Zurich:20250908T150000
DTSTAMP:20260420T073713
CREATED:20240326T092426Z
LAST-MODIFIED:20250814T082939Z
UID:10008988-1757341800-1757343600@goujonissimo.be
SUMMARY:Zachte Gym
DESCRIPTION:Lokaal Dienstencentrum Cosmos biedt een “Zachte Gym” aan voor senioren in Goujonissimo. \nIn kleine groepen van 10 tot 15 personen beweeg je samen op muziek. Het is een activiteit die bedoeld is voor senioren of mensen die soms moeilijk tot bewegen komen.  \nOp maandag is de groep gemengd en sporten mannen en vrouwen samen.
URL:https://goujonissimo.be/nl/event/zachte-gym-2/2025-09-08/
LOCATION:Gym
CATEGORIES:Sportive
ATTACH;FMTTYPE=image/png:https://goujonissimo.be/wp-content/uploads/2024/03/gym-douce.png
END:VEVENT
BEGIN:VEVENT
DTSTART;TZID=Europe/Brussels:20250908T090000
DTEND;TZID=Europe/Brussels:20250908T120000
DTSTAMP:20260420T073713
CREATED:20241206T133625Z
LAST-MODIFIED:20260403T082419Z
UID:10006914-1757322000-1757332800@goujonissimo.be
SUMMARY:De handen in elkaar (creatieve activiteiten)
DESCRIPTION:Creatieve activiteiten elke maandag van 9.00 tot 12.00 \nNaaiatelier\, breien\, duurzame voeding\, museumbezoek… \nIn Goujonissimo
URL:https://goujonissimo.be/nl/event/de-handen-in-elkaar-creatieve-activiteiten/2025-09-08/
ATTACH;FMTTYPE=image/png:https://goujonissimo.be/wp-content/uploads/2024/12/image-1.png
END:VEVENT
BEGIN:VEVENT
DTSTART;TZID=Europe/Brussels:20250905T100000
DTEND;TZID=Europe/Brussels:20250905T110000
DTSTAMP:20260420T073713
CREATED:20250411T114609Z
LAST-MODIFIED:20260213T101005Z
UID:10007640-1757066400-1757070000@goujonissimo.be
SUMMARY:Werelddans
DESCRIPTION:Wil je boeiende ritmes en fascinerende culturen ontdekken? \nSluit je elke vrijdag bij ons aan voor een nieuwe dans! \nIn Goujonissimo
URL:https://goujonissimo.be/nl/event/werelddans/2025-09-05/
ATTACH;FMTTYPE=image/jpeg:https://goujonissimo.be/wp-content/uploads/2025/04/danse-femme.jpg
END:VEVENT
BEGIN:VEVENT
DTSTART;TZID=Europe/Brussels:20250904T090000
DTEND;TZID=Europe/Brussels:20250904T123000
DTSTAMP:20260420T073713
CREATED:20250205T111204Z
LAST-MODIFIED:20250827T125033Z
UID:10007296-1756976400-1756989000@goujonissimo.be
SUMMARY:Leren je rechten te verdedigen.
DESCRIPTION:Informatiesessie: Mijn rechten als huurder\nVoor huurders van privéwoningen \nKan de eigenaar mijn huur verhogen? Kan hij mij zomaar eruit zetten? \nIs mijn huur te hoog voor wat het is? Laten we samen de test doen! \nElke eerste donderdag van de maand\nBij Goujonissimo
URL:https://goujonissimo.be/nl/event/leren-je-rechten-te-verdedigen/2025-09-04/
ATTACH;FMTTYPE=image/png:https://goujonissimo.be/wp-content/uploads/2025/02/Capture-decran-2025-02-04-150646.png
END:VEVENT
BEGIN:VEVENT
DTSTART;TZID=Europe/Brussels:20250903T100000
DTEND;TZID=Europe/Brussels:20250903T113000
DTSTAMP:20260420T073713
CREATED:20250124T100151Z
LAST-MODIFIED:20250902T110719Z
UID:10009381-1756893600-1756899000@goujonissimo.be
SUMMARY:Babymassage
DESCRIPTION:Een fijne\, rustige en interactieve activiteit voor ouders en hun baby tussen 4 weken en 6 maanden. \n2/07: Goujonissimo 10h – 11h30 \n6 /08: Goujonissimo 10h – 11h30 \n3/09: Huis van het kind 10h – 11h30 \n1/10: Huis van het kind 10h – 11h30 \n5/11: Goujonissimo 10h – 11h30 \n3/12: Huis van het kind 10h – 11h30 \n 
URL:https://goujonissimo.be/nl/event/babymassage-3-2/2025-09-03/
CATEGORIES:Convivial,Gezondheid,Informatie,Mental Zorg
ATTACH;FMTTYPE=image/jpeg:https://goujonissimo.be/wp-content/uploads/2024/05/babymassage.jpg
END:VEVENT
BEGIN:VEVENT
DTSTART;TZID=Europe/Brussels:20250903T100000
DTEND;TZID=Europe/Brussels:20250903T111500
DTSTAMP:20260420T073713
CREATED:20251219T114332Z
LAST-MODIFIED:20251219T143018Z
UID:10010929-1756893600-1756898100@goujonissimo.be
SUMMARY:Zachte gym vrouwen
DESCRIPTION:Lokaal Dienstencentrum Cosmos biedt een “Zachte Gym” aan voor senioren in Goujonissimo. \nIn kleine groepen van 10 tot 15 personen beweeg je samen op muziek. Het is een activiteit die bedoeld is voor senioren of mensen die soms moeilijk tot bewegen komen. \nOp donderdag is de activiteit alleen voor vrouwen. \nGroep 1: 10u – 10u30 en groep 2: 10u45 – 11u15
URL:https://goujonissimo.be/nl/event/zachte-gym-vrouwen-2/2025-09-03/
ATTACH;FMTTYPE=image/png:https://goujonissimo.be/wp-content/uploads/2024/03/gym-douce.png
END:VEVENT
BEGIN:VEVENT
DTSTART;TZID=Europe/Brussels:20250902T150000
DTEND;TZID=Europe/Brussels:20250902T163000
DTSTAMP:20260420T073713
CREATED:20240829T075633Z
LAST-MODIFIED:20260109T073805Z
UID:10009873-1756825200-1756830600@goujonissimo.be
SUMMARY:Op weg naar ontspanning
DESCRIPTION:Ontdek manieren om je te relaxeren: \n\nademhalings- en meditatieoefeningen\nmindful wandelen\nmeditatief tekenen\ngeluidsimmersie\n\nIn Goujonissimo
URL:https://goujonissimo.be/nl/event/op-weg-naar-ontspanning/2025-09-02/
LOCATION:Gym
CATEGORIES:Gezondheid,Mental Zorg
ATTACH;FMTTYPE=image/webp:https://goujonissimo.be/wp-content/uploads/2024/05/abdominal-breathing-african-woman-practicing-belly-relaxation-breath-awareness-yoga-exercise-meditation-body-mind-emotions-226379546.webp
END:VEVENT
BEGIN:VEVENT
DTSTART;TZID=Europe/Zurich:20250902T093000
DTEND;TZID=Europe/Zurich:20250902T110000
DTSTAMP:20260420T073713
CREATED:20240405T084752Z
LAST-MODIFIED:20251020T161708Z
UID:10003846-1756805400-1756810800@goujonissimo.be
SUMMARY:Yoga Yengar
DESCRIPTION:Yogadocent Karin geeft twee keer per week Yengar Yoga in Goujonissimo. Dit is een actieve vorm van yoga\, waarbij je werkt met hulpmiddelen zoals blokken\, dekens en stoelen om je te helpen de verschillende houdingen op de juiste manier aan te nemen. Yoga draagt bij aan je kracht\, flexibiliteit en stabiliteit en kan ook een grote stimulans zijn voor je mentale welzijn.  \nTarieven \n\n15 € / 1 les\n60 € / 5 les\n120 € / 10 les
URL:https://goujonissimo.be/nl/event/yoga-yengar/2025-09-02/
LOCATION:Gym
CATEGORIES:Sportive
ATTACH;FMTTYPE=image/jpeg:https://goujonissimo.be/wp-content/uploads/2024/04/yoga-yengar.jpg
END:VEVENT
BEGIN:VEVENT
DTSTART;TZID=Europe/Zurich:20250901T183000
DTEND;TZID=Europe/Zurich:20250901T200000
DTSTAMP:20260420T073713
CREATED:20240326T092426Z
LAST-MODIFIED:20260403T082743Z
UID:10004109-1756751400-1756756800@goujonissimo.be
SUMMARY:Yoga Yengar
DESCRIPTION:Yogadocent Karin geeft twee keer per week Yengar Yoga in Goujonissimo. Dit is een actieve vorm van yoga\, waarbij je werkt met hulpmiddelen zoals blokken\, dekens en stoelen om je te helpen de verschillende houdingen op de juiste manier aan te nemen. Yoga draagt bij aan je kracht\, flexibiliteit en stabiliteit en kan ook een grote stimulans zijn voor je mentale welzijn.  \nTarieven \n\n15 € / 1 les\n60 € / 5 les\n120 € / 10 les
URL:https://goujonissimo.be/nl/event/yoga-yengar-2/2025-09-01/
LOCATION:Gym
CATEGORIES:Sportive
ATTACH;FMTTYPE=image/jpeg:https://goujonissimo.be/wp-content/uploads/2024/04/yoga-yengar.jpg
END:VEVENT
BEGIN:VEVENT
DTSTART;TZID=Europe/Brussels:20250901T170000
DTEND;TZID=Europe/Brussels:20250901T180000
DTSTAMP:20260420T073713
CREATED:20240917T142340Z
LAST-MODIFIED:20260403T082527Z
UID:10006043-1756746000-1756749600@goujonissimo.be
SUMMARY:Samen lopen
DESCRIPTION:Wil je samen in groep lopen? \nKom en neem deel aan de gratis loopgroep die elke maandag om 17 uur plaatsvindt. \nVergeet niet in sportkleding te komen. \nVoor alle niveaus! \nOntmoetingsplaats: Goujonissimo
URL:https://goujonissimo.be/nl/event/samen-lopen-2/2025-09-01/
ATTACH;FMTTYPE=image/webp:https://goujonissimo.be/wp-content/uploads/2024/09/courir-e1726582766322.webp
END:VEVENT
BEGIN:VEVENT
DTSTART;TZID=Europe/Zurich:20250901T143000
DTEND;TZID=Europe/Zurich:20250901T150000
DTSTAMP:20260420T073713
CREATED:20240326T092426Z
LAST-MODIFIED:20250814T082939Z
UID:10008987-1756737000-1756738800@goujonissimo.be
SUMMARY:Zachte Gym
DESCRIPTION:Lokaal Dienstencentrum Cosmos biedt een “Zachte Gym” aan voor senioren in Goujonissimo. \nIn kleine groepen van 10 tot 15 personen beweeg je samen op muziek. Het is een activiteit die bedoeld is voor senioren of mensen die soms moeilijk tot bewegen komen.  \nOp maandag is de groep gemengd en sporten mannen en vrouwen samen.
URL:https://goujonissimo.be/nl/event/zachte-gym-2/2025-09-01/
LOCATION:Gym
CATEGORIES:Sportive
ATTACH;FMTTYPE=image/png:https://goujonissimo.be/wp-content/uploads/2024/03/gym-douce.png
END:VEVENT
BEGIN:VEVENT
DTSTART;TZID=Europe/Zurich:20250901T090000
DTEND;TZID=Europe/Zurich:20250901T123000
DTSTAMP:20260420T073713
CREATED:20251219T125925Z
LAST-MODIFIED:20251219T143210Z
UID:10011309-1756717200-1756729800@goujonissimo.be
SUMMARY:Gezond Koken
DESCRIPTION:Elke vierde donderdag van de maand organiseren Medikuregem en Goujonissimo samen een workshop gezond koken. Diëtiste Nacera zorgt voor gezonde ingrediënten en vertelt over gezonde voeding. Daarna gaat de groep deelnemers samen aan de slag om een maaltijd te bereiden en er ook samen lekker van te eten en te genieten.
URL:https://goujonissimo.be/nl/event/gezond-koken-2/2025-09-01/
LOCATION:Keuken
CATEGORIES:Convivial,Gezondheid
ATTACH;FMTTYPE=image/webp:https://goujonissimo.be/wp-content/uploads/2024/03/Goujonissimo_Activite-Cuisine-Saine.webp
END:VEVENT
BEGIN:VEVENT
DTSTART;TZID=Europe/Brussels:20250901T090000
DTEND;TZID=Europe/Brussels:20250901T120000
DTSTAMP:20260420T073713
CREATED:20241206T133625Z
LAST-MODIFIED:20260403T082419Z
UID:10006913-1756717200-1756728000@goujonissimo.be
SUMMARY:De handen in elkaar (creatieve activiteiten)
DESCRIPTION:Creatieve activiteiten elke maandag van 9.00 tot 12.00 \nNaaiatelier\, breien\, duurzame voeding\, museumbezoek… \nIn Goujonissimo
URL:https://goujonissimo.be/nl/event/de-handen-in-elkaar-creatieve-activiteiten/2025-09-01/
ATTACH;FMTTYPE=image/png:https://goujonissimo.be/wp-content/uploads/2024/12/image-1.png
END:VEVENT
BEGIN:VEVENT
DTSTART;TZID=Europe/Brussels:20250901T090000
DTEND;TZID=Europe/Brussels:20250901T110000
DTSTAMP:20260420T073713
CREATED:20251219T143124Z
LAST-MODIFIED:20251219T143125Z
UID:10011231-1756717200-1756724400@goujonissimo.be
SUMMARY:Ontbijt
DESCRIPTION:Goujonissimo organiseert elke eerste donderdag van de maand een ontbijt. Iedereen is welkom voor een gezellig samenzijn\, om elkaar te leren kennen en om collega’s van Goujonissimo te ontmoeten. \nBuurtbewoners mogen zelf iets lekkers meebrengen\, maar dit is zeker niet verplicht. \nIedereen is welkom!
URL:https://goujonissimo.be/nl/event/ontbijt-2/2025-09-01/
LOCATION:Gemeenschapszaal
ATTACH;FMTTYPE=image/webp:https://goujonissimo.be/wp-content/uploads/2024/03/Goujonissimo_Activite-petit-dej.webp
END:VEVENT
BEGIN:VEVENT
DTSTART;TZID=Europe/Brussels:20250829T100000
DTEND;TZID=Europe/Brussels:20250829T110000
DTSTAMP:20260420T073713
CREATED:20250411T114609Z
LAST-MODIFIED:20260213T101005Z
UID:10007639-1756461600-1756465200@goujonissimo.be
SUMMARY:Werelddans
DESCRIPTION:Wil je boeiende ritmes en fascinerende culturen ontdekken? \nSluit je elke vrijdag bij ons aan voor een nieuwe dans! \nIn Goujonissimo
URL:https://goujonissimo.be/nl/event/werelddans/2025-08-29/
ATTACH;FMTTYPE=image/jpeg:https://goujonissimo.be/wp-content/uploads/2025/04/danse-femme.jpg
END:VEVENT
BEGIN:VEVENT
DTSTART;TZID=Europe/Brussels:20250828T094500
DTEND;TZID=Europe/Brussels:20250828T113000
DTSTAMP:20260420T073713
CREATED:20250814T075051Z
LAST-MODIFIED:20250814T080527Z
UID:10009809-1756374300-1756380600@goujonissimo.be
SUMMARY:Bezoek museum kunst & geschiedenis
DESCRIPTION:Wij stellen voor om samen het Museum Kunst & Geschiedenis te bezoeken. Het museum toont een indrukwekkende collectie kunstwerken en voorwerpen van over de hele wereld — van Amerika tot Azië 🌏 \n🗓️ Wanneer? Donderdag 28 augustus⏰ Tijd? Afspraak om 9u45 aan het museum \n\nGratis voor kinderen en jongeren van 0 tot 18 jaar \nMogelijkheid tot een Artikel 27-ticket (1\,25 €) bij financiële moeilijkheden — gelieve dit te vermelden bij de inschrijving.
URL:https://goujonissimo.be/nl/event/bezoek-museum-kunst-geschiedenis/
ATTACH;FMTTYPE=image/jpeg:https://goujonissimo.be/wp-content/uploads/2025/08/vignette_photographier_musee.jpg
END:VEVENT
END:VCALENDAR