BEGIN:VCALENDAR
VERSION:2.0
PRODID:-//Goujonissimo - ECPv6.15.16//NONSGML v1.0//EN
CALSCALE:GREGORIAN
METHOD:PUBLISH
X-WR-CALNAME:Goujonissimo
X-ORIGINAL-URL:https://goujonissimo.be/nl/
X-WR-CALDESC:Evenementen voor Goujonissimo
REFRESH-INTERVAL;VALUE=DURATION:PT1H
X-Robots-Tag:noindex
X-PUBLISHED-TTL:PT1H
BEGIN:VTIMEZONE
TZID:Europe/Brussels
BEGIN:DAYLIGHT
TZOFFSETFROM:+0100
TZOFFSETTO:+0200
TZNAME:CEST
DTSTART:20240331T010000
END:DAYLIGHT
BEGIN:STANDARD
TZOFFSETFROM:+0200
TZOFFSETTO:+0100
TZNAME:CET
DTSTART:20241027T010000
END:STANDARD
BEGIN:DAYLIGHT
TZOFFSETFROM:+0100
TZOFFSETTO:+0200
TZNAME:CEST
DTSTART:20250330T010000
END:DAYLIGHT
BEGIN:STANDARD
TZOFFSETFROM:+0200
TZOFFSETTO:+0100
TZNAME:CET
DTSTART:20251026T010000
END:STANDARD
BEGIN:DAYLIGHT
TZOFFSETFROM:+0100
TZOFFSETTO:+0200
TZNAME:CEST
DTSTART:20260329T010000
END:DAYLIGHT
BEGIN:STANDARD
TZOFFSETFROM:+0200
TZOFFSETTO:+0100
TZNAME:CET
DTSTART:20261025T010000
END:STANDARD
END:VTIMEZONE
BEGIN:VTIMEZONE
TZID:Europe/Zurich
BEGIN:DAYLIGHT
TZOFFSETFROM:+0100
TZOFFSETTO:+0200
TZNAME:CEST
DTSTART:20240331T010000
END:DAYLIGHT
BEGIN:STANDARD
TZOFFSETFROM:+0200
TZOFFSETTO:+0100
TZNAME:CET
DTSTART:20241027T010000
END:STANDARD
BEGIN:DAYLIGHT
TZOFFSETFROM:+0100
TZOFFSETTO:+0200
TZNAME:CEST
DTSTART:20250330T010000
END:DAYLIGHT
BEGIN:STANDARD
TZOFFSETFROM:+0200
TZOFFSETTO:+0100
TZNAME:CET
DTSTART:20251026T010000
END:STANDARD
BEGIN:DAYLIGHT
TZOFFSETFROM:+0100
TZOFFSETTO:+0200
TZNAME:CEST
DTSTART:20260329T010000
END:DAYLIGHT
BEGIN:STANDARD
TZOFFSETFROM:+0200
TZOFFSETTO:+0100
TZNAME:CET
DTSTART:20261025T010000
END:STANDARD
END:VTIMEZONE
BEGIN:VEVENT
DTSTART;TZID=Europe/Brussels:20250801T100000
DTEND;TZID=Europe/Brussels:20250801T110000
DTSTAMP:20260421T164926
CREATED:20250411T114609Z
LAST-MODIFIED:20260213T101005Z
UID:10007635-1754042400-1754046000@goujonissimo.be
SUMMARY:Werelddans
DESCRIPTION:Wil je boeiende ritmes en fascinerende culturen ontdekken? \nSluit je elke vrijdag bij ons aan voor een nieuwe dans! \nIn Goujonissimo
URL:https://goujonissimo.be/nl/event/werelddans/2025-08-01/
ATTACH;FMTTYPE=image/jpeg:https://goujonissimo.be/wp-content/uploads/2025/04/danse-femme.jpg
END:VEVENT
BEGIN:VEVENT
DTSTART;TZID=Europe/Zurich:20250731T090000
DTEND;TZID=Europe/Zurich:20250731T123000
DTSTAMP:20260421T164926
CREATED:20240524T132255Z
LAST-MODIFIED:20250523T113520Z
UID:10004950-1753952400-1753965000@goujonissimo.be
SUMMARY:Gezond Koken
DESCRIPTION:Elke vierde donderdag van de maand organiseren Medikuregem en Goujonissimo samen een workshop gezond koken. Diëtiste Nacera zorgt voor gezonde ingrediënten en vertelt over gezonde voeding. Daarna gaat de groep deelnemers samen aan de slag om een maaltijd te bereiden en er ook samen lekker van te eten en te genieten.
URL:https://goujonissimo.be/nl/event/gezond-koken/2025-07-31/
LOCATION:Keuken
CATEGORIES:Convivial,Gezondheid
ATTACH;FMTTYPE=image/webp:https://goujonissimo.be/wp-content/uploads/2024/03/Goujonissimo_Activite-Cuisine-Saine.webp
END:VEVENT
BEGIN:VEVENT
DTSTART;TZID=Europe/Brussels:20250730T103000
DTEND;TZID=Europe/Brussels:20250730T120000
DTSTAMP:20260421T164926
CREATED:20240829T075633Z
LAST-MODIFIED:20260109T073805Z
UID:10009457-1753871400-1753876800@goujonissimo.be
SUMMARY:Op weg naar ontspanning
DESCRIPTION:Ontdek manieren om je te relaxeren: \n\nademhalings- en meditatieoefeningen\nmindful wandelen\nmeditatief tekenen\ngeluidsimmersie\n\nIn Goujonissimo
URL:https://goujonissimo.be/nl/event/op-weg-naar-ontspanning/2025-07-30/
LOCATION:Gym
CATEGORIES:Gezondheid,Mental Zorg
ATTACH;FMTTYPE=image/webp:https://goujonissimo.be/wp-content/uploads/2024/05/abdominal-breathing-african-woman-practicing-belly-relaxation-breath-awareness-yoga-exercise-meditation-body-mind-emotions-226379546.webp
END:VEVENT
BEGIN:VEVENT
DTSTART;TZID=Europe/Brussels:20250730T100000
DTEND;TZID=Europe/Brussels:20250730T111500
DTSTAMP:20260421T164926
CREATED:20251219T114332Z
LAST-MODIFIED:20251219T143018Z
UID:10010924-1753869600-1753874100@goujonissimo.be
SUMMARY:Zachte gym vrouwen
DESCRIPTION:Lokaal Dienstencentrum Cosmos biedt een “Zachte Gym” aan voor senioren in Goujonissimo. \nIn kleine groepen van 10 tot 15 personen beweeg je samen op muziek. Het is een activiteit die bedoeld is voor senioren of mensen die soms moeilijk tot bewegen komen. \nOp donderdag is de activiteit alleen voor vrouwen. \nGroep 1: 10u – 10u30 en groep 2: 10u45 – 11u15
URL:https://goujonissimo.be/nl/event/zachte-gym-vrouwen-2/2025-07-30/
ATTACH;FMTTYPE=image/png:https://goujonissimo.be/wp-content/uploads/2024/03/gym-douce.png
END:VEVENT
BEGIN:VEVENT
DTSTART;TZID=Europe/Brussels:20250729T133000
DTEND;TZID=Europe/Brussels:20250729T160000
DTSTAMP:20260421T164926
CREATED:20250321T114607Z
LAST-MODIFIED:20250613T070903Z
UID:10009753-1753795800-1753804800@goujonissimo.be
SUMMARY:Fietstocht
DESCRIPTION:Om samen in het verkeer te rijden! \nAfspraak voor Cultureghem (fietsvloot abattoirs)\, ropsy Chaudronstraat 24 1070 Anderlecht
URL:https://goujonissimo.be/nl/event/fietstocht-2/2025-07-29/
ATTACH;FMTTYPE=image/png:https://goujonissimo.be/wp-content/uploads/2024/04/characters-on-bike-ride-park-260nw-2278734741.png
END:VEVENT
BEGIN:VEVENT
DTSTART;TZID=Europe/Brussels:20250728T170000
DTEND;TZID=Europe/Brussels:20250728T180000
DTSTAMP:20260421T164926
CREATED:20240917T142340Z
LAST-MODIFIED:20260403T082527Z
UID:10006038-1753722000-1753725600@goujonissimo.be
SUMMARY:Samen lopen
DESCRIPTION:Wil je samen in groep lopen? \nKom en neem deel aan de gratis loopgroep die elke maandag om 17 uur plaatsvindt. \nVergeet niet in sportkleding te komen. \nVoor alle niveaus! \nOntmoetingsplaats: Goujonissimo
URL:https://goujonissimo.be/nl/event/samen-lopen-2/2025-07-28/
ATTACH;FMTTYPE=image/webp:https://goujonissimo.be/wp-content/uploads/2024/09/courir-e1726582766322.webp
END:VEVENT
BEGIN:VEVENT
DTSTART;TZID=Europe/Zurich:20250728T143000
DTEND;TZID=Europe/Zurich:20250728T150000
DTSTAMP:20260421T164926
CREATED:20240326T092426Z
LAST-MODIFIED:20250814T082939Z
UID:10008982-1753713000-1753714800@goujonissimo.be
SUMMARY:Zachte Gym
DESCRIPTION:Lokaal Dienstencentrum Cosmos biedt een “Zachte Gym” aan voor senioren in Goujonissimo. \nIn kleine groepen van 10 tot 15 personen beweeg je samen op muziek. Het is een activiteit die bedoeld is voor senioren of mensen die soms moeilijk tot bewegen komen.  \nOp maandag is de groep gemengd en sporten mannen en vrouwen samen.
URL:https://goujonissimo.be/nl/event/zachte-gym-2/2025-07-28/
LOCATION:Gym
CATEGORIES:Sportive
ATTACH;FMTTYPE=image/png:https://goujonissimo.be/wp-content/uploads/2024/03/gym-douce.png
END:VEVENT
BEGIN:VEVENT
DTSTART;TZID=Europe/Brussels:20250728T090000
DTEND;TZID=Europe/Brussels:20250728T120000
DTSTAMP:20260421T164926
CREATED:20241206T133625Z
LAST-MODIFIED:20260403T082419Z
UID:10006908-1753693200-1753704000@goujonissimo.be
SUMMARY:De handen in elkaar (creatieve activiteiten)
DESCRIPTION:Creatieve activiteiten elke maandag van 9.00 tot 12.00 \nNaaiatelier\, breien\, duurzame voeding\, museumbezoek… \nIn Goujonissimo
URL:https://goujonissimo.be/nl/event/de-handen-in-elkaar-creatieve-activiteiten/2025-07-28/
ATTACH;FMTTYPE=image/png:https://goujonissimo.be/wp-content/uploads/2024/12/image-1.png
END:VEVENT
BEGIN:VEVENT
DTSTART;TZID=Europe/Brussels:20250725T100000
DTEND;TZID=Europe/Brussels:20250725T110000
DTSTAMP:20260421T164926
CREATED:20250411T114609Z
LAST-MODIFIED:20260213T101005Z
UID:10007634-1753437600-1753441200@goujonissimo.be
SUMMARY:Werelddans
DESCRIPTION:Wil je boeiende ritmes en fascinerende culturen ontdekken? \nSluit je elke vrijdag bij ons aan voor een nieuwe dans! \nIn Goujonissimo
URL:https://goujonissimo.be/nl/event/werelddans/2025-07-25/
ATTACH;FMTTYPE=image/jpeg:https://goujonissimo.be/wp-content/uploads/2025/04/danse-femme.jpg
END:VEVENT
BEGIN:VEVENT
DTSTART;TZID=Europe/Brussels:20250724T160000
DTEND;TZID=Europe/Brussels:20250724T190000
DTSTAMP:20260421T164926
CREATED:20250718T074442Z
LAST-MODIFIED:20250718T075227Z
UID:10009749-1753372800-1753383600@goujonissimo.be
SUMMARY:België fête!
DESCRIPTION:Kom mee genieten van een gezellige moment met heerlijke ( suikervrije) wafels! \nBreng een ingrediënt uit jouw cultuur mee om de wafels nog lekkerder te maken: \nfruit\, chocolade\, kruiden\, groenten\, aromatische planten… alles is mogelijk! \n  \n 
URL:https://goujonissimo.be/nl/event/belgie-fete/
ATTACH;FMTTYPE=image/jpeg:https://goujonissimo.be/wp-content/uploads/2025/07/gaufrebxl-scaled.jpg
END:VEVENT
BEGIN:VEVENT
DTSTART;TZID=Europe/Brussels:20250723T100000
DTEND;TZID=Europe/Brussels:20250723T111500
DTSTAMP:20260421T164926
CREATED:20251219T114332Z
LAST-MODIFIED:20251219T143018Z
UID:10010923-1753264800-1753269300@goujonissimo.be
SUMMARY:Zachte gym vrouwen
DESCRIPTION:Lokaal Dienstencentrum Cosmos biedt een “Zachte Gym” aan voor senioren in Goujonissimo. \nIn kleine groepen van 10 tot 15 personen beweeg je samen op muziek. Het is een activiteit die bedoeld is voor senioren of mensen die soms moeilijk tot bewegen komen. \nOp donderdag is de activiteit alleen voor vrouwen. \nGroep 1: 10u – 10u30 en groep 2: 10u45 – 11u15
URL:https://goujonissimo.be/nl/event/zachte-gym-vrouwen-2/2025-07-23/
ATTACH;FMTTYPE=image/png:https://goujonissimo.be/wp-content/uploads/2024/03/gym-douce.png
END:VEVENT
BEGIN:VEVENT
DTSTART;TZID=Europe/Brussels:20250718T100000
DTEND;TZID=Europe/Brussels:20250718T110000
DTSTAMP:20260421T164926
CREATED:20250411T114609Z
LAST-MODIFIED:20260213T101005Z
UID:10007633-1752832800-1752836400@goujonissimo.be
SUMMARY:Werelddans
DESCRIPTION:Wil je boeiende ritmes en fascinerende culturen ontdekken? \nSluit je elke vrijdag bij ons aan voor een nieuwe dans! \nIn Goujonissimo
URL:https://goujonissimo.be/nl/event/werelddans/2025-07-18/
ATTACH;FMTTYPE=image/jpeg:https://goujonissimo.be/wp-content/uploads/2025/04/danse-femme.jpg
END:VEVENT
BEGIN:VEVENT
DTSTART;TZID=Europe/Brussels:20250716T103000
DTEND;TZID=Europe/Brussels:20250716T120000
DTSTAMP:20260421T164926
CREATED:20240829T075633Z
LAST-MODIFIED:20260109T073805Z
UID:10009456-1752661800-1752667200@goujonissimo.be
SUMMARY:Op weg naar ontspanning
DESCRIPTION:Ontdek manieren om je te relaxeren: \n\nademhalings- en meditatieoefeningen\nmindful wandelen\nmeditatief tekenen\ngeluidsimmersie\n\nIn Goujonissimo
URL:https://goujonissimo.be/nl/event/op-weg-naar-ontspanning/2025-07-16/
LOCATION:Gym
CATEGORIES:Gezondheid,Mental Zorg
ATTACH;FMTTYPE=image/webp:https://goujonissimo.be/wp-content/uploads/2024/05/abdominal-breathing-african-woman-practicing-belly-relaxation-breath-awareness-yoga-exercise-meditation-body-mind-emotions-226379546.webp
END:VEVENT
BEGIN:VEVENT
DTSTART;TZID=Europe/Brussels:20250716T100000
DTEND;TZID=Europe/Brussels:20250716T111500
DTSTAMP:20260421T164926
CREATED:20251219T114332Z
LAST-MODIFIED:20251219T143018Z
UID:10010922-1752660000-1752664500@goujonissimo.be
SUMMARY:Zachte gym vrouwen
DESCRIPTION:Lokaal Dienstencentrum Cosmos biedt een “Zachte Gym” aan voor senioren in Goujonissimo. \nIn kleine groepen van 10 tot 15 personen beweeg je samen op muziek. Het is een activiteit die bedoeld is voor senioren of mensen die soms moeilijk tot bewegen komen. \nOp donderdag is de activiteit alleen voor vrouwen. \nGroep 1: 10u – 10u30 en groep 2: 10u45 – 11u15
URL:https://goujonissimo.be/nl/event/zachte-gym-vrouwen-2/2025-07-16/
ATTACH;FMTTYPE=image/png:https://goujonissimo.be/wp-content/uploads/2024/03/gym-douce.png
END:VEVENT
BEGIN:VEVENT
DTSTART;TZID=Europe/Zurich:20250715T093000
DTEND;TZID=Europe/Zurich:20250715T110000
DTSTAMP:20260421T164926
CREATED:20240405T084752Z
LAST-MODIFIED:20251020T161708Z
UID:10003839-1752571800-1752577200@goujonissimo.be
SUMMARY:Yoga Yengar
DESCRIPTION:Yogadocent Karin geeft twee keer per week Yengar Yoga in Goujonissimo. Dit is een actieve vorm van yoga\, waarbij je werkt met hulpmiddelen zoals blokken\, dekens en stoelen om je te helpen de verschillende houdingen op de juiste manier aan te nemen. Yoga draagt bij aan je kracht\, flexibiliteit en stabiliteit en kan ook een grote stimulans zijn voor je mentale welzijn.  \nTarieven \n\n15 € / 1 les\n60 € / 5 les\n120 € / 10 les
URL:https://goujonissimo.be/nl/event/yoga-yengar/2025-07-15/
LOCATION:Gym
CATEGORIES:Sportive
ATTACH;FMTTYPE=image/jpeg:https://goujonissimo.be/wp-content/uploads/2024/04/yoga-yengar.jpg
END:VEVENT
BEGIN:VEVENT
DTSTART;TZID=Europe/Zurich:20250714T183000
DTEND;TZID=Europe/Zurich:20250714T200000
DTSTAMP:20260421T164926
CREATED:20240326T092426Z
LAST-MODIFIED:20260403T082743Z
UID:10004102-1752517800-1752523200@goujonissimo.be
SUMMARY:Yoga Yengar
DESCRIPTION:Yogadocent Karin geeft twee keer per week Yengar Yoga in Goujonissimo. Dit is een actieve vorm van yoga\, waarbij je werkt met hulpmiddelen zoals blokken\, dekens en stoelen om je te helpen de verschillende houdingen op de juiste manier aan te nemen. Yoga draagt bij aan je kracht\, flexibiliteit en stabiliteit en kan ook een grote stimulans zijn voor je mentale welzijn.  \nTarieven \n\n15 € / 1 les\n60 € / 5 les\n120 € / 10 les
URL:https://goujonissimo.be/nl/event/yoga-yengar-2/2025-07-14/
LOCATION:Gym
CATEGORIES:Sportive
ATTACH;FMTTYPE=image/jpeg:https://goujonissimo.be/wp-content/uploads/2024/04/yoga-yengar.jpg
END:VEVENT
BEGIN:VEVENT
DTSTART;TZID=Europe/Brussels:20250714T170000
DTEND;TZID=Europe/Brussels:20250714T180000
DTSTAMP:20260421T164926
CREATED:20240917T142340Z
LAST-MODIFIED:20260403T082527Z
UID:10006036-1752512400-1752516000@goujonissimo.be
SUMMARY:Samen lopen
DESCRIPTION:Wil je samen in groep lopen? \nKom en neem deel aan de gratis loopgroep die elke maandag om 17 uur plaatsvindt. \nVergeet niet in sportkleding te komen. \nVoor alle niveaus! \nOntmoetingsplaats: Goujonissimo
URL:https://goujonissimo.be/nl/event/samen-lopen-2/2025-07-14/
ATTACH;FMTTYPE=image/webp:https://goujonissimo.be/wp-content/uploads/2024/09/courir-e1726582766322.webp
END:VEVENT
BEGIN:VEVENT
DTSTART;TZID=Europe/Zurich:20250714T143000
DTEND;TZID=Europe/Zurich:20250714T150000
DTSTAMP:20260421T164926
CREATED:20240326T092426Z
LAST-MODIFIED:20250814T082939Z
UID:10008980-1752503400-1752505200@goujonissimo.be
SUMMARY:Zachte Gym
DESCRIPTION:Lokaal Dienstencentrum Cosmos biedt een “Zachte Gym” aan voor senioren in Goujonissimo. \nIn kleine groepen van 10 tot 15 personen beweeg je samen op muziek. Het is een activiteit die bedoeld is voor senioren of mensen die soms moeilijk tot bewegen komen.  \nOp maandag is de groep gemengd en sporten mannen en vrouwen samen.
URL:https://goujonissimo.be/nl/event/zachte-gym-2/2025-07-14/
LOCATION:Gym
CATEGORIES:Sportive
ATTACH;FMTTYPE=image/png:https://goujonissimo.be/wp-content/uploads/2024/03/gym-douce.png
END:VEVENT
BEGIN:VEVENT
DTSTART;TZID=Europe/Brussels:20250714T090000
DTEND;TZID=Europe/Brussels:20250714T120000
DTSTAMP:20260421T164926
CREATED:20241206T133625Z
LAST-MODIFIED:20260403T082419Z
UID:10006906-1752483600-1752494400@goujonissimo.be
SUMMARY:De handen in elkaar (creatieve activiteiten)
DESCRIPTION:Creatieve activiteiten elke maandag van 9.00 tot 12.00 \nNaaiatelier\, breien\, duurzame voeding\, museumbezoek… \nIn Goujonissimo
URL:https://goujonissimo.be/nl/event/de-handen-in-elkaar-creatieve-activiteiten/2025-07-14/
ATTACH;FMTTYPE=image/png:https://goujonissimo.be/wp-content/uploads/2024/12/image-1.png
END:VEVENT
BEGIN:VEVENT
DTSTART;TZID=Europe/Brussels:20250711T100000
DTEND;TZID=Europe/Brussels:20250711T110000
DTSTAMP:20260421T164926
CREATED:20250411T114609Z
LAST-MODIFIED:20260213T101005Z
UID:10007632-1752228000-1752231600@goujonissimo.be
SUMMARY:Werelddans
DESCRIPTION:Wil je boeiende ritmes en fascinerende culturen ontdekken? \nSluit je elke vrijdag bij ons aan voor een nieuwe dans! \nIn Goujonissimo
URL:https://goujonissimo.be/nl/event/werelddans/2025-07-11/
ATTACH;FMTTYPE=image/jpeg:https://goujonissimo.be/wp-content/uploads/2025/04/danse-femme.jpg
END:VEVENT
BEGIN:VEVENT
DTSTART;TZID=Europe/Brussels:20250710T093000
DTEND;TZID=Europe/Brussels:20250710T123000
DTSTAMP:20260421T164926
CREATED:20250613T071815Z
LAST-MODIFIED:20250613T074358Z
UID:10009372-1752139800-1752150600@goujonissimo.be
SUMMARY:Zomerstage Babbelkousjes
DESCRIPTION:Kom met ons spelen rond taal en emoties! \nOuders en kinderen van 2 tot 4 jaar zijn welkom om te spelen\, zingen\, lezen en stimulerende strategieën aan te leren. \nMet Nathalie (logopediste) en Amina en Anaïs (psychologen). \nIndividuele afspraak op voorhand
URL:https://goujonissimo.be/nl/event/zomerstage-babbelkousjes/2025-07-10/
ATTACH;FMTTYPE=image/png:https://goujonissimo.be/wp-content/uploads/2024/10/Capture-decran-2024-10-01-181557.png
END:VEVENT
BEGIN:VEVENT
DTSTART;TZID=Europe/Brussels:20250710T090000
DTEND;TZID=Europe/Brussels:20250710T130000
DTSTAMP:20260421T164926
CREATED:20241004T125955Z
LAST-MODIFIED:20260403T095659Z
UID:10006385-1752138000-1752152400@goujonissimo.be
SUMMARY:Wereldkeuken
DESCRIPTION:Op reis door verschillende smaken: ontdek de lekkernijen van de wereld! \nElke maand koken we samen en ontdekken verschillenden gerechten van over de hele wereld. \n\nElke tweede donderdag van de maand\nVan 9.00 tot 13.00
URL:https://goujonissimo.be/nl/event/wereldkeuken/2025-07-10/
ATTACH;FMTTYPE=image/jpeg:https://goujonissimo.be/wp-content/uploads/2024/10/gastronomie-monde-carte.jpg
END:VEVENT
BEGIN:VEVENT
DTSTART;TZID=Europe/Brussels:20250709T100000
DTEND;TZID=Europe/Brussels:20250709T111500
DTSTAMP:20260421T164926
CREATED:20251219T114332Z
LAST-MODIFIED:20251219T143018Z
UID:10010921-1752055200-1752059700@goujonissimo.be
SUMMARY:Zachte gym vrouwen
DESCRIPTION:Lokaal Dienstencentrum Cosmos biedt een “Zachte Gym” aan voor senioren in Goujonissimo. \nIn kleine groepen van 10 tot 15 personen beweeg je samen op muziek. Het is een activiteit die bedoeld is voor senioren of mensen die soms moeilijk tot bewegen komen. \nOp donderdag is de activiteit alleen voor vrouwen. \nGroep 1: 10u – 10u30 en groep 2: 10u45 – 11u15
URL:https://goujonissimo.be/nl/event/zachte-gym-vrouwen-2/2025-07-09/
ATTACH;FMTTYPE=image/png:https://goujonissimo.be/wp-content/uploads/2024/03/gym-douce.png
END:VEVENT
BEGIN:VEVENT
DTSTART;TZID=Europe/Brussels:20250709T093000
DTEND;TZID=Europe/Brussels:20250709T123000
DTSTAMP:20260421T164926
CREATED:20250613T071815Z
LAST-MODIFIED:20250613T074358Z
UID:10009371-1752053400-1752064200@goujonissimo.be
SUMMARY:Zomerstage Babbelkousjes
DESCRIPTION:Kom met ons spelen rond taal en emoties! \nOuders en kinderen van 2 tot 4 jaar zijn welkom om te spelen\, zingen\, lezen en stimulerende strategieën aan te leren. \nMet Nathalie (logopediste) en Amina en Anaïs (psychologen). \nIndividuele afspraak op voorhand
URL:https://goujonissimo.be/nl/event/zomerstage-babbelkousjes/2025-07-09/
ATTACH;FMTTYPE=image/png:https://goujonissimo.be/wp-content/uploads/2024/10/Capture-decran-2024-10-01-181557.png
END:VEVENT
BEGIN:VEVENT
DTSTART;TZID=Europe/Brussels:20250708T093000
DTEND;TZID=Europe/Brussels:20250708T123000
DTSTAMP:20260421T164926
CREATED:20250613T071815Z
LAST-MODIFIED:20250613T074358Z
UID:10009370-1751967000-1751977800@goujonissimo.be
SUMMARY:Zomerstage Babbelkousjes
DESCRIPTION:Kom met ons spelen rond taal en emoties! \nOuders en kinderen van 2 tot 4 jaar zijn welkom om te spelen\, zingen\, lezen en stimulerende strategieën aan te leren. \nMet Nathalie (logopediste) en Amina en Anaïs (psychologen). \nIndividuele afspraak op voorhand
URL:https://goujonissimo.be/nl/event/zomerstage-babbelkousjes/2025-07-08/
ATTACH;FMTTYPE=image/png:https://goujonissimo.be/wp-content/uploads/2024/10/Capture-decran-2024-10-01-181557.png
END:VEVENT
BEGIN:VEVENT
DTSTART;TZID=Europe/Zurich:20250708T093000
DTEND;TZID=Europe/Zurich:20250708T110000
DTSTAMP:20260421T164926
CREATED:20240405T084752Z
LAST-MODIFIED:20251020T161708Z
UID:10003838-1751967000-1751972400@goujonissimo.be
SUMMARY:Yoga Yengar
DESCRIPTION:Yogadocent Karin geeft twee keer per week Yengar Yoga in Goujonissimo. Dit is een actieve vorm van yoga\, waarbij je werkt met hulpmiddelen zoals blokken\, dekens en stoelen om je te helpen de verschillende houdingen op de juiste manier aan te nemen. Yoga draagt bij aan je kracht\, flexibiliteit en stabiliteit en kan ook een grote stimulans zijn voor je mentale welzijn.  \nTarieven \n\n15 € / 1 les\n60 € / 5 les\n120 € / 10 les
URL:https://goujonissimo.be/nl/event/yoga-yengar/2025-07-08/
LOCATION:Gym
CATEGORIES:Sportive
ATTACH;FMTTYPE=image/jpeg:https://goujonissimo.be/wp-content/uploads/2024/04/yoga-yengar.jpg
END:VEVENT
BEGIN:VEVENT
DTSTART;TZID=Europe/Zurich:20250707T183000
DTEND;TZID=Europe/Zurich:20250707T200000
DTSTAMP:20260421T164926
CREATED:20240326T092426Z
LAST-MODIFIED:20260403T082743Z
UID:10004101-1751913000-1751918400@goujonissimo.be
SUMMARY:Yoga Yengar
DESCRIPTION:Yogadocent Karin geeft twee keer per week Yengar Yoga in Goujonissimo. Dit is een actieve vorm van yoga\, waarbij je werkt met hulpmiddelen zoals blokken\, dekens en stoelen om je te helpen de verschillende houdingen op de juiste manier aan te nemen. Yoga draagt bij aan je kracht\, flexibiliteit en stabiliteit en kan ook een grote stimulans zijn voor je mentale welzijn.  \nTarieven \n\n15 € / 1 les\n60 € / 5 les\n120 € / 10 les
URL:https://goujonissimo.be/nl/event/yoga-yengar-2/2025-07-07/
LOCATION:Gym
CATEGORIES:Sportive
ATTACH;FMTTYPE=image/jpeg:https://goujonissimo.be/wp-content/uploads/2024/04/yoga-yengar.jpg
END:VEVENT
BEGIN:VEVENT
DTSTART;TZID=Europe/Brussels:20250707T170000
DTEND;TZID=Europe/Brussels:20250707T180000
DTSTAMP:20260421T164926
CREATED:20240917T142340Z
LAST-MODIFIED:20260403T082527Z
UID:10006035-1751907600-1751911200@goujonissimo.be
SUMMARY:Samen lopen
DESCRIPTION:Wil je samen in groep lopen? \nKom en neem deel aan de gratis loopgroep die elke maandag om 17 uur plaatsvindt. \nVergeet niet in sportkleding te komen. \nVoor alle niveaus! \nOntmoetingsplaats: Goujonissimo
URL:https://goujonissimo.be/nl/event/samen-lopen-2/2025-07-07/
ATTACH;FMTTYPE=image/webp:https://goujonissimo.be/wp-content/uploads/2024/09/courir-e1726582766322.webp
END:VEVENT
BEGIN:VEVENT
DTSTART;TZID=Europe/Zurich:20250707T143000
DTEND;TZID=Europe/Zurich:20250707T150000
DTSTAMP:20260421T164926
CREATED:20240326T092426Z
LAST-MODIFIED:20250814T082939Z
UID:10008979-1751898600-1751900400@goujonissimo.be
SUMMARY:Zachte Gym
DESCRIPTION:Lokaal Dienstencentrum Cosmos biedt een “Zachte Gym” aan voor senioren in Goujonissimo. \nIn kleine groepen van 10 tot 15 personen beweeg je samen op muziek. Het is een activiteit die bedoeld is voor senioren of mensen die soms moeilijk tot bewegen komen.  \nOp maandag is de groep gemengd en sporten mannen en vrouwen samen.
URL:https://goujonissimo.be/nl/event/zachte-gym-2/2025-07-07/
LOCATION:Gym
CATEGORIES:Sportive
ATTACH;FMTTYPE=image/png:https://goujonissimo.be/wp-content/uploads/2024/03/gym-douce.png
END:VEVENT
BEGIN:VEVENT
DTSTART;TZID=Europe/Zurich:20250707T090000
DTEND;TZID=Europe/Zurich:20250707T123000
DTSTAMP:20260421T164926
CREATED:20251219T125925Z
LAST-MODIFIED:20251219T143210Z
UID:10011307-1751878800-1751891400@goujonissimo.be
SUMMARY:Gezond Koken
DESCRIPTION:Elke vierde donderdag van de maand organiseren Medikuregem en Goujonissimo samen een workshop gezond koken. Diëtiste Nacera zorgt voor gezonde ingrediënten en vertelt over gezonde voeding. Daarna gaat de groep deelnemers samen aan de slag om een maaltijd te bereiden en er ook samen lekker van te eten en te genieten.
URL:https://goujonissimo.be/nl/event/gezond-koken-2/2025-07-07/
LOCATION:Keuken
CATEGORIES:Convivial,Gezondheid
ATTACH;FMTTYPE=image/webp:https://goujonissimo.be/wp-content/uploads/2024/03/Goujonissimo_Activite-Cuisine-Saine.webp
END:VEVENT
END:VCALENDAR