BEGIN:VCALENDAR
VERSION:2.0
PRODID:-//Goujonissimo - ECPv6.15.16//NONSGML v1.0//EN
CALSCALE:GREGORIAN
METHOD:PUBLISH
X-WR-CALNAME:Goujonissimo
X-ORIGINAL-URL:https://goujonissimo.be/nl/
X-WR-CALDESC:Evenementen voor Goujonissimo
REFRESH-INTERVAL;VALUE=DURATION:PT1H
X-Robots-Tag:noindex
X-PUBLISHED-TTL:PT1H
BEGIN:VTIMEZONE
TZID:Europe/Brussels
BEGIN:DAYLIGHT
TZOFFSETFROM:+0100
TZOFFSETTO:+0200
TZNAME:CEST
DTSTART:20240331T010000
END:DAYLIGHT
BEGIN:STANDARD
TZOFFSETFROM:+0200
TZOFFSETTO:+0100
TZNAME:CET
DTSTART:20241027T010000
END:STANDARD
BEGIN:DAYLIGHT
TZOFFSETFROM:+0100
TZOFFSETTO:+0200
TZNAME:CEST
DTSTART:20250330T010000
END:DAYLIGHT
BEGIN:STANDARD
TZOFFSETFROM:+0200
TZOFFSETTO:+0100
TZNAME:CET
DTSTART:20251026T010000
END:STANDARD
BEGIN:DAYLIGHT
TZOFFSETFROM:+0100
TZOFFSETTO:+0200
TZNAME:CEST
DTSTART:20260329T010000
END:DAYLIGHT
BEGIN:STANDARD
TZOFFSETFROM:+0200
TZOFFSETTO:+0100
TZNAME:CET
DTSTART:20261025T010000
END:STANDARD
END:VTIMEZONE
BEGIN:VTIMEZONE
TZID:Europe/Zurich
BEGIN:DAYLIGHT
TZOFFSETFROM:+0100
TZOFFSETTO:+0200
TZNAME:CEST
DTSTART:20240331T010000
END:DAYLIGHT
BEGIN:STANDARD
TZOFFSETFROM:+0200
TZOFFSETTO:+0100
TZNAME:CET
DTSTART:20241027T010000
END:STANDARD
BEGIN:DAYLIGHT
TZOFFSETFROM:+0100
TZOFFSETTO:+0200
TZNAME:CEST
DTSTART:20250330T010000
END:DAYLIGHT
BEGIN:STANDARD
TZOFFSETFROM:+0200
TZOFFSETTO:+0100
TZNAME:CET
DTSTART:20251026T010000
END:STANDARD
BEGIN:DAYLIGHT
TZOFFSETFROM:+0100
TZOFFSETTO:+0200
TZNAME:CEST
DTSTART:20260329T010000
END:DAYLIGHT
BEGIN:STANDARD
TZOFFSETFROM:+0200
TZOFFSETTO:+0100
TZNAME:CET
DTSTART:20261025T010000
END:STANDARD
END:VTIMEZONE
BEGIN:VEVENT
DTSTART;TZID=Europe/Brussels:20250421T090000
DTEND;TZID=Europe/Brussels:20250421T120000
DTSTAMP:20260424T083719
CREATED:20241206T133625Z
LAST-MODIFIED:20260403T082419Z
UID:10006894-1745226000-1745236800@goujonissimo.be
SUMMARY:De handen in elkaar (creatieve activiteiten)
DESCRIPTION:Creatieve activiteiten elke maandag van 9.00 tot 12.00 \nNaaiatelier\, breien\, duurzame voeding\, museumbezoek… \nIn Goujonissimo
URL:https://goujonissimo.be/nl/event/de-handen-in-elkaar-creatieve-activiteiten/2025-04-21/
ATTACH;FMTTYPE=image/png:https://goujonissimo.be/wp-content/uploads/2024/12/image-1.png
END:VEVENT
BEGIN:VEVENT
DTSTART;TZID=Europe/Brussels:20250418T100000
DTEND;TZID=Europe/Brussels:20250418T110000
DTSTAMP:20260424T083719
CREATED:20250411T114609Z
LAST-MODIFIED:20260213T101005Z
UID:10007620-1744970400-1744974000@goujonissimo.be
SUMMARY:Werelddans
DESCRIPTION:Wil je boeiende ritmes en fascinerende culturen ontdekken? \nSluit je elke vrijdag bij ons aan voor een nieuwe dans! \nIn Goujonissimo
URL:https://goujonissimo.be/nl/event/werelddans/2025-04-18/
ATTACH;FMTTYPE=image/jpeg:https://goujonissimo.be/wp-content/uploads/2025/04/danse-femme.jpg
END:VEVENT
BEGIN:VEVENT
DTSTART;TZID=Europe/Brussels:20250416T170000
DTEND;TZID=Europe/Brussels:20250416T190000
DTSTAMP:20260424T083719
CREATED:20250411T115345Z
LAST-MODIFIED:20251121T082257Z
UID:10007880-1744822800-1744830000@goujonissimo.be
SUMMARY:Laten we elkaar ontmoeten! Uitsluitend voor mannen
DESCRIPTION: 26/11: 17u – 19u: Laten we het over emoties hebben\nOntdek emoties aan de hand van kaarten en afbeeldingen en beleef een gezellig moment onder mannen!\n\n\n17/12: 17u -19u: Eindejaarsfeest!\nDeel je favoriete maaltijd of proef die van anderen en beleef een gezellig moment onder mannen!\n  \nGratis
URL:https://goujonissimo.be/nl/event/laten-we-elkaar-ontmoeten/2025-04-16/
ATTACH;FMTTYPE=image/jpeg:https://goujonissimo.be/wp-content/uploads/2025/04/J-ai-participe-a-un-groupe-d-hommes-2.jpg
END:VEVENT
BEGIN:VEVENT
DTSTART;TZID=Europe/Brussels:20250416T100000
DTEND;TZID=Europe/Brussels:20250416T111500
DTSTAMP:20260424T083719
CREATED:20251219T114332Z
LAST-MODIFIED:20251219T143018Z
UID:10010909-1744797600-1744802100@goujonissimo.be
SUMMARY:Zachte gym vrouwen
DESCRIPTION:Lokaal Dienstencentrum Cosmos biedt een “Zachte Gym” aan voor senioren in Goujonissimo. \nIn kleine groepen van 10 tot 15 personen beweeg je samen op muziek. Het is een activiteit die bedoeld is voor senioren of mensen die soms moeilijk tot bewegen komen. \nOp donderdag is de activiteit alleen voor vrouwen. \nGroep 1: 10u – 10u30 en groep 2: 10u45 – 11u15
URL:https://goujonissimo.be/nl/event/zachte-gym-vrouwen-2/2025-04-16/
ATTACH;FMTTYPE=image/png:https://goujonissimo.be/wp-content/uploads/2024/03/gym-douce.png
END:VEVENT
BEGIN:VEVENT
DTSTART;TZID=Europe/Brussels:20250415T140000
DTEND;TZID=Europe/Brussels:20250415T160000
DTSTAMP:20260424T083719
CREATED:20250321T114607Z
LAST-MODIFIED:20250613T070903Z
UID:10007327-1744725600-1744732800@goujonissimo.be
SUMMARY:Fietstocht
DESCRIPTION:Om samen in het verkeer te rijden! \nAfspraak voor Cultureghem (fietsvloot abattoirs)\, ropsy Chaudronstraat 24 1070 Anderlecht
URL:https://goujonissimo.be/nl/event/fietstocht-2/2025-04-15/
ATTACH;FMTTYPE=image/png:https://goujonissimo.be/wp-content/uploads/2024/04/characters-on-bike-ride-park-260nw-2278734741.png
END:VEVENT
BEGIN:VEVENT
DTSTART;TZID=Europe/Zurich:20250415T093000
DTEND;TZID=Europe/Zurich:20250415T110000
DTSTAMP:20260424T083719
CREATED:20240405T084752Z
LAST-MODIFIED:20251020T161708Z
UID:10003826-1744709400-1744714800@goujonissimo.be
SUMMARY:Yoga Yengar
DESCRIPTION:Yogadocent Karin geeft twee keer per week Yengar Yoga in Goujonissimo. Dit is een actieve vorm van yoga\, waarbij je werkt met hulpmiddelen zoals blokken\, dekens en stoelen om je te helpen de verschillende houdingen op de juiste manier aan te nemen. Yoga draagt bij aan je kracht\, flexibiliteit en stabiliteit en kan ook een grote stimulans zijn voor je mentale welzijn.  \nTarieven \n\n15 € / 1 les\n60 € / 5 les\n120 € / 10 les
URL:https://goujonissimo.be/nl/event/yoga-yengar/2025-04-15/
LOCATION:Gym
CATEGORIES:Sportive
ATTACH;FMTTYPE=image/jpeg:https://goujonissimo.be/wp-content/uploads/2024/04/yoga-yengar.jpg
END:VEVENT
BEGIN:VEVENT
DTSTART;TZID=Europe/Zurich:20250414T183000
DTEND;TZID=Europe/Zurich:20250414T200000
DTSTAMP:20260424T083719
CREATED:20240326T092426Z
LAST-MODIFIED:20260403T082743Z
UID:10004089-1744655400-1744660800@goujonissimo.be
SUMMARY:Yoga Yengar
DESCRIPTION:Yogadocent Karin geeft twee keer per week Yengar Yoga in Goujonissimo. Dit is een actieve vorm van yoga\, waarbij je werkt met hulpmiddelen zoals blokken\, dekens en stoelen om je te helpen de verschillende houdingen op de juiste manier aan te nemen. Yoga draagt bij aan je kracht\, flexibiliteit en stabiliteit en kan ook een grote stimulans zijn voor je mentale welzijn.  \nTarieven \n\n15 € / 1 les\n60 € / 5 les\n120 € / 10 les
URL:https://goujonissimo.be/nl/event/yoga-yengar-2/2025-04-14/
LOCATION:Gym
CATEGORIES:Sportive
ATTACH;FMTTYPE=image/jpeg:https://goujonissimo.be/wp-content/uploads/2024/04/yoga-yengar.jpg
END:VEVENT
BEGIN:VEVENT
DTSTART;TZID=Europe/Brussels:20250414T170000
DTEND;TZID=Europe/Brussels:20250414T180000
DTSTAMP:20260424T083719
CREATED:20240917T142340Z
LAST-MODIFIED:20260403T082527Z
UID:10006023-1744650000-1744653600@goujonissimo.be
SUMMARY:Samen lopen
DESCRIPTION:Wil je samen in groep lopen? \nKom en neem deel aan de gratis loopgroep die elke maandag om 17 uur plaatsvindt. \nVergeet niet in sportkleding te komen. \nVoor alle niveaus! \nOntmoetingsplaats: Goujonissimo
URL:https://goujonissimo.be/nl/event/samen-lopen-2/2025-04-14/
ATTACH;FMTTYPE=image/webp:https://goujonissimo.be/wp-content/uploads/2024/09/courir-e1726582766322.webp
END:VEVENT
BEGIN:VEVENT
DTSTART;TZID=Europe/Zurich:20250414T143000
DTEND;TZID=Europe/Zurich:20250414T150000
DTSTAMP:20260424T083719
CREATED:20240326T092426Z
LAST-MODIFIED:20250814T082939Z
UID:10008967-1744641000-1744642800@goujonissimo.be
SUMMARY:Zachte Gym
DESCRIPTION:Lokaal Dienstencentrum Cosmos biedt een “Zachte Gym” aan voor senioren in Goujonissimo. \nIn kleine groepen van 10 tot 15 personen beweeg je samen op muziek. Het is een activiteit die bedoeld is voor senioren of mensen die soms moeilijk tot bewegen komen.  \nOp maandag is de groep gemengd en sporten mannen en vrouwen samen.
URL:https://goujonissimo.be/nl/event/zachte-gym-2/2025-04-14/
LOCATION:Gym
CATEGORIES:Sportive
ATTACH;FMTTYPE=image/png:https://goujonissimo.be/wp-content/uploads/2024/03/gym-douce.png
END:VEVENT
BEGIN:VEVENT
DTSTART;TZID=Europe/Brussels:20250414T090000
DTEND;TZID=Europe/Brussels:20250414T120000
DTSTAMP:20260424T083719
CREATED:20241206T133625Z
LAST-MODIFIED:20260403T082419Z
UID:10006893-1744621200-1744632000@goujonissimo.be
SUMMARY:De handen in elkaar (creatieve activiteiten)
DESCRIPTION:Creatieve activiteiten elke maandag van 9.00 tot 12.00 \nNaaiatelier\, breien\, duurzame voeding\, museumbezoek… \nIn Goujonissimo
URL:https://goujonissimo.be/nl/event/de-handen-in-elkaar-creatieve-activiteiten/2025-04-14/
ATTACH;FMTTYPE=image/png:https://goujonissimo.be/wp-content/uploads/2024/12/image-1.png
END:VEVENT
BEGIN:VEVENT
DTSTART;TZID=Europe/Brussels:20250410T090000
DTEND;TZID=Europe/Brussels:20250410T130000
DTSTAMP:20260424T083719
CREATED:20241004T125955Z
LAST-MODIFIED:20260403T095659Z
UID:10006382-1744275600-1744290000@goujonissimo.be
SUMMARY:Wereldkeuken
DESCRIPTION:Op reis door verschillende smaken: ontdek de lekkernijen van de wereld! \nElke maand koken we samen en ontdekken verschillenden gerechten van over de hele wereld. \n\nElke tweede donderdag van de maand\nVan 9.00 tot 13.00
URL:https://goujonissimo.be/nl/event/wereldkeuken/2025-04-10/
ATTACH;FMTTYPE=image/jpeg:https://goujonissimo.be/wp-content/uploads/2024/10/gastronomie-monde-carte.jpg
END:VEVENT
BEGIN:VEVENT
DTSTART;TZID=Europe/Brussels:20250409T100000
DTEND;TZID=Europe/Brussels:20250409T111500
DTSTAMP:20260424T083719
CREATED:20251219T114332Z
LAST-MODIFIED:20251219T143018Z
UID:10010908-1744192800-1744197300@goujonissimo.be
SUMMARY:Zachte gym vrouwen
DESCRIPTION:Lokaal Dienstencentrum Cosmos biedt een “Zachte Gym” aan voor senioren in Goujonissimo. \nIn kleine groepen van 10 tot 15 personen beweeg je samen op muziek. Het is een activiteit die bedoeld is voor senioren of mensen die soms moeilijk tot bewegen komen. \nOp donderdag is de activiteit alleen voor vrouwen. \nGroep 1: 10u – 10u30 en groep 2: 10u45 – 11u15
URL:https://goujonissimo.be/nl/event/zachte-gym-vrouwen-2/2025-04-09/
ATTACH;FMTTYPE=image/png:https://goujonissimo.be/wp-content/uploads/2024/03/gym-douce.png
END:VEVENT
BEGIN:VEVENT
DTSTART;TZID=Europe/Zurich:20250408T093000
DTEND;TZID=Europe/Zurich:20250408T110000
DTSTAMP:20260424T083719
CREATED:20240405T084752Z
LAST-MODIFIED:20251020T161708Z
UID:10003825-1744104600-1744110000@goujonissimo.be
SUMMARY:Yoga Yengar
DESCRIPTION:Yogadocent Karin geeft twee keer per week Yengar Yoga in Goujonissimo. Dit is een actieve vorm van yoga\, waarbij je werkt met hulpmiddelen zoals blokken\, dekens en stoelen om je te helpen de verschillende houdingen op de juiste manier aan te nemen. Yoga draagt bij aan je kracht\, flexibiliteit en stabiliteit en kan ook een grote stimulans zijn voor je mentale welzijn.  \nTarieven \n\n15 € / 1 les\n60 € / 5 les\n120 € / 10 les
URL:https://goujonissimo.be/nl/event/yoga-yengar/2025-04-08/
LOCATION:Gym
CATEGORIES:Sportive
ATTACH;FMTTYPE=image/jpeg:https://goujonissimo.be/wp-content/uploads/2024/04/yoga-yengar.jpg
END:VEVENT
BEGIN:VEVENT
DTSTART;TZID=Europe/Zurich:20250407T183000
DTEND;TZID=Europe/Zurich:20250407T200000
DTSTAMP:20260424T083719
CREATED:20240326T092426Z
LAST-MODIFIED:20260403T082743Z
UID:10004088-1744050600-1744056000@goujonissimo.be
SUMMARY:Yoga Yengar
DESCRIPTION:Yogadocent Karin geeft twee keer per week Yengar Yoga in Goujonissimo. Dit is een actieve vorm van yoga\, waarbij je werkt met hulpmiddelen zoals blokken\, dekens en stoelen om je te helpen de verschillende houdingen op de juiste manier aan te nemen. Yoga draagt bij aan je kracht\, flexibiliteit en stabiliteit en kan ook een grote stimulans zijn voor je mentale welzijn.  \nTarieven \n\n15 € / 1 les\n60 € / 5 les\n120 € / 10 les
URL:https://goujonissimo.be/nl/event/yoga-yengar-2/2025-04-07/
LOCATION:Gym
CATEGORIES:Sportive
ATTACH;FMTTYPE=image/jpeg:https://goujonissimo.be/wp-content/uploads/2024/04/yoga-yengar.jpg
END:VEVENT
BEGIN:VEVENT
DTSTART;TZID=Europe/Brussels:20250407T170000
DTEND;TZID=Europe/Brussels:20250407T180000
DTSTAMP:20260424T083719
CREATED:20240917T142340Z
LAST-MODIFIED:20260403T082527Z
UID:10006022-1744045200-1744048800@goujonissimo.be
SUMMARY:Samen lopen
DESCRIPTION:Wil je samen in groep lopen? \nKom en neem deel aan de gratis loopgroep die elke maandag om 17 uur plaatsvindt. \nVergeet niet in sportkleding te komen. \nVoor alle niveaus! \nOntmoetingsplaats: Goujonissimo
URL:https://goujonissimo.be/nl/event/samen-lopen-2/2025-04-07/
ATTACH;FMTTYPE=image/webp:https://goujonissimo.be/wp-content/uploads/2024/09/courir-e1726582766322.webp
END:VEVENT
BEGIN:VEVENT
DTSTART;TZID=Europe/Zurich:20250407T143000
DTEND;TZID=Europe/Zurich:20250407T150000
DTSTAMP:20260424T083719
CREATED:20240326T092426Z
LAST-MODIFIED:20250814T082939Z
UID:10008966-1744036200-1744038000@goujonissimo.be
SUMMARY:Zachte Gym
DESCRIPTION:Lokaal Dienstencentrum Cosmos biedt een “Zachte Gym” aan voor senioren in Goujonissimo. \nIn kleine groepen van 10 tot 15 personen beweeg je samen op muziek. Het is een activiteit die bedoeld is voor senioren of mensen die soms moeilijk tot bewegen komen.  \nOp maandag is de groep gemengd en sporten mannen en vrouwen samen.
URL:https://goujonissimo.be/nl/event/zachte-gym-2/2025-04-07/
LOCATION:Gym
CATEGORIES:Sportive
ATTACH;FMTTYPE=image/png:https://goujonissimo.be/wp-content/uploads/2024/03/gym-douce.png
END:VEVENT
BEGIN:VEVENT
DTSTART;TZID=Europe/Zurich:20250407T090000
DTEND;TZID=Europe/Zurich:20250407T123000
DTSTAMP:20260424T083719
CREATED:20251219T125925Z
LAST-MODIFIED:20251219T143210Z
UID:10011304-1744016400-1744029000@goujonissimo.be
SUMMARY:Gezond Koken
DESCRIPTION:Elke vierde donderdag van de maand organiseren Medikuregem en Goujonissimo samen een workshop gezond koken. Diëtiste Nacera zorgt voor gezonde ingrediënten en vertelt over gezonde voeding. Daarna gaat de groep deelnemers samen aan de slag om een maaltijd te bereiden en er ook samen lekker van te eten en te genieten.
URL:https://goujonissimo.be/nl/event/gezond-koken-2/2025-04-07/
LOCATION:Keuken
CATEGORIES:Convivial,Gezondheid
ATTACH;FMTTYPE=image/webp:https://goujonissimo.be/wp-content/uploads/2024/03/Goujonissimo_Activite-Cuisine-Saine.webp
END:VEVENT
BEGIN:VEVENT
DTSTART;TZID=Europe/Brussels:20250407T090000
DTEND;TZID=Europe/Brussels:20250407T120000
DTSTAMP:20260424T083719
CREATED:20241206T133625Z
LAST-MODIFIED:20260403T082419Z
UID:10006892-1744016400-1744027200@goujonissimo.be
SUMMARY:De handen in elkaar (creatieve activiteiten)
DESCRIPTION:Creatieve activiteiten elke maandag van 9.00 tot 12.00 \nNaaiatelier\, breien\, duurzame voeding\, museumbezoek… \nIn Goujonissimo
URL:https://goujonissimo.be/nl/event/de-handen-in-elkaar-creatieve-activiteiten/2025-04-07/
ATTACH;FMTTYPE=image/png:https://goujonissimo.be/wp-content/uploads/2024/12/image-1.png
END:VEVENT
BEGIN:VEVENT
DTSTART;TZID=Europe/Brussels:20250407T090000
DTEND;TZID=Europe/Brussels:20250407T110000
DTSTAMP:20260424T083719
CREATED:20251219T143124Z
LAST-MODIFIED:20251219T143125Z
UID:10011226-1744016400-1744023600@goujonissimo.be
SUMMARY:Ontbijt
DESCRIPTION:Goujonissimo organiseert elke eerste donderdag van de maand een ontbijt. Iedereen is welkom voor een gezellig samenzijn\, om elkaar te leren kennen en om collega’s van Goujonissimo te ontmoeten. \nBuurtbewoners mogen zelf iets lekkers meebrengen\, maar dit is zeker niet verplicht. \nIedereen is welkom!
URL:https://goujonissimo.be/nl/event/ontbijt-2/2025-04-07/
LOCATION:Gemeenschapszaal
ATTACH;FMTTYPE=image/webp:https://goujonissimo.be/wp-content/uploads/2024/03/Goujonissimo_Activite-petit-dej.webp
END:VEVENT
BEGIN:VEVENT
DTSTART;TZID=Europe/Brussels:20250403T090000
DTEND;TZID=Europe/Brussels:20250403T123000
DTSTAMP:20260424T083719
CREATED:20250205T111204Z
LAST-MODIFIED:20250827T125033Z
UID:10007292-1743670800-1743683400@goujonissimo.be
SUMMARY:Leren je rechten te verdedigen.
DESCRIPTION:Informatiesessie: Mijn rechten als huurder\nVoor huurders van privéwoningen \nKan de eigenaar mijn huur verhogen? Kan hij mij zomaar eruit zetten? \nIs mijn huur te hoog voor wat het is? Laten we samen de test doen! \nElke eerste donderdag van de maand\nBij Goujonissimo
URL:https://goujonissimo.be/nl/event/leren-je-rechten-te-verdedigen/2025-04-03/
ATTACH;FMTTYPE=image/png:https://goujonissimo.be/wp-content/uploads/2025/02/Capture-decran-2025-02-04-150646.png
END:VEVENT
BEGIN:VEVENT
DTSTART;TZID=Europe/Brussels:20250403T090000
DTEND;TZID=Europe/Brussels:20250403T110000
DTSTAMP:20260424T083719
CREATED:20260102T085605Z
LAST-MODIFIED:20260102T085605Z
UID:10012663-1743670800-1743678000@goujonissimo.be
SUMMARY:Ontbijt
DESCRIPTION:Goujonissimo organiseert elke eerste donderdag van de maand een ontbijt. Iedereen is welkom voor een gezellig samenzijn\, om elkaar te leren kennen en om collega’s van Goujonissimo te ontmoeten. \nBuurtbewoners mogen zelf iets lekkers meebrengen\, maar dit is zeker niet verplicht. \nIedereen is welkom!
URL:https://goujonissimo.be/nl/event/ontbijt-2-2/2025-04-03/
LOCATION:Gemeenschapszaal
ATTACH;FMTTYPE=image/webp:https://goujonissimo.be/wp-content/uploads/2024/03/Goujonissimo_Activite-petit-dej.webp
END:VEVENT
BEGIN:VEVENT
DTSTART;TZID=Europe/Brussels:20250402T100000
DTEND;TZID=Europe/Brussels:20250402T120000
DTSTAMP:20260424T083719
CREATED:20250124T100151Z
LAST-MODIFIED:20250902T110719Z
UID:10007268-1743588000-1743595200@goujonissimo.be
SUMMARY:Babymassage
DESCRIPTION:Een fijne\, rustige en interactieve activiteit voor ouders en hun baby tussen 4 weken en 6 maanden. \n2/07: Goujonissimo 10h – 11h30 \n6 /08: Goujonissimo 10h – 11h30 \n3/09: Huis van het kind 10h – 11h30 \n1/10: Huis van het kind 10h – 11h30 \n5/11: Goujonissimo 10h – 11h30 \n3/12: Huis van het kind 10h – 11h30 \n 
URL:https://goujonissimo.be/nl/event/babymassage-3-2/2025-04-02/
CATEGORIES:Convivial,Gezondheid,Informatie,Mental Zorg
ATTACH;FMTTYPE=image/jpeg:https://goujonissimo.be/wp-content/uploads/2024/05/babymassage.jpg
END:VEVENT
BEGIN:VEVENT
DTSTART;TZID=Europe/Brussels:20250402T100000
DTEND;TZID=Europe/Brussels:20250402T111500
DTSTAMP:20260424T083719
CREATED:20251219T114332Z
LAST-MODIFIED:20251219T143018Z
UID:10010907-1743588000-1743592500@goujonissimo.be
SUMMARY:Zachte gym vrouwen
DESCRIPTION:Lokaal Dienstencentrum Cosmos biedt een “Zachte Gym” aan voor senioren in Goujonissimo. \nIn kleine groepen van 10 tot 15 personen beweeg je samen op muziek. Het is een activiteit die bedoeld is voor senioren of mensen die soms moeilijk tot bewegen komen. \nOp donderdag is de activiteit alleen voor vrouwen. \nGroep 1: 10u – 10u30 en groep 2: 10u45 – 11u15
URL:https://goujonissimo.be/nl/event/zachte-gym-vrouwen-2/2025-04-02/
ATTACH;FMTTYPE=image/png:https://goujonissimo.be/wp-content/uploads/2024/03/gym-douce.png
END:VEVENT
BEGIN:VEVENT
DTSTART;TZID=Europe/Brussels:20250401T130000
DTEND;TZID=Europe/Brussels:20250401T190000
DTSTAMP:20260424T083719
CREATED:20250324T103038Z
LAST-MODIFIED:20250324T113956Z
UID:10007350-1743512400-1743534000@goujonissimo.be
SUMMARY:Open Forum: Welkom
DESCRIPTION:Goujonissimo nodigt jullie uit om jullie ideeën te delen over ons centrum! \nVoor alle buurtbewoners en partners. \n  \n13u – 14u : Lunch en rondleiding door het centrum \n14u – 16u10 : Wisseltafels \n16u30 – 17u30 : Koffie\, taart en rondleiding door het centrum \n17u30 – 19u : Wisseltafels \nKom onze activiteiten uit proberen om 15u\, 16u\, 18u : babymassage\, zangcirkel\, creatieve workshop\, baboes\, de handen in elkaar \nBij Goujonissimo \nGoujonsstraat 85 \n1070 Anderlecht
URL:https://goujonissimo.be/nl/event/open-forum-welkom/
ATTACH;FMTTYPE=image/jpeg:https://goujonissimo.be/wp-content/uploads/2025/03/1187541.jpg
END:VEVENT
BEGIN:VEVENT
DTSTART;TZID=Europe/Zurich:20250401T093000
DTEND;TZID=Europe/Zurich:20250401T110000
DTSTAMP:20260424T083719
CREATED:20240405T084752Z
LAST-MODIFIED:20251020T161708Z
UID:10003824-1743499800-1743505200@goujonissimo.be
SUMMARY:Yoga Yengar
DESCRIPTION:Yogadocent Karin geeft twee keer per week Yengar Yoga in Goujonissimo. Dit is een actieve vorm van yoga\, waarbij je werkt met hulpmiddelen zoals blokken\, dekens en stoelen om je te helpen de verschillende houdingen op de juiste manier aan te nemen. Yoga draagt bij aan je kracht\, flexibiliteit en stabiliteit en kan ook een grote stimulans zijn voor je mentale welzijn.  \nTarieven \n\n15 € / 1 les\n60 € / 5 les\n120 € / 10 les
URL:https://goujonissimo.be/nl/event/yoga-yengar/2025-04-01/
LOCATION:Gym
CATEGORIES:Sportive
ATTACH;FMTTYPE=image/jpeg:https://goujonissimo.be/wp-content/uploads/2024/04/yoga-yengar.jpg
END:VEVENT
BEGIN:VEVENT
DTSTART;TZID=Europe/Zurich:20250331T183000
DTEND;TZID=Europe/Zurich:20250331T200000
DTSTAMP:20260424T083719
CREATED:20240326T092426Z
LAST-MODIFIED:20260403T082743Z
UID:10004087-1743445800-1743451200@goujonissimo.be
SUMMARY:Yoga Yengar
DESCRIPTION:Yogadocent Karin geeft twee keer per week Yengar Yoga in Goujonissimo. Dit is een actieve vorm van yoga\, waarbij je werkt met hulpmiddelen zoals blokken\, dekens en stoelen om je te helpen de verschillende houdingen op de juiste manier aan te nemen. Yoga draagt bij aan je kracht\, flexibiliteit en stabiliteit en kan ook een grote stimulans zijn voor je mentale welzijn.  \nTarieven \n\n15 € / 1 les\n60 € / 5 les\n120 € / 10 les
URL:https://goujonissimo.be/nl/event/yoga-yengar-2/2025-03-31/
LOCATION:Gym
CATEGORIES:Sportive
ATTACH;FMTTYPE=image/jpeg:https://goujonissimo.be/wp-content/uploads/2024/04/yoga-yengar.jpg
END:VEVENT
BEGIN:VEVENT
DTSTART;TZID=Europe/Brussels:20250331T170000
DTEND;TZID=Europe/Brussels:20250331T180000
DTSTAMP:20260424T083719
CREATED:20240917T142340Z
LAST-MODIFIED:20260403T082527Z
UID:10006021-1743440400-1743444000@goujonissimo.be
SUMMARY:Samen lopen
DESCRIPTION:Wil je samen in groep lopen? \nKom en neem deel aan de gratis loopgroep die elke maandag om 17 uur plaatsvindt. \nVergeet niet in sportkleding te komen. \nVoor alle niveaus! \nOntmoetingsplaats: Goujonissimo
URL:https://goujonissimo.be/nl/event/samen-lopen-2/2025-03-31/
ATTACH;FMTTYPE=image/webp:https://goujonissimo.be/wp-content/uploads/2024/09/courir-e1726582766322.webp
END:VEVENT
BEGIN:VEVENT
DTSTART;TZID=Europe/Zurich:20250331T143000
DTEND;TZID=Europe/Zurich:20250331T150000
DTSTAMP:20260424T083719
CREATED:20240326T092426Z
LAST-MODIFIED:20250814T082939Z
UID:10008965-1743431400-1743433200@goujonissimo.be
SUMMARY:Zachte Gym
DESCRIPTION:Lokaal Dienstencentrum Cosmos biedt een “Zachte Gym” aan voor senioren in Goujonissimo. \nIn kleine groepen van 10 tot 15 personen beweeg je samen op muziek. Het is een activiteit die bedoeld is voor senioren of mensen die soms moeilijk tot bewegen komen.  \nOp maandag is de groep gemengd en sporten mannen en vrouwen samen.
URL:https://goujonissimo.be/nl/event/zachte-gym-2/2025-03-31/
LOCATION:Gym
CATEGORIES:Sportive
ATTACH;FMTTYPE=image/png:https://goujonissimo.be/wp-content/uploads/2024/03/gym-douce.png
END:VEVENT
BEGIN:VEVENT
DTSTART;TZID=Europe/Brussels:20250331T090000
DTEND;TZID=Europe/Brussels:20250331T120000
DTSTAMP:20260424T083719
CREATED:20241206T133625Z
LAST-MODIFIED:20260403T082419Z
UID:10006891-1743411600-1743422400@goujonissimo.be
SUMMARY:De handen in elkaar (creatieve activiteiten)
DESCRIPTION:Creatieve activiteiten elke maandag van 9.00 tot 12.00 \nNaaiatelier\, breien\, duurzame voeding\, museumbezoek… \nIn Goujonissimo
URL:https://goujonissimo.be/nl/event/de-handen-in-elkaar-creatieve-activiteiten/2025-03-31/
ATTACH;FMTTYPE=image/png:https://goujonissimo.be/wp-content/uploads/2024/12/image-1.png
END:VEVENT
BEGIN:VEVENT
DTSTART;TZID=Europe/Brussels:20250327T100000
DTEND;TZID=Europe/Brussels:20250327T120000
DTSTAMP:20260424T083719
CREATED:20250321T115715Z
LAST-MODIFIED:20250321T115715Z
UID:10007328-1743069600-1743076800@goujonissimo.be
SUMMARY:Samen tegen racisme
DESCRIPTION:Een film die het lijden zichtbaar maakt\, solidariteit toont en hoop geeft. \nIn Goujonissimo
URL:https://goujonissimo.be/nl/event/samen-tegen-racisme/
ATTACH;FMTTYPE=image/jpeg:https://goujonissimo.be/wp-content/uploads/2025/03/soutien-communes.jpg
END:VEVENT
END:VCALENDAR