BEGIN:VCALENDAR
VERSION:2.0
PRODID:-//Goujonissimo - ECPv6.15.16//NONSGML v1.0//EN
CALSCALE:GREGORIAN
METHOD:PUBLISH
X-WR-CALNAME:Goujonissimo
X-ORIGINAL-URL:https://goujonissimo.be/nl/
X-WR-CALDESC:Evenementen voor Goujonissimo
REFRESH-INTERVAL;VALUE=DURATION:PT1H
X-Robots-Tag:noindex
X-PUBLISHED-TTL:PT1H
BEGIN:VTIMEZONE
TZID:Europe/Brussels
BEGIN:DAYLIGHT
TZOFFSETFROM:+0100
TZOFFSETTO:+0200
TZNAME:CEST
DTSTART:20240331T010000
END:DAYLIGHT
BEGIN:STANDARD
TZOFFSETFROM:+0200
TZOFFSETTO:+0100
TZNAME:CET
DTSTART:20241027T010000
END:STANDARD
BEGIN:DAYLIGHT
TZOFFSETFROM:+0100
TZOFFSETTO:+0200
TZNAME:CEST
DTSTART:20250330T010000
END:DAYLIGHT
BEGIN:STANDARD
TZOFFSETFROM:+0200
TZOFFSETTO:+0100
TZNAME:CET
DTSTART:20251026T010000
END:STANDARD
BEGIN:DAYLIGHT
TZOFFSETFROM:+0100
TZOFFSETTO:+0200
TZNAME:CEST
DTSTART:20260329T010000
END:DAYLIGHT
BEGIN:STANDARD
TZOFFSETFROM:+0200
TZOFFSETTO:+0100
TZNAME:CET
DTSTART:20261025T010000
END:STANDARD
END:VTIMEZONE
BEGIN:VTIMEZONE
TZID:Europe/Zurich
BEGIN:DAYLIGHT
TZOFFSETFROM:+0100
TZOFFSETTO:+0200
TZNAME:CEST
DTSTART:20240331T010000
END:DAYLIGHT
BEGIN:STANDARD
TZOFFSETFROM:+0200
TZOFFSETTO:+0100
TZNAME:CET
DTSTART:20241027T010000
END:STANDARD
BEGIN:DAYLIGHT
TZOFFSETFROM:+0100
TZOFFSETTO:+0200
TZNAME:CEST
DTSTART:20250330T010000
END:DAYLIGHT
BEGIN:STANDARD
TZOFFSETFROM:+0200
TZOFFSETTO:+0100
TZNAME:CET
DTSTART:20251026T010000
END:STANDARD
BEGIN:DAYLIGHT
TZOFFSETFROM:+0100
TZOFFSETTO:+0200
TZNAME:CEST
DTSTART:20260329T010000
END:DAYLIGHT
BEGIN:STANDARD
TZOFFSETFROM:+0200
TZOFFSETTO:+0100
TZNAME:CET
DTSTART:20261025T010000
END:STANDARD
END:VTIMEZONE
BEGIN:VEVENT
DTSTART;TZID=Europe/Brussels:20250205T100000
DTEND;TZID=Europe/Brussels:20250205T111500
DTSTAMP:20260426T034344
CREATED:20251219T114332Z
LAST-MODIFIED:20251219T143018Z
UID:10010899-1738749600-1738754100@goujonissimo.be
SUMMARY:Zachte gym vrouwen
DESCRIPTION:Lokaal Dienstencentrum Cosmos biedt een “Zachte Gym” aan voor senioren in Goujonissimo. \nIn kleine groepen van 10 tot 15 personen beweeg je samen op muziek. Het is een activiteit die bedoeld is voor senioren of mensen die soms moeilijk tot bewegen komen. \nOp donderdag is de activiteit alleen voor vrouwen. \nGroep 1: 10u – 10u30 en groep 2: 10u45 – 11u15
URL:https://goujonissimo.be/nl/event/zachte-gym-vrouwen-2/2025-02-05/
ATTACH;FMTTYPE=image/png:https://goujonissimo.be/wp-content/uploads/2024/03/gym-douce.png
END:VEVENT
BEGIN:VEVENT
DTSTART;TZID=Europe/Zurich:20250204T093000
DTEND;TZID=Europe/Zurich:20250204T110000
DTSTAMP:20260426T034344
CREATED:20240405T084752Z
LAST-MODIFIED:20251020T161708Z
UID:10003816-1738661400-1738666800@goujonissimo.be
SUMMARY:Yoga Yengar
DESCRIPTION:Yogadocent Karin geeft twee keer per week Yengar Yoga in Goujonissimo. Dit is een actieve vorm van yoga\, waarbij je werkt met hulpmiddelen zoals blokken\, dekens en stoelen om je te helpen de verschillende houdingen op de juiste manier aan te nemen. Yoga draagt bij aan je kracht\, flexibiliteit en stabiliteit en kan ook een grote stimulans zijn voor je mentale welzijn.  \nTarieven \n\n15 € / 1 les\n60 € / 5 les\n120 € / 10 les
URL:https://goujonissimo.be/nl/event/yoga-yengar/2025-02-04/
LOCATION:Gym
CATEGORIES:Sportive
ATTACH;FMTTYPE=image/jpeg:https://goujonissimo.be/wp-content/uploads/2024/04/yoga-yengar.jpg
END:VEVENT
BEGIN:VEVENT
DTSTART;TZID=Europe/Zurich:20250203T183000
DTEND;TZID=Europe/Zurich:20250203T200000
DTSTAMP:20260426T034344
CREATED:20240326T092426Z
LAST-MODIFIED:20260403T082743Z
UID:10004079-1738607400-1738612800@goujonissimo.be
SUMMARY:Yoga Yengar
DESCRIPTION:Yogadocent Karin geeft twee keer per week Yengar Yoga in Goujonissimo. Dit is een actieve vorm van yoga\, waarbij je werkt met hulpmiddelen zoals blokken\, dekens en stoelen om je te helpen de verschillende houdingen op de juiste manier aan te nemen. Yoga draagt bij aan je kracht\, flexibiliteit en stabiliteit en kan ook een grote stimulans zijn voor je mentale welzijn.  \nTarieven \n\n15 € / 1 les\n60 € / 5 les\n120 € / 10 les
URL:https://goujonissimo.be/nl/event/yoga-yengar-2/2025-02-03/
LOCATION:Gym
CATEGORIES:Sportive
ATTACH;FMTTYPE=image/jpeg:https://goujonissimo.be/wp-content/uploads/2024/04/yoga-yengar.jpg
END:VEVENT
BEGIN:VEVENT
DTSTART;TZID=Europe/Brussels:20250203T170000
DTEND;TZID=Europe/Brussels:20250203T180000
DTSTAMP:20260426T034344
CREATED:20240917T142340Z
LAST-MODIFIED:20260403T082527Z
UID:10006013-1738602000-1738605600@goujonissimo.be
SUMMARY:Samen lopen
DESCRIPTION:Wil je samen in groep lopen? \nKom en neem deel aan de gratis loopgroep die elke maandag om 17 uur plaatsvindt. \nVergeet niet in sportkleding te komen. \nVoor alle niveaus! \nOntmoetingsplaats: Goujonissimo
URL:https://goujonissimo.be/nl/event/samen-lopen-2/2025-02-03/
ATTACH;FMTTYPE=image/webp:https://goujonissimo.be/wp-content/uploads/2024/09/courir-e1726582766322.webp
END:VEVENT
BEGIN:VEVENT
DTSTART;TZID=Europe/Zurich:20250203T143000
DTEND;TZID=Europe/Zurich:20250203T150000
DTSTAMP:20260426T034344
CREATED:20240326T092426Z
LAST-MODIFIED:20250814T082939Z
UID:10008957-1738593000-1738594800@goujonissimo.be
SUMMARY:Zachte Gym
DESCRIPTION:Lokaal Dienstencentrum Cosmos biedt een “Zachte Gym” aan voor senioren in Goujonissimo. \nIn kleine groepen van 10 tot 15 personen beweeg je samen op muziek. Het is een activiteit die bedoeld is voor senioren of mensen die soms moeilijk tot bewegen komen.  \nOp maandag is de groep gemengd en sporten mannen en vrouwen samen.
URL:https://goujonissimo.be/nl/event/zachte-gym-2/2025-02-03/
LOCATION:Gym
CATEGORIES:Sportive
ATTACH;FMTTYPE=image/png:https://goujonissimo.be/wp-content/uploads/2024/03/gym-douce.png
END:VEVENT
BEGIN:VEVENT
DTSTART;TZID=Europe/Zurich:20250203T090000
DTEND;TZID=Europe/Zurich:20250203T123000
DTSTAMP:20260426T034344
CREATED:20251219T125925Z
LAST-MODIFIED:20251219T143210Z
UID:10011302-1738573200-1738585800@goujonissimo.be
SUMMARY:Gezond Koken
DESCRIPTION:Elke vierde donderdag van de maand organiseren Medikuregem en Goujonissimo samen een workshop gezond koken. Diëtiste Nacera zorgt voor gezonde ingrediënten en vertelt over gezonde voeding. Daarna gaat de groep deelnemers samen aan de slag om een maaltijd te bereiden en er ook samen lekker van te eten en te genieten.
URL:https://goujonissimo.be/nl/event/gezond-koken-2/2025-02-03/
LOCATION:Keuken
CATEGORIES:Convivial,Gezondheid
ATTACH;FMTTYPE=image/webp:https://goujonissimo.be/wp-content/uploads/2024/03/Goujonissimo_Activite-Cuisine-Saine.webp
END:VEVENT
BEGIN:VEVENT
DTSTART;TZID=Europe/Brussels:20250203T090000
DTEND;TZID=Europe/Brussels:20250203T120000
DTSTAMP:20260426T034344
CREATED:20241206T133625Z
LAST-MODIFIED:20260403T082419Z
UID:10006883-1738573200-1738584000@goujonissimo.be
SUMMARY:De handen in elkaar (creatieve activiteiten)
DESCRIPTION:Creatieve activiteiten elke maandag van 9.00 tot 12.00 \nNaaiatelier\, breien\, duurzame voeding\, museumbezoek… \nIn Goujonissimo
URL:https://goujonissimo.be/nl/event/de-handen-in-elkaar-creatieve-activiteiten/2025-02-03/
ATTACH;FMTTYPE=image/png:https://goujonissimo.be/wp-content/uploads/2024/12/image-1.png
END:VEVENT
BEGIN:VEVENT
DTSTART;TZID=Europe/Brussels:20250203T090000
DTEND;TZID=Europe/Brussels:20250203T110000
DTSTAMP:20260426T034344
CREATED:20251219T143124Z
LAST-MODIFIED:20251219T143125Z
UID:10011224-1738573200-1738580400@goujonissimo.be
SUMMARY:Ontbijt
DESCRIPTION:Goujonissimo organiseert elke eerste donderdag van de maand een ontbijt. Iedereen is welkom voor een gezellig samenzijn\, om elkaar te leren kennen en om collega’s van Goujonissimo te ontmoeten. \nBuurtbewoners mogen zelf iets lekkers meebrengen\, maar dit is zeker niet verplicht. \nIedereen is welkom!
URL:https://goujonissimo.be/nl/event/ontbijt-2/2025-02-03/
LOCATION:Gemeenschapszaal
ATTACH;FMTTYPE=image/webp:https://goujonissimo.be/wp-content/uploads/2024/03/Goujonissimo_Activite-petit-dej.webp
END:VEVENT
BEGIN:VEVENT
DTSTART;TZID=Europe/Brussels:20250130T140000
DTEND;TZID=Europe/Brussels:20250130T160000
DTSTAMP:20260426T034344
CREATED:20250103T170725Z
LAST-MODIFIED:20250103T172336Z
UID:10007247-1738245600-1738252800@goujonissimo.be
SUMMARY:Oproep tot participatie! De mobiele gezondheidskiosk
DESCRIPTION:VOOR WIE?\n\nVoor buurtbewoners en partners uit de wijk \n\nWAT?\n\nSamen een mobiele gezondheidskiosk ontwikkelen voor Kuregem en Biestebroek \n\nDOEL VAN HET PROJECT?\n\nGezondheidspromotie in de openbare ruimte aanbieden voor iedereen. \nHet aanbod van welzijns— en gezondheidsdiensten dichter bij de buurtbewoners brengen door zich mobiel in de wijk te bewegen. \nBevorderen van gezondheidsvaardigheden: fysiek\, mentaal en sociaal. \nToegankelij kheid voor iedereen\, met extra aandacht voor de meest kwetsbaren \nSociale cohesie stimuleren \n  \n–> Uitwisseling van ideeën 29 januari 2025 van 18.00 tot 20.00 en 30 januari van 14.00 tot 16.00 \n 
URL:https://goujonissimo.be/nl/event/oproep-tot-participatie-de-mobiele-gezondheidskiosk/2025-01-30/
ATTACH;FMTTYPE=image/png:https://goujonissimo.be/wp-content/uploads/2025/01/Capture-decran-2025-01-03-171227-e1735924028699.png
END:VEVENT
BEGIN:VEVENT
DTSTART;TZID=Europe/Zurich:20250130T090000
DTEND;TZID=Europe/Zurich:20250130T123000
DTSTAMP:20260426T034344
CREATED:20240524T132255Z
LAST-MODIFIED:20250523T113520Z
UID:10004944-1738227600-1738240200@goujonissimo.be
SUMMARY:Gezond Koken
DESCRIPTION:Elke vierde donderdag van de maand organiseren Medikuregem en Goujonissimo samen een workshop gezond koken. Diëtiste Nacera zorgt voor gezonde ingrediënten en vertelt over gezonde voeding. Daarna gaat de groep deelnemers samen aan de slag om een maaltijd te bereiden en er ook samen lekker van te eten en te genieten.
URL:https://goujonissimo.be/nl/event/gezond-koken/2025-01-30/
LOCATION:Keuken
CATEGORIES:Convivial,Gezondheid
ATTACH;FMTTYPE=image/webp:https://goujonissimo.be/wp-content/uploads/2024/03/Goujonissimo_Activite-Cuisine-Saine.webp
END:VEVENT
BEGIN:VEVENT
DTSTART;TZID=Europe/Brussels:20250129T180000
DTEND;TZID=Europe/Brussels:20250129T200000
DTSTAMP:20260426T034344
CREATED:20250103T170725Z
LAST-MODIFIED:20250103T172336Z
UID:10007246-1738173600-1738180800@goujonissimo.be
SUMMARY:Oproep tot participatie! De mobiele gezondheidskiosk
DESCRIPTION:VOOR WIE?\n\nVoor buurtbewoners en partners uit de wijk \n\nWAT?\n\nSamen een mobiele gezondheidskiosk ontwikkelen voor Kuregem en Biestebroek \n\nDOEL VAN HET PROJECT?\n\nGezondheidspromotie in de openbare ruimte aanbieden voor iedereen. \nHet aanbod van welzijns— en gezondheidsdiensten dichter bij de buurtbewoners brengen door zich mobiel in de wijk te bewegen. \nBevorderen van gezondheidsvaardigheden: fysiek\, mentaal en sociaal. \nToegankelij kheid voor iedereen\, met extra aandacht voor de meest kwetsbaren \nSociale cohesie stimuleren \n  \n–> Uitwisseling van ideeën 29 januari 2025 van 18.00 tot 20.00 en 30 januari van 14.00 tot 16.00 \n 
URL:https://goujonissimo.be/nl/event/oproep-tot-participatie-de-mobiele-gezondheidskiosk/2025-01-29/
ATTACH;FMTTYPE=image/png:https://goujonissimo.be/wp-content/uploads/2025/01/Capture-decran-2025-01-03-171227-e1735924028699.png
END:VEVENT
BEGIN:VEVENT
DTSTART;TZID=Europe/Brussels:20250129T100000
DTEND;TZID=Europe/Brussels:20250129T111500
DTSTAMP:20260426T034344
CREATED:20251219T114332Z
LAST-MODIFIED:20251219T143018Z
UID:10010898-1738144800-1738149300@goujonissimo.be
SUMMARY:Zachte gym vrouwen
DESCRIPTION:Lokaal Dienstencentrum Cosmos biedt een “Zachte Gym” aan voor senioren in Goujonissimo. \nIn kleine groepen van 10 tot 15 personen beweeg je samen op muziek. Het is een activiteit die bedoeld is voor senioren of mensen die soms moeilijk tot bewegen komen. \nOp donderdag is de activiteit alleen voor vrouwen. \nGroep 1: 10u – 10u30 en groep 2: 10u45 – 11u15
URL:https://goujonissimo.be/nl/event/zachte-gym-vrouwen-2/2025-01-29/
ATTACH;FMTTYPE=image/png:https://goujonissimo.be/wp-content/uploads/2024/03/gym-douce.png
END:VEVENT
BEGIN:VEVENT
DTSTART;TZID=Europe/Brussels:20250128T100000
DTEND;TZID=Europe/Brussels:20250128T120000
DTSTAMP:20260426T034344
CREATED:20250110T102625Z
LAST-MODIFIED:20250110T103243Z
UID:10007258-1738058400-1738065600@goujonissimo.be
SUMMARY:Hoe werkt ons gezondheidszorgsysteem?
DESCRIPTION:Voor wie? \niedereen \nWat kan je verwachten? \nWat is een mutualiteit? \nHoe en wanneer word ik lid? \n  \nTalen: FR\, NL en Arabisch \n 
URL:https://goujonissimo.be/nl/event/hoe-werkt-ons-gezondheidszorgsysteem/
ATTACH;FMTTYPE=image/png:https://goujonissimo.be/wp-content/uploads/2025/01/image-mutuelle.png
END:VEVENT
BEGIN:VEVENT
DTSTART;TZID=Europe/Zurich:20250128T093000
DTEND;TZID=Europe/Zurich:20250128T110000
DTSTAMP:20260426T034344
CREATED:20240405T084752Z
LAST-MODIFIED:20251020T161708Z
UID:10003815-1738056600-1738062000@goujonissimo.be
SUMMARY:Yoga Yengar
DESCRIPTION:Yogadocent Karin geeft twee keer per week Yengar Yoga in Goujonissimo. Dit is een actieve vorm van yoga\, waarbij je werkt met hulpmiddelen zoals blokken\, dekens en stoelen om je te helpen de verschillende houdingen op de juiste manier aan te nemen. Yoga draagt bij aan je kracht\, flexibiliteit en stabiliteit en kan ook een grote stimulans zijn voor je mentale welzijn.  \nTarieven \n\n15 € / 1 les\n60 € / 5 les\n120 € / 10 les
URL:https://goujonissimo.be/nl/event/yoga-yengar/2025-01-28/
LOCATION:Gym
CATEGORIES:Sportive
ATTACH;FMTTYPE=image/jpeg:https://goujonissimo.be/wp-content/uploads/2024/04/yoga-yengar.jpg
END:VEVENT
BEGIN:VEVENT
DTSTART;TZID=Europe/Zurich:20250127T183000
DTEND;TZID=Europe/Zurich:20250127T200000
DTSTAMP:20260426T034344
CREATED:20240326T092426Z
LAST-MODIFIED:20260403T082743Z
UID:10004078-1738002600-1738008000@goujonissimo.be
SUMMARY:Yoga Yengar
DESCRIPTION:Yogadocent Karin geeft twee keer per week Yengar Yoga in Goujonissimo. Dit is een actieve vorm van yoga\, waarbij je werkt met hulpmiddelen zoals blokken\, dekens en stoelen om je te helpen de verschillende houdingen op de juiste manier aan te nemen. Yoga draagt bij aan je kracht\, flexibiliteit en stabiliteit en kan ook een grote stimulans zijn voor je mentale welzijn.  \nTarieven \n\n15 € / 1 les\n60 € / 5 les\n120 € / 10 les
URL:https://goujonissimo.be/nl/event/yoga-yengar-2/2025-01-27/
LOCATION:Gym
CATEGORIES:Sportive
ATTACH;FMTTYPE=image/jpeg:https://goujonissimo.be/wp-content/uploads/2024/04/yoga-yengar.jpg
END:VEVENT
BEGIN:VEVENT
DTSTART;TZID=Europe/Brussels:20250127T170000
DTEND;TZID=Europe/Brussels:20250127T180000
DTSTAMP:20260426T034344
CREATED:20240917T142340Z
LAST-MODIFIED:20260403T082527Z
UID:10006012-1737997200-1738000800@goujonissimo.be
SUMMARY:Samen lopen
DESCRIPTION:Wil je samen in groep lopen? \nKom en neem deel aan de gratis loopgroep die elke maandag om 17 uur plaatsvindt. \nVergeet niet in sportkleding te komen. \nVoor alle niveaus! \nOntmoetingsplaats: Goujonissimo
URL:https://goujonissimo.be/nl/event/samen-lopen-2/2025-01-27/
ATTACH;FMTTYPE=image/webp:https://goujonissimo.be/wp-content/uploads/2024/09/courir-e1726582766322.webp
END:VEVENT
BEGIN:VEVENT
DTSTART;TZID=Europe/Zurich:20250127T143000
DTEND;TZID=Europe/Zurich:20250127T150000
DTSTAMP:20260426T034344
CREATED:20240326T092426Z
LAST-MODIFIED:20250814T082939Z
UID:10008956-1737988200-1737990000@goujonissimo.be
SUMMARY:Zachte Gym
DESCRIPTION:Lokaal Dienstencentrum Cosmos biedt een “Zachte Gym” aan voor senioren in Goujonissimo. \nIn kleine groepen van 10 tot 15 personen beweeg je samen op muziek. Het is een activiteit die bedoeld is voor senioren of mensen die soms moeilijk tot bewegen komen.  \nOp maandag is de groep gemengd en sporten mannen en vrouwen samen.
URL:https://goujonissimo.be/nl/event/zachte-gym-2/2025-01-27/
LOCATION:Gym
CATEGORIES:Sportive
ATTACH;FMTTYPE=image/png:https://goujonissimo.be/wp-content/uploads/2024/03/gym-douce.png
END:VEVENT
BEGIN:VEVENT
DTSTART;TZID=Europe/Brussels:20250127T090000
DTEND;TZID=Europe/Brussels:20250127T120000
DTSTAMP:20260426T034344
CREATED:20241206T133625Z
LAST-MODIFIED:20260403T082419Z
UID:10006882-1737968400-1737979200@goujonissimo.be
SUMMARY:De handen in elkaar (creatieve activiteiten)
DESCRIPTION:Creatieve activiteiten elke maandag van 9.00 tot 12.00 \nNaaiatelier\, breien\, duurzame voeding\, museumbezoek… \nIn Goujonissimo
URL:https://goujonissimo.be/nl/event/de-handen-in-elkaar-creatieve-activiteiten/2025-01-27/
ATTACH;FMTTYPE=image/png:https://goujonissimo.be/wp-content/uploads/2024/12/image-1.png
END:VEVENT
BEGIN:VEVENT
DTSTART;TZID=Europe/Brussels:20250123T160000
DTEND;TZID=Europe/Brussels:20250123T180000
DTSTAMP:20260426T034344
CREATED:20241031T114715Z
LAST-MODIFIED:20260327T105602Z
UID:10007260-1737648000-1737655200@goujonissimo.be
SUMMARY:Atelier Creo- zelfexpressie
DESCRIPTION:Twee keer per maand neemt kunstenares Joanna je mee in de wereld van de schilderkunst. Om de beurt (Atelier Creo – expressie)\, samen met onze psychologen (Amina en Anaïs)\, vind je daar ontspanning en een manier om jezelf uit te drukken via verschillende vormen van kunst. De andere keer (Atelier Creo – cursus) deelt Joanna haar technische kennis met je en leert ze je tekenen als een professional ;)! De sessies zijn bedoeld voor volwassenen\, en iedereen is welkom – ongeacht taal of talent.
URL:https://goujonissimo.be/nl/event/workshop-zelfexpressie-verf/2025-01-23/
ATTACH;FMTTYPE=image/jpeg:https://goujonissimo.be/wp-content/uploads/2024/10/atelier-peinture.jpg
END:VEVENT
BEGIN:VEVENT
DTSTART;TZID=Europe/Brussels:20250122T100000
DTEND;TZID=Europe/Brussels:20250122T111500
DTSTAMP:20260426T034344
CREATED:20251219T114332Z
LAST-MODIFIED:20251219T143018Z
UID:10010897-1737540000-1737544500@goujonissimo.be
SUMMARY:Zachte gym vrouwen
DESCRIPTION:Lokaal Dienstencentrum Cosmos biedt een “Zachte Gym” aan voor senioren in Goujonissimo. \nIn kleine groepen van 10 tot 15 personen beweeg je samen op muziek. Het is een activiteit die bedoeld is voor senioren of mensen die soms moeilijk tot bewegen komen. \nOp donderdag is de activiteit alleen voor vrouwen. \nGroep 1: 10u – 10u30 en groep 2: 10u45 – 11u15
URL:https://goujonissimo.be/nl/event/zachte-gym-vrouwen-2/2025-01-22/
ATTACH;FMTTYPE=image/png:https://goujonissimo.be/wp-content/uploads/2024/03/gym-douce.png
END:VEVENT
BEGIN:VEVENT
DTSTART;TZID=Europe/Zurich:20250121T093000
DTEND;TZID=Europe/Zurich:20250121T110000
DTSTAMP:20260426T034344
CREATED:20240405T084752Z
LAST-MODIFIED:20251020T161708Z
UID:10003814-1737451800-1737457200@goujonissimo.be
SUMMARY:Yoga Yengar
DESCRIPTION:Yogadocent Karin geeft twee keer per week Yengar Yoga in Goujonissimo. Dit is een actieve vorm van yoga\, waarbij je werkt met hulpmiddelen zoals blokken\, dekens en stoelen om je te helpen de verschillende houdingen op de juiste manier aan te nemen. Yoga draagt bij aan je kracht\, flexibiliteit en stabiliteit en kan ook een grote stimulans zijn voor je mentale welzijn.  \nTarieven \n\n15 € / 1 les\n60 € / 5 les\n120 € / 10 les
URL:https://goujonissimo.be/nl/event/yoga-yengar/2025-01-21/
LOCATION:Gym
CATEGORIES:Sportive
ATTACH;FMTTYPE=image/jpeg:https://goujonissimo.be/wp-content/uploads/2024/04/yoga-yengar.jpg
END:VEVENT
BEGIN:VEVENT
DTSTART;TZID=Europe/Zurich:20250120T183000
DTEND;TZID=Europe/Zurich:20250120T200000
DTSTAMP:20260426T034344
CREATED:20240326T092426Z
LAST-MODIFIED:20260403T082743Z
UID:10004077-1737397800-1737403200@goujonissimo.be
SUMMARY:Yoga Yengar
DESCRIPTION:Yogadocent Karin geeft twee keer per week Yengar Yoga in Goujonissimo. Dit is een actieve vorm van yoga\, waarbij je werkt met hulpmiddelen zoals blokken\, dekens en stoelen om je te helpen de verschillende houdingen op de juiste manier aan te nemen. Yoga draagt bij aan je kracht\, flexibiliteit en stabiliteit en kan ook een grote stimulans zijn voor je mentale welzijn.  \nTarieven \n\n15 € / 1 les\n60 € / 5 les\n120 € / 10 les
URL:https://goujonissimo.be/nl/event/yoga-yengar-2/2025-01-20/
LOCATION:Gym
CATEGORIES:Sportive
ATTACH;FMTTYPE=image/jpeg:https://goujonissimo.be/wp-content/uploads/2024/04/yoga-yengar.jpg
END:VEVENT
BEGIN:VEVENT
DTSTART;TZID=Europe/Brussels:20250120T170000
DTEND;TZID=Europe/Brussels:20250120T180000
DTSTAMP:20260426T034344
CREATED:20240917T142340Z
LAST-MODIFIED:20260403T082527Z
UID:10006011-1737392400-1737396000@goujonissimo.be
SUMMARY:Samen lopen
DESCRIPTION:Wil je samen in groep lopen? \nKom en neem deel aan de gratis loopgroep die elke maandag om 17 uur plaatsvindt. \nVergeet niet in sportkleding te komen. \nVoor alle niveaus! \nOntmoetingsplaats: Goujonissimo
URL:https://goujonissimo.be/nl/event/samen-lopen-2/2025-01-20/
ATTACH;FMTTYPE=image/webp:https://goujonissimo.be/wp-content/uploads/2024/09/courir-e1726582766322.webp
END:VEVENT
BEGIN:VEVENT
DTSTART;TZID=Europe/Zurich:20250120T143000
DTEND;TZID=Europe/Zurich:20250120T150000
DTSTAMP:20260426T034344
CREATED:20240326T092426Z
LAST-MODIFIED:20250814T082939Z
UID:10008955-1737383400-1737385200@goujonissimo.be
SUMMARY:Zachte Gym
DESCRIPTION:Lokaal Dienstencentrum Cosmos biedt een “Zachte Gym” aan voor senioren in Goujonissimo. \nIn kleine groepen van 10 tot 15 personen beweeg je samen op muziek. Het is een activiteit die bedoeld is voor senioren of mensen die soms moeilijk tot bewegen komen.  \nOp maandag is de groep gemengd en sporten mannen en vrouwen samen.
URL:https://goujonissimo.be/nl/event/zachte-gym-2/2025-01-20/
LOCATION:Gym
CATEGORIES:Sportive
ATTACH;FMTTYPE=image/png:https://goujonissimo.be/wp-content/uploads/2024/03/gym-douce.png
END:VEVENT
BEGIN:VEVENT
DTSTART;TZID=Europe/Brussels:20250120T090000
DTEND;TZID=Europe/Brussels:20250120T120000
DTSTAMP:20260426T034344
CREATED:20241206T133625Z
LAST-MODIFIED:20260403T082419Z
UID:10006881-1737363600-1737374400@goujonissimo.be
SUMMARY:De handen in elkaar (creatieve activiteiten)
DESCRIPTION:Creatieve activiteiten elke maandag van 9.00 tot 12.00 \nNaaiatelier\, breien\, duurzame voeding\, museumbezoek… \nIn Goujonissimo
URL:https://goujonissimo.be/nl/event/de-handen-in-elkaar-creatieve-activiteiten/2025-01-20/
ATTACH;FMTTYPE=image/png:https://goujonissimo.be/wp-content/uploads/2024/12/image-1.png
END:VEVENT
BEGIN:VEVENT
DTSTART;TZID=Europe/Brussels:20250116T160000
DTEND;TZID=Europe/Brussels:20250116T180000
DTSTAMP:20260426T034344
CREATED:20241031T114715Z
LAST-MODIFIED:20260327T105602Z
UID:10006503-1737043200-1737050400@goujonissimo.be
SUMMARY:Atelier Creo- zelfexpressie
DESCRIPTION:Twee keer per maand neemt kunstenares Joanna je mee in de wereld van de schilderkunst. Om de beurt (Atelier Creo – expressie)\, samen met onze psychologen (Amina en Anaïs)\, vind je daar ontspanning en een manier om jezelf uit te drukken via verschillende vormen van kunst. De andere keer (Atelier Creo – cursus) deelt Joanna haar technische kennis met je en leert ze je tekenen als een professional ;)! De sessies zijn bedoeld voor volwassenen\, en iedereen is welkom – ongeacht taal of talent.
URL:https://goujonissimo.be/nl/event/workshop-zelfexpressie-verf/2025-01-16/
ATTACH;FMTTYPE=image/jpeg:https://goujonissimo.be/wp-content/uploads/2024/10/atelier-peinture.jpg
END:VEVENT
BEGIN:VEVENT
DTSTART;TZID=Europe/Brussels:20250116T090000
DTEND;TZID=Europe/Brussels:20250116T130000
DTSTAMP:20260426T034344
CREATED:20241004T125955Z
LAST-MODIFIED:20260403T095659Z
UID:10007252-1737018000-1737032400@goujonissimo.be
SUMMARY:Wereldkeuken
DESCRIPTION:Op reis door verschillende smaken: ontdek de lekkernijen van de wereld! \nElke maand koken we samen en ontdekken verschillenden gerechten van over de hele wereld. \n\nElke tweede donderdag van de maand\nVan 9.00 tot 13.00
URL:https://goujonissimo.be/nl/event/wereldkeuken/2025-01-16/
ATTACH;FMTTYPE=image/jpeg:https://goujonissimo.be/wp-content/uploads/2024/10/gastronomie-monde-carte.jpg
END:VEVENT
BEGIN:VEVENT
DTSTART;TZID=Europe/Brussels:20250115T100000
DTEND;TZID=Europe/Brussels:20250115T111500
DTSTAMP:20260426T034344
CREATED:20251219T114332Z
LAST-MODIFIED:20251219T143018Z
UID:10010896-1736935200-1736939700@goujonissimo.be
SUMMARY:Zachte gym vrouwen
DESCRIPTION:Lokaal Dienstencentrum Cosmos biedt een “Zachte Gym” aan voor senioren in Goujonissimo. \nIn kleine groepen van 10 tot 15 personen beweeg je samen op muziek. Het is een activiteit die bedoeld is voor senioren of mensen die soms moeilijk tot bewegen komen. \nOp donderdag is de activiteit alleen voor vrouwen. \nGroep 1: 10u – 10u30 en groep 2: 10u45 – 11u15
URL:https://goujonissimo.be/nl/event/zachte-gym-vrouwen-2/2025-01-15/
ATTACH;FMTTYPE=image/png:https://goujonissimo.be/wp-content/uploads/2024/03/gym-douce.png
END:VEVENT
BEGIN:VEVENT
DTSTART;TZID=Europe/Zurich:20250114T093000
DTEND;TZID=Europe/Zurich:20250114T110000
DTSTAMP:20260426T034344
CREATED:20240405T084752Z
LAST-MODIFIED:20251020T161708Z
UID:10003813-1736847000-1736852400@goujonissimo.be
SUMMARY:Yoga Yengar
DESCRIPTION:Yogadocent Karin geeft twee keer per week Yengar Yoga in Goujonissimo. Dit is een actieve vorm van yoga\, waarbij je werkt met hulpmiddelen zoals blokken\, dekens en stoelen om je te helpen de verschillende houdingen op de juiste manier aan te nemen. Yoga draagt bij aan je kracht\, flexibiliteit en stabiliteit en kan ook een grote stimulans zijn voor je mentale welzijn.  \nTarieven \n\n15 € / 1 les\n60 € / 5 les\n120 € / 10 les
URL:https://goujonissimo.be/nl/event/yoga-yengar/2025-01-14/
LOCATION:Gym
CATEGORIES:Sportive
ATTACH;FMTTYPE=image/jpeg:https://goujonissimo.be/wp-content/uploads/2024/04/yoga-yengar.jpg
END:VEVENT
BEGIN:VEVENT
DTSTART;TZID=Europe/Zurich:20250113T183000
DTEND;TZID=Europe/Zurich:20250113T200000
DTSTAMP:20260426T034344
CREATED:20240326T092426Z
LAST-MODIFIED:20260403T082743Z
UID:10004076-1736793000-1736798400@goujonissimo.be
SUMMARY:Yoga Yengar
DESCRIPTION:Yogadocent Karin geeft twee keer per week Yengar Yoga in Goujonissimo. Dit is een actieve vorm van yoga\, waarbij je werkt met hulpmiddelen zoals blokken\, dekens en stoelen om je te helpen de verschillende houdingen op de juiste manier aan te nemen. Yoga draagt bij aan je kracht\, flexibiliteit en stabiliteit en kan ook een grote stimulans zijn voor je mentale welzijn.  \nTarieven \n\n15 € / 1 les\n60 € / 5 les\n120 € / 10 les
URL:https://goujonissimo.be/nl/event/yoga-yengar-2/2025-01-13/
LOCATION:Gym
CATEGORIES:Sportive
ATTACH;FMTTYPE=image/jpeg:https://goujonissimo.be/wp-content/uploads/2024/04/yoga-yengar.jpg
END:VEVENT
END:VCALENDAR