BEGIN:VCALENDAR
VERSION:2.0
PRODID:-//Goujonissimo - ECPv6.15.16//NONSGML v1.0//EN
CALSCALE:GREGORIAN
METHOD:PUBLISH
X-WR-CALNAME:Goujonissimo
X-ORIGINAL-URL:https://goujonissimo.be/nl/
X-WR-CALDESC:Evenementen voor Goujonissimo
REFRESH-INTERVAL;VALUE=DURATION:PT1H
X-Robots-Tag:noindex
X-PUBLISHED-TTL:PT1H
BEGIN:VTIMEZONE
TZID:Europe/Brussels
BEGIN:DAYLIGHT
TZOFFSETFROM:+0100
TZOFFSETTO:+0200
TZNAME:CEST
DTSTART:20260329T010000
END:DAYLIGHT
BEGIN:STANDARD
TZOFFSETFROM:+0200
TZOFFSETTO:+0100
TZNAME:CET
DTSTART:20261025T010000
END:STANDARD
BEGIN:DAYLIGHT
TZOFFSETFROM:+0100
TZOFFSETTO:+0200
TZNAME:CEST
DTSTART:20270328T010000
END:DAYLIGHT
BEGIN:STANDARD
TZOFFSETFROM:+0200
TZOFFSETTO:+0100
TZNAME:CET
DTSTART:20271031T010000
END:STANDARD
BEGIN:DAYLIGHT
TZOFFSETFROM:+0100
TZOFFSETTO:+0200
TZNAME:CEST
DTSTART:20280326T010000
END:DAYLIGHT
BEGIN:STANDARD
TZOFFSETFROM:+0200
TZOFFSETTO:+0100
TZNAME:CET
DTSTART:20281029T010000
END:STANDARD
END:VTIMEZONE
BEGIN:VTIMEZONE
TZID:Europe/Zurich
BEGIN:DAYLIGHT
TZOFFSETFROM:+0100
TZOFFSETTO:+0200
TZNAME:CEST
DTSTART:20260329T010000
END:DAYLIGHT
BEGIN:STANDARD
TZOFFSETFROM:+0200
TZOFFSETTO:+0100
TZNAME:CET
DTSTART:20261025T010000
END:STANDARD
BEGIN:DAYLIGHT
TZOFFSETFROM:+0100
TZOFFSETTO:+0200
TZNAME:CEST
DTSTART:20270328T010000
END:DAYLIGHT
BEGIN:STANDARD
TZOFFSETFROM:+0200
TZOFFSETTO:+0100
TZNAME:CET
DTSTART:20271031T010000
END:STANDARD
BEGIN:DAYLIGHT
TZOFFSETFROM:+0100
TZOFFSETTO:+0200
TZNAME:CEST
DTSTART:20280326T010000
END:DAYLIGHT
BEGIN:STANDARD
TZOFFSETFROM:+0200
TZOFFSETTO:+0100
TZNAME:CET
DTSTART:20281029T010000
END:STANDARD
END:VTIMEZONE
BEGIN:VEVENT
DTSTART;TZID=Europe/Brussels:20270714T100000
DTEND;TZID=Europe/Brussels:20270714T110000
DTSTAMP:20260425T123731
CREATED:20260227T084441Z
LAST-MODIFIED:20260227T090940Z
UID:10013142-1815559200-1815562800@goujonissimo.be
SUMMARY:Zachte gym vrouwen
DESCRIPTION:Lokaal Dienstencentrum Cosmos biedt een “Zachte Gym” aan voor senioren in Goujonissimo. \nIn kleine groepen van 10 tot 15 personen beweeg je samen op muziek. Het is een activiteit die bedoeld is voor senioren of mensen die soms moeilijk tot bewegen komen. \nOp woensdag is de activiteit alleen voor vrouwen. \n 
URL:https://goujonissimo.be/nl/event/zachte-gym-vrouwen-2-2-3/2027-07-14/
ATTACH;FMTTYPE=image/png:https://goujonissimo.be/wp-content/uploads/2024/03/gym-douce.png
END:VEVENT
BEGIN:VEVENT
DTSTART;TZID=Europe/Brussels:20270714T103000
DTEND;TZID=Europe/Brussels:20270714T120000
DTSTAMP:20260425T123731
CREATED:20240829T075633Z
LAST-MODIFIED:20260109T073805Z
UID:10009508-1815561000-1815566400@goujonissimo.be
SUMMARY:Op weg naar ontspanning
DESCRIPTION:Ontdek manieren om je te relaxeren: \n\nademhalings- en meditatieoefeningen\nmindful wandelen\nmeditatief tekenen\ngeluidsimmersie\n\nIn Goujonissimo
URL:https://goujonissimo.be/nl/event/op-weg-naar-ontspanning/2027-07-14/
LOCATION:Gym
CATEGORIES:Gezondheid,Mental Zorg
ATTACH;FMTTYPE=image/webp:https://goujonissimo.be/wp-content/uploads/2024/05/abdominal-breathing-african-woman-practicing-belly-relaxation-breath-awareness-yoga-exercise-meditation-body-mind-emotions-226379546.webp
END:VEVENT
BEGIN:VEVENT
DTSTART;TZID=Europe/Brussels:20270716T100000
DTEND;TZID=Europe/Brussels:20270716T110000
DTSTAMP:20260425T123731
CREATED:20250411T114609Z
LAST-MODIFIED:20260213T101005Z
UID:10007737-1815732000-1815735600@goujonissimo.be
SUMMARY:Werelddans
DESCRIPTION:Wil je boeiende ritmes en fascinerende culturen ontdekken? \nSluit je elke vrijdag bij ons aan voor een nieuwe dans! \nIn Goujonissimo
URL:https://goujonissimo.be/nl/event/werelddans/2027-07-16/
ATTACH;FMTTYPE=image/jpeg:https://goujonissimo.be/wp-content/uploads/2025/04/danse-femme.jpg
END:VEVENT
BEGIN:VEVENT
DTSTART;TZID=Europe/Brussels:20270719T090000
DTEND;TZID=Europe/Brussels:20270719T120000
DTSTAMP:20260425T123731
CREATED:20241206T133625Z
LAST-MODIFIED:20260403T082419Z
UID:10007011-1815987600-1815998400@goujonissimo.be
SUMMARY:De handen in elkaar (creatieve activiteiten)
DESCRIPTION:Creatieve activiteiten elke maandag van 9.00 tot 12.00 \nNaaiatelier\, breien\, duurzame voeding\, museumbezoek… \nIn Goujonissimo
URL:https://goujonissimo.be/nl/event/de-handen-in-elkaar-creatieve-activiteiten/2027-07-19/
ATTACH;FMTTYPE=image/png:https://goujonissimo.be/wp-content/uploads/2024/12/image-1.png
END:VEVENT
BEGIN:VEVENT
DTSTART;TZID=Europe/Zurich:20270719T143000
DTEND;TZID=Europe/Zurich:20270719T150000
DTSTAMP:20260425T123731
CREATED:20240326T092426Z
LAST-MODIFIED:20250814T082939Z
UID:10009085-1816007400-1816009200@goujonissimo.be
SUMMARY:Zachte Gym
DESCRIPTION:Lokaal Dienstencentrum Cosmos biedt een “Zachte Gym” aan voor senioren in Goujonissimo. \nIn kleine groepen van 10 tot 15 personen beweeg je samen op muziek. Het is een activiteit die bedoeld is voor senioren of mensen die soms moeilijk tot bewegen komen.  \nOp maandag is de groep gemengd en sporten mannen en vrouwen samen.
URL:https://goujonissimo.be/nl/event/zachte-gym-2/2027-07-19/
LOCATION:Gym
CATEGORIES:Sportive
ATTACH;FMTTYPE=image/png:https://goujonissimo.be/wp-content/uploads/2024/03/gym-douce.png
END:VEVENT
BEGIN:VEVENT
DTSTART;TZID=Europe/Brussels:20270719T170000
DTEND;TZID=Europe/Brussels:20270719T180000
DTSTAMP:20260425T123731
CREATED:20240917T142340Z
LAST-MODIFIED:20260403T082527Z
UID:10006141-1816016400-1816020000@goujonissimo.be
SUMMARY:Samen lopen
DESCRIPTION:Wil je samen in groep lopen? \nKom en neem deel aan de gratis loopgroep die elke maandag om 17 uur plaatsvindt. \nVergeet niet in sportkleding te komen. \nVoor alle niveaus! \nOntmoetingsplaats: Goujonissimo
URL:https://goujonissimo.be/nl/event/samen-lopen-2/2027-07-19/
ATTACH;FMTTYPE=image/webp:https://goujonissimo.be/wp-content/uploads/2024/09/courir-e1726582766322.webp
END:VEVENT
BEGIN:VEVENT
DTSTART;TZID=Europe/Zurich:20270719T183000
DTEND;TZID=Europe/Zurich:20270719T200000
DTSTAMP:20260425T123731
CREATED:20240326T092426Z
LAST-MODIFIED:20260403T082743Z
UID:10004207-1816021800-1816027200@goujonissimo.be
SUMMARY:Yoga Yengar
DESCRIPTION:Yogadocent Karin geeft twee keer per week Yengar Yoga in Goujonissimo. Dit is een actieve vorm van yoga\, waarbij je werkt met hulpmiddelen zoals blokken\, dekens en stoelen om je te helpen de verschillende houdingen op de juiste manier aan te nemen. Yoga draagt bij aan je kracht\, flexibiliteit en stabiliteit en kan ook een grote stimulans zijn voor je mentale welzijn.  \nTarieven \n\n15 € / 1 les\n60 € / 5 les\n120 € / 10 les
URL:https://goujonissimo.be/nl/event/yoga-yengar-2/2027-07-19/
LOCATION:Gym
CATEGORIES:Sportive
ATTACH;FMTTYPE=image/jpeg:https://goujonissimo.be/wp-content/uploads/2024/04/yoga-yengar.jpg
END:VEVENT
BEGIN:VEVENT
DTSTART;TZID=Europe/Zurich:20270720T093000
DTEND;TZID=Europe/Zurich:20270720T110000
DTSTAMP:20260425T123731
CREATED:20240405T084752Z
LAST-MODIFIED:20251020T161708Z
UID:10003944-1816075800-1816081200@goujonissimo.be
SUMMARY:Yoga Yengar
DESCRIPTION:Yogadocent Karin geeft twee keer per week Yengar Yoga in Goujonissimo. Dit is een actieve vorm van yoga\, waarbij je werkt met hulpmiddelen zoals blokken\, dekens en stoelen om je te helpen de verschillende houdingen op de juiste manier aan te nemen. Yoga draagt bij aan je kracht\, flexibiliteit en stabiliteit en kan ook een grote stimulans zijn voor je mentale welzijn.  \nTarieven \n\n15 € / 1 les\n60 € / 5 les\n120 € / 10 les
URL:https://goujonissimo.be/nl/event/yoga-yengar/2027-07-20/
LOCATION:Gym
CATEGORIES:Sportive
ATTACH;FMTTYPE=image/jpeg:https://goujonissimo.be/wp-content/uploads/2024/04/yoga-yengar.jpg
END:VEVENT
BEGIN:VEVENT
DTSTART;TZID=Europe/Brussels:20270721T100000
DTEND;TZID=Europe/Brussels:20270721T110000
DTSTAMP:20260425T123731
CREATED:20260227T084441Z
LAST-MODIFIED:20260227T090940Z
UID:10013143-1816164000-1816167600@goujonissimo.be
SUMMARY:Zachte gym vrouwen
DESCRIPTION:Lokaal Dienstencentrum Cosmos biedt een “Zachte Gym” aan voor senioren in Goujonissimo. \nIn kleine groepen van 10 tot 15 personen beweeg je samen op muziek. Het is een activiteit die bedoeld is voor senioren of mensen die soms moeilijk tot bewegen komen. \nOp woensdag is de activiteit alleen voor vrouwen. \n 
URL:https://goujonissimo.be/nl/event/zachte-gym-vrouwen-2-2-3/2027-07-21/
ATTACH;FMTTYPE=image/png:https://goujonissimo.be/wp-content/uploads/2024/03/gym-douce.png
END:VEVENT
BEGIN:VEVENT
DTSTART;TZID=Europe/Brussels:20270723T100000
DTEND;TZID=Europe/Brussels:20270723T110000
DTSTAMP:20260425T123731
CREATED:20250411T114609Z
LAST-MODIFIED:20260213T101005Z
UID:10007738-1816336800-1816340400@goujonissimo.be
SUMMARY:Werelddans
DESCRIPTION:Wil je boeiende ritmes en fascinerende culturen ontdekken? \nSluit je elke vrijdag bij ons aan voor een nieuwe dans! \nIn Goujonissimo
URL:https://goujonissimo.be/nl/event/werelddans/2027-07-23/
ATTACH;FMTTYPE=image/jpeg:https://goujonissimo.be/wp-content/uploads/2025/04/danse-femme.jpg
END:VEVENT
BEGIN:VEVENT
DTSTART;TZID=Europe/Brussels:20270726T090000
DTEND;TZID=Europe/Brussels:20270726T120000
DTSTAMP:20260425T123731
CREATED:20241206T133625Z
LAST-MODIFIED:20260403T082419Z
UID:10007012-1816592400-1816603200@goujonissimo.be
SUMMARY:De handen in elkaar (creatieve activiteiten)
DESCRIPTION:Creatieve activiteiten elke maandag van 9.00 tot 12.00 \nNaaiatelier\, breien\, duurzame voeding\, museumbezoek… \nIn Goujonissimo
URL:https://goujonissimo.be/nl/event/de-handen-in-elkaar-creatieve-activiteiten/2027-07-26/
ATTACH;FMTTYPE=image/png:https://goujonissimo.be/wp-content/uploads/2024/12/image-1.png
END:VEVENT
BEGIN:VEVENT
DTSTART;TZID=Europe/Zurich:20270726T143000
DTEND;TZID=Europe/Zurich:20270726T150000
DTSTAMP:20260425T123731
CREATED:20240326T092426Z
LAST-MODIFIED:20250814T082939Z
UID:10009086-1816612200-1816614000@goujonissimo.be
SUMMARY:Zachte Gym
DESCRIPTION:Lokaal Dienstencentrum Cosmos biedt een “Zachte Gym” aan voor senioren in Goujonissimo. \nIn kleine groepen van 10 tot 15 personen beweeg je samen op muziek. Het is een activiteit die bedoeld is voor senioren of mensen die soms moeilijk tot bewegen komen.  \nOp maandag is de groep gemengd en sporten mannen en vrouwen samen.
URL:https://goujonissimo.be/nl/event/zachte-gym-2/2027-07-26/
LOCATION:Gym
CATEGORIES:Sportive
ATTACH;FMTTYPE=image/png:https://goujonissimo.be/wp-content/uploads/2024/03/gym-douce.png
END:VEVENT
BEGIN:VEVENT
DTSTART;TZID=Europe/Brussels:20270726T170000
DTEND;TZID=Europe/Brussels:20270726T180000
DTSTAMP:20260425T123731
CREATED:20240917T142340Z
LAST-MODIFIED:20260403T082527Z
UID:10006142-1816621200-1816624800@goujonissimo.be
SUMMARY:Samen lopen
DESCRIPTION:Wil je samen in groep lopen? \nKom en neem deel aan de gratis loopgroep die elke maandag om 17 uur plaatsvindt. \nVergeet niet in sportkleding te komen. \nVoor alle niveaus! \nOntmoetingsplaats: Goujonissimo
URL:https://goujonissimo.be/nl/event/samen-lopen-2/2027-07-26/
ATTACH;FMTTYPE=image/webp:https://goujonissimo.be/wp-content/uploads/2024/09/courir-e1726582766322.webp
END:VEVENT
BEGIN:VEVENT
DTSTART;TZID=Europe/Zurich:20270726T183000
DTEND;TZID=Europe/Zurich:20270726T200000
DTSTAMP:20260425T123731
CREATED:20240326T092426Z
LAST-MODIFIED:20260403T082743Z
UID:10004208-1816626600-1816632000@goujonissimo.be
SUMMARY:Yoga Yengar
DESCRIPTION:Yogadocent Karin geeft twee keer per week Yengar Yoga in Goujonissimo. Dit is een actieve vorm van yoga\, waarbij je werkt met hulpmiddelen zoals blokken\, dekens en stoelen om je te helpen de verschillende houdingen op de juiste manier aan te nemen. Yoga draagt bij aan je kracht\, flexibiliteit en stabiliteit en kan ook een grote stimulans zijn voor je mentale welzijn.  \nTarieven \n\n15 € / 1 les\n60 € / 5 les\n120 € / 10 les
URL:https://goujonissimo.be/nl/event/yoga-yengar-2/2027-07-26/
LOCATION:Gym
CATEGORIES:Sportive
ATTACH;FMTTYPE=image/jpeg:https://goujonissimo.be/wp-content/uploads/2024/04/yoga-yengar.jpg
END:VEVENT
BEGIN:VEVENT
DTSTART;TZID=Europe/Zurich:20270727T093000
DTEND;TZID=Europe/Zurich:20270727T110000
DTSTAMP:20260425T123731
CREATED:20240405T084752Z
LAST-MODIFIED:20251020T161708Z
UID:10003945-1816680600-1816686000@goujonissimo.be
SUMMARY:Yoga Yengar
DESCRIPTION:Yogadocent Karin geeft twee keer per week Yengar Yoga in Goujonissimo. Dit is een actieve vorm van yoga\, waarbij je werkt met hulpmiddelen zoals blokken\, dekens en stoelen om je te helpen de verschillende houdingen op de juiste manier aan te nemen. Yoga draagt bij aan je kracht\, flexibiliteit en stabiliteit en kan ook een grote stimulans zijn voor je mentale welzijn.  \nTarieven \n\n15 € / 1 les\n60 € / 5 les\n120 € / 10 les
URL:https://goujonissimo.be/nl/event/yoga-yengar/2027-07-27/
LOCATION:Gym
CATEGORIES:Sportive
ATTACH;FMTTYPE=image/jpeg:https://goujonissimo.be/wp-content/uploads/2024/04/yoga-yengar.jpg
END:VEVENT
BEGIN:VEVENT
DTSTART;TZID=Europe/Brussels:20270728T100000
DTEND;TZID=Europe/Brussels:20270728T110000
DTSTAMP:20260425T123731
CREATED:20260227T084441Z
LAST-MODIFIED:20260227T090940Z
UID:10013144-1816768800-1816772400@goujonissimo.be
SUMMARY:Zachte gym vrouwen
DESCRIPTION:Lokaal Dienstencentrum Cosmos biedt een “Zachte Gym” aan voor senioren in Goujonissimo. \nIn kleine groepen van 10 tot 15 personen beweeg je samen op muziek. Het is een activiteit die bedoeld is voor senioren of mensen die soms moeilijk tot bewegen komen. \nOp woensdag is de activiteit alleen voor vrouwen. \n 
URL:https://goujonissimo.be/nl/event/zachte-gym-vrouwen-2-2-3/2027-07-28/
ATTACH;FMTTYPE=image/png:https://goujonissimo.be/wp-content/uploads/2024/03/gym-douce.png
END:VEVENT
BEGIN:VEVENT
DTSTART;TZID=Europe/Brussels:20270728T103000
DTEND;TZID=Europe/Brussels:20270728T120000
DTSTAMP:20260425T123731
CREATED:20240829T075633Z
LAST-MODIFIED:20260109T073805Z
UID:10009509-1816770600-1816776000@goujonissimo.be
SUMMARY:Op weg naar ontspanning
DESCRIPTION:Ontdek manieren om je te relaxeren: \n\nademhalings- en meditatieoefeningen\nmindful wandelen\nmeditatief tekenen\ngeluidsimmersie\n\nIn Goujonissimo
URL:https://goujonissimo.be/nl/event/op-weg-naar-ontspanning/2027-07-28/
LOCATION:Gym
CATEGORIES:Gezondheid,Mental Zorg
ATTACH;FMTTYPE=image/webp:https://goujonissimo.be/wp-content/uploads/2024/05/abdominal-breathing-african-woman-practicing-belly-relaxation-breath-awareness-yoga-exercise-meditation-body-mind-emotions-226379546.webp
END:VEVENT
BEGIN:VEVENT
DTSTART;TZID=Europe/Brussels:20270730T100000
DTEND;TZID=Europe/Brussels:20270730T110000
DTSTAMP:20260425T123731
CREATED:20250411T114609Z
LAST-MODIFIED:20260213T101005Z
UID:10007739-1816941600-1816945200@goujonissimo.be
SUMMARY:Werelddans
DESCRIPTION:Wil je boeiende ritmes en fascinerende culturen ontdekken? \nSluit je elke vrijdag bij ons aan voor een nieuwe dans! \nIn Goujonissimo
URL:https://goujonissimo.be/nl/event/werelddans/2027-07-30/
ATTACH;FMTTYPE=image/jpeg:https://goujonissimo.be/wp-content/uploads/2025/04/danse-femme.jpg
END:VEVENT
BEGIN:VEVENT
DTSTART;TZID=Europe/Brussels:20270802T090000
DTEND;TZID=Europe/Brussels:20270802T120000
DTSTAMP:20260425T123731
CREATED:20241206T133625Z
LAST-MODIFIED:20260403T082419Z
UID:10007013-1817197200-1817208000@goujonissimo.be
SUMMARY:De handen in elkaar (creatieve activiteiten)
DESCRIPTION:Creatieve activiteiten elke maandag van 9.00 tot 12.00 \nNaaiatelier\, breien\, duurzame voeding\, museumbezoek… \nIn Goujonissimo
URL:https://goujonissimo.be/nl/event/de-handen-in-elkaar-creatieve-activiteiten/2027-08-02/
ATTACH;FMTTYPE=image/png:https://goujonissimo.be/wp-content/uploads/2024/12/image-1.png
END:VEVENT
BEGIN:VEVENT
DTSTART;TZID=Europe/Zurich:20270802T143000
DTEND;TZID=Europe/Zurich:20270802T150000
DTSTAMP:20260425T123731
CREATED:20240326T092426Z
LAST-MODIFIED:20250814T082939Z
UID:10009087-1817217000-1817218800@goujonissimo.be
SUMMARY:Zachte Gym
DESCRIPTION:Lokaal Dienstencentrum Cosmos biedt een “Zachte Gym” aan voor senioren in Goujonissimo. \nIn kleine groepen van 10 tot 15 personen beweeg je samen op muziek. Het is een activiteit die bedoeld is voor senioren of mensen die soms moeilijk tot bewegen komen.  \nOp maandag is de groep gemengd en sporten mannen en vrouwen samen.
URL:https://goujonissimo.be/nl/event/zachte-gym-2/2027-08-02/
LOCATION:Gym
CATEGORIES:Sportive
ATTACH;FMTTYPE=image/png:https://goujonissimo.be/wp-content/uploads/2024/03/gym-douce.png
END:VEVENT
BEGIN:VEVENT
DTSTART;TZID=Europe/Brussels:20270802T170000
DTEND;TZID=Europe/Brussels:20270802T180000
DTSTAMP:20260425T123731
CREATED:20240917T142340Z
LAST-MODIFIED:20260403T082527Z
UID:10006143-1817226000-1817229600@goujonissimo.be
SUMMARY:Samen lopen
DESCRIPTION:Wil je samen in groep lopen? \nKom en neem deel aan de gratis loopgroep die elke maandag om 17 uur plaatsvindt. \nVergeet niet in sportkleding te komen. \nVoor alle niveaus! \nOntmoetingsplaats: Goujonissimo
URL:https://goujonissimo.be/nl/event/samen-lopen-2/2027-08-02/
ATTACH;FMTTYPE=image/webp:https://goujonissimo.be/wp-content/uploads/2024/09/courir-e1726582766322.webp
END:VEVENT
BEGIN:VEVENT
DTSTART;TZID=Europe/Zurich:20270802T183000
DTEND;TZID=Europe/Zurich:20270802T200000
DTSTAMP:20260425T123731
CREATED:20240326T092426Z
LAST-MODIFIED:20260403T082743Z
UID:10004209-1817231400-1817236800@goujonissimo.be
SUMMARY:Yoga Yengar
DESCRIPTION:Yogadocent Karin geeft twee keer per week Yengar Yoga in Goujonissimo. Dit is een actieve vorm van yoga\, waarbij je werkt met hulpmiddelen zoals blokken\, dekens en stoelen om je te helpen de verschillende houdingen op de juiste manier aan te nemen. Yoga draagt bij aan je kracht\, flexibiliteit en stabiliteit en kan ook een grote stimulans zijn voor je mentale welzijn.  \nTarieven \n\n15 € / 1 les\n60 € / 5 les\n120 € / 10 les
URL:https://goujonissimo.be/nl/event/yoga-yengar-2/2027-08-02/
LOCATION:Gym
CATEGORIES:Sportive
ATTACH;FMTTYPE=image/jpeg:https://goujonissimo.be/wp-content/uploads/2024/04/yoga-yengar.jpg
END:VEVENT
BEGIN:VEVENT
DTSTART;TZID=Europe/Zurich:20270803T093000
DTEND;TZID=Europe/Zurich:20270803T110000
DTSTAMP:20260425T123731
CREATED:20240405T084752Z
LAST-MODIFIED:20251020T161708Z
UID:10003946-1817285400-1817290800@goujonissimo.be
SUMMARY:Yoga Yengar
DESCRIPTION:Yogadocent Karin geeft twee keer per week Yengar Yoga in Goujonissimo. Dit is een actieve vorm van yoga\, waarbij je werkt met hulpmiddelen zoals blokken\, dekens en stoelen om je te helpen de verschillende houdingen op de juiste manier aan te nemen. Yoga draagt bij aan je kracht\, flexibiliteit en stabiliteit en kan ook een grote stimulans zijn voor je mentale welzijn.  \nTarieven \n\n15 € / 1 les\n60 € / 5 les\n120 € / 10 les
URL:https://goujonissimo.be/nl/event/yoga-yengar/2027-08-03/
LOCATION:Gym
CATEGORIES:Sportive
ATTACH;FMTTYPE=image/jpeg:https://goujonissimo.be/wp-content/uploads/2024/04/yoga-yengar.jpg
END:VEVENT
BEGIN:VEVENT
DTSTART;TZID=Europe/Brussels:20270804T100000
DTEND;TZID=Europe/Brussels:20270804T110000
DTSTAMP:20260425T123731
CREATED:20260227T084441Z
LAST-MODIFIED:20260227T090940Z
UID:10013145-1817373600-1817377200@goujonissimo.be
SUMMARY:Zachte gym vrouwen
DESCRIPTION:Lokaal Dienstencentrum Cosmos biedt een “Zachte Gym” aan voor senioren in Goujonissimo. \nIn kleine groepen van 10 tot 15 personen beweeg je samen op muziek. Het is een activiteit die bedoeld is voor senioren of mensen die soms moeilijk tot bewegen komen. \nOp woensdag is de activiteit alleen voor vrouwen. \n 
URL:https://goujonissimo.be/nl/event/zachte-gym-vrouwen-2-2-3/2027-08-04/
ATTACH;FMTTYPE=image/png:https://goujonissimo.be/wp-content/uploads/2024/03/gym-douce.png
END:VEVENT
BEGIN:VEVENT
DTSTART;TZID=Europe/Brussels:20270805T090000
DTEND;TZID=Europe/Brussels:20270805T110000
DTSTAMP:20260425T123731
CREATED:20260102T085605Z
LAST-MODIFIED:20260102T085605Z
UID:10012688-1817456400-1817463600@goujonissimo.be
SUMMARY:Ontbijt
DESCRIPTION:Goujonissimo organiseert elke eerste donderdag van de maand een ontbijt. Iedereen is welkom voor een gezellig samenzijn\, om elkaar te leren kennen en om collega’s van Goujonissimo te ontmoeten. \nBuurtbewoners mogen zelf iets lekkers meebrengen\, maar dit is zeker niet verplicht. \nIedereen is welkom!
URL:https://goujonissimo.be/nl/event/ontbijt-2-2/2027-08-05/
LOCATION:Gemeenschapszaal
ATTACH;FMTTYPE=image/webp:https://goujonissimo.be/wp-content/uploads/2024/03/Goujonissimo_Activite-petit-dej.webp
END:VEVENT
BEGIN:VEVENT
DTSTART;TZID=Europe/Brussels:20270806T100000
DTEND;TZID=Europe/Brussels:20270806T110000
DTSTAMP:20260425T123731
CREATED:20250411T114609Z
LAST-MODIFIED:20260213T101005Z
UID:10007740-1817546400-1817550000@goujonissimo.be
SUMMARY:Werelddans
DESCRIPTION:Wil je boeiende ritmes en fascinerende culturen ontdekken? \nSluit je elke vrijdag bij ons aan voor een nieuwe dans! \nIn Goujonissimo
URL:https://goujonissimo.be/nl/event/werelddans/2027-08-06/
ATTACH;FMTTYPE=image/jpeg:https://goujonissimo.be/wp-content/uploads/2025/04/danse-femme.jpg
END:VEVENT
BEGIN:VEVENT
DTSTART;TZID=Europe/Brussels:20270809T090000
DTEND;TZID=Europe/Brussels:20270809T120000
DTSTAMP:20260425T123731
CREATED:20241206T133625Z
LAST-MODIFIED:20260403T082419Z
UID:10007014-1817802000-1817812800@goujonissimo.be
SUMMARY:De handen in elkaar (creatieve activiteiten)
DESCRIPTION:Creatieve activiteiten elke maandag van 9.00 tot 12.00 \nNaaiatelier\, breien\, duurzame voeding\, museumbezoek… \nIn Goujonissimo
URL:https://goujonissimo.be/nl/event/de-handen-in-elkaar-creatieve-activiteiten/2027-08-09/
ATTACH;FMTTYPE=image/png:https://goujonissimo.be/wp-content/uploads/2024/12/image-1.png
END:VEVENT
BEGIN:VEVENT
DTSTART;TZID=Europe/Zurich:20270809T143000
DTEND;TZID=Europe/Zurich:20270809T150000
DTSTAMP:20260425T123731
CREATED:20240326T092426Z
LAST-MODIFIED:20250814T082939Z
UID:10009088-1817821800-1817823600@goujonissimo.be
SUMMARY:Zachte Gym
DESCRIPTION:Lokaal Dienstencentrum Cosmos biedt een “Zachte Gym” aan voor senioren in Goujonissimo. \nIn kleine groepen van 10 tot 15 personen beweeg je samen op muziek. Het is een activiteit die bedoeld is voor senioren of mensen die soms moeilijk tot bewegen komen.  \nOp maandag is de groep gemengd en sporten mannen en vrouwen samen.
URL:https://goujonissimo.be/nl/event/zachte-gym-2/2027-08-09/
LOCATION:Gym
CATEGORIES:Sportive
ATTACH;FMTTYPE=image/png:https://goujonissimo.be/wp-content/uploads/2024/03/gym-douce.png
END:VEVENT
BEGIN:VEVENT
DTSTART;TZID=Europe/Brussels:20270809T170000
DTEND;TZID=Europe/Brussels:20270809T180000
DTSTAMP:20260425T123731
CREATED:20240917T142340Z
LAST-MODIFIED:20260403T082527Z
UID:10006144-1817830800-1817834400@goujonissimo.be
SUMMARY:Samen lopen
DESCRIPTION:Wil je samen in groep lopen? \nKom en neem deel aan de gratis loopgroep die elke maandag om 17 uur plaatsvindt. \nVergeet niet in sportkleding te komen. \nVoor alle niveaus! \nOntmoetingsplaats: Goujonissimo
URL:https://goujonissimo.be/nl/event/samen-lopen-2/2027-08-09/
ATTACH;FMTTYPE=image/webp:https://goujonissimo.be/wp-content/uploads/2024/09/courir-e1726582766322.webp
END:VEVENT
BEGIN:VEVENT
DTSTART;TZID=Europe/Zurich:20270809T183000
DTEND;TZID=Europe/Zurich:20270809T200000
DTSTAMP:20260425T123732
CREATED:20240326T092426Z
LAST-MODIFIED:20260403T082743Z
UID:10004210-1817836200-1817841600@goujonissimo.be
SUMMARY:Yoga Yengar
DESCRIPTION:Yogadocent Karin geeft twee keer per week Yengar Yoga in Goujonissimo. Dit is een actieve vorm van yoga\, waarbij je werkt met hulpmiddelen zoals blokken\, dekens en stoelen om je te helpen de verschillende houdingen op de juiste manier aan te nemen. Yoga draagt bij aan je kracht\, flexibiliteit en stabiliteit en kan ook een grote stimulans zijn voor je mentale welzijn.  \nTarieven \n\n15 € / 1 les\n60 € / 5 les\n120 € / 10 les
URL:https://goujonissimo.be/nl/event/yoga-yengar-2/2027-08-09/
LOCATION:Gym
CATEGORIES:Sportive
ATTACH;FMTTYPE=image/jpeg:https://goujonissimo.be/wp-content/uploads/2024/04/yoga-yengar.jpg
END:VEVENT
END:VCALENDAR