BEGIN:VCALENDAR
VERSION:2.0
PRODID:-//Goujonissimo - ECPv6.15.16//NONSGML v1.0//EN
CALSCALE:GREGORIAN
METHOD:PUBLISH
X-ORIGINAL-URL:https://goujonissimo.be/nl/
X-WR-CALDESC:Evenementen voor Goujonissimo
REFRESH-INTERVAL;VALUE=DURATION:PT1H
X-Robots-Tag:noindex
X-PUBLISHED-TTL:PT1H
BEGIN:VTIMEZONE
TZID:Europe/Zurich
BEGIN:DAYLIGHT
TZOFFSETFROM:+0100
TZOFFSETTO:+0200
TZNAME:CEST
DTSTART:20260329T010000
END:DAYLIGHT
BEGIN:STANDARD
TZOFFSETFROM:+0200
TZOFFSETTO:+0100
TZNAME:CET
DTSTART:20261025T010000
END:STANDARD
BEGIN:DAYLIGHT
TZOFFSETFROM:+0100
TZOFFSETTO:+0200
TZNAME:CEST
DTSTART:20270328T010000
END:DAYLIGHT
BEGIN:STANDARD
TZOFFSETFROM:+0200
TZOFFSETTO:+0100
TZNAME:CET
DTSTART:20271031T010000
END:STANDARD
BEGIN:DAYLIGHT
TZOFFSETFROM:+0100
TZOFFSETTO:+0200
TZNAME:CEST
DTSTART:20280326T010000
END:DAYLIGHT
BEGIN:STANDARD
TZOFFSETFROM:+0200
TZOFFSETTO:+0100
TZNAME:CET
DTSTART:20281029T010000
END:STANDARD
END:VTIMEZONE
BEGIN:VTIMEZONE
TZID:Europe/Brussels
BEGIN:DAYLIGHT
TZOFFSETFROM:+0100
TZOFFSETTO:+0200
TZNAME:CEST
DTSTART:20260329T010000
END:DAYLIGHT
BEGIN:STANDARD
TZOFFSETFROM:+0200
TZOFFSETTO:+0100
TZNAME:CET
DTSTART:20261025T010000
END:STANDARD
BEGIN:DAYLIGHT
TZOFFSETFROM:+0100
TZOFFSETTO:+0200
TZNAME:CEST
DTSTART:20270328T010000
END:DAYLIGHT
BEGIN:STANDARD
TZOFFSETFROM:+0200
TZOFFSETTO:+0100
TZNAME:CET
DTSTART:20271031T010000
END:STANDARD
BEGIN:DAYLIGHT
TZOFFSETFROM:+0100
TZOFFSETTO:+0200
TZNAME:CEST
DTSTART:20280326T010000
END:DAYLIGHT
BEGIN:STANDARD
TZOFFSETFROM:+0200
TZOFFSETTO:+0100
TZNAME:CET
DTSTART:20281029T010000
END:STANDARD
END:VTIMEZONE
BEGIN:VEVENT
DTSTART;TZID=Europe/Zurich:20271101T143000
DTEND;TZID=Europe/Zurich:20271101T150000
DTSTAMP:20260426T010213
CREATED:20240326T092426Z
LAST-MODIFIED:20250814T082939Z
UID:10009100-1825079400-1825081200@goujonissimo.be
SUMMARY:Zachte Gym
DESCRIPTION:Lokaal Dienstencentrum Cosmos biedt een “Zachte Gym” aan voor senioren in Goujonissimo. \nIn kleine groepen van 10 tot 15 personen beweeg je samen op muziek. Het is een activiteit die bedoeld is voor senioren of mensen die soms moeilijk tot bewegen komen.  \nOp maandag is de groep gemengd en sporten mannen en vrouwen samen.
URL:https://goujonissimo.be/nl/event/zachte-gym-2/2027-11-01/
LOCATION:Gym
CATEGORIES:Sportive
ATTACH;FMTTYPE=image/png:https://goujonissimo.be/wp-content/uploads/2024/03/gym-douce.png
END:VEVENT
BEGIN:VEVENT
DTSTART;TZID=Europe/Brussels:20271101T170000
DTEND;TZID=Europe/Brussels:20271101T180000
DTSTAMP:20260426T010213
CREATED:20240917T142340Z
LAST-MODIFIED:20260403T082527Z
UID:10006156-1825088400-1825092000@goujonissimo.be
SUMMARY:Samen lopen
DESCRIPTION:Wil je samen in groep lopen? \nKom en neem deel aan de gratis loopgroep die elke maandag om 17 uur plaatsvindt. \nVergeet niet in sportkleding te komen. \nVoor alle niveaus! \nOntmoetingsplaats: Goujonissimo
URL:https://goujonissimo.be/nl/event/samen-lopen-2/2027-11-01/
ATTACH;FMTTYPE=image/webp:https://goujonissimo.be/wp-content/uploads/2024/09/courir-e1726582766322.webp
END:VEVENT
BEGIN:VEVENT
DTSTART;TZID=Europe/Zurich:20271101T183000
DTEND;TZID=Europe/Zurich:20271101T200000
DTSTAMP:20260426T010213
CREATED:20240326T092426Z
LAST-MODIFIED:20260403T082743Z
UID:10004222-1825093800-1825099200@goujonissimo.be
SUMMARY:Yoga Yengar
DESCRIPTION:Yogadocent Karin geeft twee keer per week Yengar Yoga in Goujonissimo. Dit is een actieve vorm van yoga\, waarbij je werkt met hulpmiddelen zoals blokken\, dekens en stoelen om je te helpen de verschillende houdingen op de juiste manier aan te nemen. Yoga draagt bij aan je kracht\, flexibiliteit en stabiliteit en kan ook een grote stimulans zijn voor je mentale welzijn.  \nTarieven \n\n15 € / 1 les\n60 € / 5 les\n120 € / 10 les
URL:https://goujonissimo.be/nl/event/yoga-yengar-2/2027-11-01/
LOCATION:Gym
CATEGORIES:Sportive
ATTACH;FMTTYPE=image/jpeg:https://goujonissimo.be/wp-content/uploads/2024/04/yoga-yengar.jpg
END:VEVENT
BEGIN:VEVENT
DTSTART;TZID=Europe/Zurich:20271102T093000
DTEND;TZID=Europe/Zurich:20271102T110000
DTSTAMP:20260426T010213
CREATED:20240405T084752Z
LAST-MODIFIED:20251020T161708Z
UID:10003959-1825147800-1825153200@goujonissimo.be
SUMMARY:Yoga Yengar
DESCRIPTION:Yogadocent Karin geeft twee keer per week Yengar Yoga in Goujonissimo. Dit is een actieve vorm van yoga\, waarbij je werkt met hulpmiddelen zoals blokken\, dekens en stoelen om je te helpen de verschillende houdingen op de juiste manier aan te nemen. Yoga draagt bij aan je kracht\, flexibiliteit en stabiliteit en kan ook een grote stimulans zijn voor je mentale welzijn.  \nTarieven \n\n15 € / 1 les\n60 € / 5 les\n120 € / 10 les
URL:https://goujonissimo.be/nl/event/yoga-yengar/2027-11-02/
LOCATION:Gym
CATEGORIES:Sportive
ATTACH;FMTTYPE=image/jpeg:https://goujonissimo.be/wp-content/uploads/2024/04/yoga-yengar.jpg
END:VEVENT
BEGIN:VEVENT
DTSTART;TZID=Europe/Brussels:20271103T100000
DTEND;TZID=Europe/Brussels:20271103T110000
DTSTAMP:20260426T010213
CREATED:20260227T084441Z
LAST-MODIFIED:20260227T090940Z
UID:10013158-1825236000-1825239600@goujonissimo.be
SUMMARY:Zachte gym vrouwen
DESCRIPTION:Lokaal Dienstencentrum Cosmos biedt een “Zachte Gym” aan voor senioren in Goujonissimo. \nIn kleine groepen van 10 tot 15 personen beweeg je samen op muziek. Het is een activiteit die bedoeld is voor senioren of mensen die soms moeilijk tot bewegen komen. \nOp woensdag is de activiteit alleen voor vrouwen. \n 
URL:https://goujonissimo.be/nl/event/zachte-gym-vrouwen-2-2-3/2027-11-03/
ATTACH;FMTTYPE=image/png:https://goujonissimo.be/wp-content/uploads/2024/03/gym-douce.png
END:VEVENT
BEGIN:VEVENT
DTSTART;TZID=Europe/Brussels:20271103T103000
DTEND;TZID=Europe/Brussels:20271103T120000
DTSTAMP:20260426T010213
CREATED:20240829T075633Z
LAST-MODIFIED:20260109T073805Z
UID:10009516-1825237800-1825243200@goujonissimo.be
SUMMARY:Op weg naar ontspanning
DESCRIPTION:Ontdek manieren om je te relaxeren: \n\nademhalings- en meditatieoefeningen\nmindful wandelen\nmeditatief tekenen\ngeluidsimmersie\n\nIn Goujonissimo
URL:https://goujonissimo.be/nl/event/op-weg-naar-ontspanning/2027-11-03/
LOCATION:Gym
CATEGORIES:Gezondheid,Mental Zorg
ATTACH;FMTTYPE=image/webp:https://goujonissimo.be/wp-content/uploads/2024/05/abdominal-breathing-african-woman-practicing-belly-relaxation-breath-awareness-yoga-exercise-meditation-body-mind-emotions-226379546.webp
END:VEVENT
BEGIN:VEVENT
DTSTART;TZID=Europe/Brussels:20271104T090000
DTEND;TZID=Europe/Brussels:20271104T110000
DTSTAMP:20260426T010213
CREATED:20260102T085605Z
LAST-MODIFIED:20260102T085605Z
UID:10012691-1825318800-1825326000@goujonissimo.be
SUMMARY:Ontbijt
DESCRIPTION:Goujonissimo organiseert elke eerste donderdag van de maand een ontbijt. Iedereen is welkom voor een gezellig samenzijn\, om elkaar te leren kennen en om collega’s van Goujonissimo te ontmoeten. \nBuurtbewoners mogen zelf iets lekkers meebrengen\, maar dit is zeker niet verplicht. \nIedereen is welkom!
URL:https://goujonissimo.be/nl/event/ontbijt-2-2/2027-11-04/
LOCATION:Gemeenschapszaal
ATTACH;FMTTYPE=image/webp:https://goujonissimo.be/wp-content/uploads/2024/03/Goujonissimo_Activite-petit-dej.webp
END:VEVENT
BEGIN:VEVENT
DTSTART;TZID=Europe/Brussels:20271105T100000
DTEND;TZID=Europe/Brussels:20271105T110000
DTSTAMP:20260426T010213
CREATED:20250411T114609Z
LAST-MODIFIED:20260213T101005Z
UID:10007753-1825408800-1825412400@goujonissimo.be
SUMMARY:Werelddans
DESCRIPTION:Wil je boeiende ritmes en fascinerende culturen ontdekken? \nSluit je elke vrijdag bij ons aan voor een nieuwe dans! \nIn Goujonissimo
URL:https://goujonissimo.be/nl/event/werelddans/2027-11-05/
ATTACH;FMTTYPE=image/jpeg:https://goujonissimo.be/wp-content/uploads/2025/04/danse-femme.jpg
END:VEVENT
BEGIN:VEVENT
DTSTART;TZID=Europe/Brussels:20271108T090000
DTEND;TZID=Europe/Brussels:20271108T120000
DTSTAMP:20260426T010213
CREATED:20241206T133625Z
LAST-MODIFIED:20260403T082419Z
UID:10007027-1825664400-1825675200@goujonissimo.be
SUMMARY:De handen in elkaar (creatieve activiteiten)
DESCRIPTION:Creatieve activiteiten elke maandag van 9.00 tot 12.00 \nNaaiatelier\, breien\, duurzame voeding\, museumbezoek… \nIn Goujonissimo
URL:https://goujonissimo.be/nl/event/de-handen-in-elkaar-creatieve-activiteiten/2027-11-08/
ATTACH;FMTTYPE=image/png:https://goujonissimo.be/wp-content/uploads/2024/12/image-1.png
END:VEVENT
BEGIN:VEVENT
DTSTART;TZID=Europe/Zurich:20271108T143000
DTEND;TZID=Europe/Zurich:20271108T150000
DTSTAMP:20260426T010213
CREATED:20240326T092426Z
LAST-MODIFIED:20250814T082939Z
UID:10009101-1825684200-1825686000@goujonissimo.be
SUMMARY:Zachte Gym
DESCRIPTION:Lokaal Dienstencentrum Cosmos biedt een “Zachte Gym” aan voor senioren in Goujonissimo. \nIn kleine groepen van 10 tot 15 personen beweeg je samen op muziek. Het is een activiteit die bedoeld is voor senioren of mensen die soms moeilijk tot bewegen komen.  \nOp maandag is de groep gemengd en sporten mannen en vrouwen samen.
URL:https://goujonissimo.be/nl/event/zachte-gym-2/2027-11-08/
LOCATION:Gym
CATEGORIES:Sportive
ATTACH;FMTTYPE=image/png:https://goujonissimo.be/wp-content/uploads/2024/03/gym-douce.png
END:VEVENT
BEGIN:VEVENT
DTSTART;TZID=Europe/Brussels:20271108T170000
DTEND;TZID=Europe/Brussels:20271108T180000
DTSTAMP:20260426T010213
CREATED:20240917T142340Z
LAST-MODIFIED:20260403T082527Z
UID:10006157-1825693200-1825696800@goujonissimo.be
SUMMARY:Samen lopen
DESCRIPTION:Wil je samen in groep lopen? \nKom en neem deel aan de gratis loopgroep die elke maandag om 17 uur plaatsvindt. \nVergeet niet in sportkleding te komen. \nVoor alle niveaus! \nOntmoetingsplaats: Goujonissimo
URL:https://goujonissimo.be/nl/event/samen-lopen-2/2027-11-08/
ATTACH;FMTTYPE=image/webp:https://goujonissimo.be/wp-content/uploads/2024/09/courir-e1726582766322.webp
END:VEVENT
BEGIN:VEVENT
DTSTART;TZID=Europe/Zurich:20271108T183000
DTEND;TZID=Europe/Zurich:20271108T200000
DTSTAMP:20260426T010213
CREATED:20240326T092426Z
LAST-MODIFIED:20260403T082743Z
UID:10004223-1825698600-1825704000@goujonissimo.be
SUMMARY:Yoga Yengar
DESCRIPTION:Yogadocent Karin geeft twee keer per week Yengar Yoga in Goujonissimo. Dit is een actieve vorm van yoga\, waarbij je werkt met hulpmiddelen zoals blokken\, dekens en stoelen om je te helpen de verschillende houdingen op de juiste manier aan te nemen. Yoga draagt bij aan je kracht\, flexibiliteit en stabiliteit en kan ook een grote stimulans zijn voor je mentale welzijn.  \nTarieven \n\n15 € / 1 les\n60 € / 5 les\n120 € / 10 les
URL:https://goujonissimo.be/nl/event/yoga-yengar-2/2027-11-08/
LOCATION:Gym
CATEGORIES:Sportive
ATTACH;FMTTYPE=image/jpeg:https://goujonissimo.be/wp-content/uploads/2024/04/yoga-yengar.jpg
END:VEVENT
BEGIN:VEVENT
DTSTART;TZID=Europe/Zurich:20271109T093000
DTEND;TZID=Europe/Zurich:20271109T110000
DTSTAMP:20260426T010214
CREATED:20240405T084752Z
LAST-MODIFIED:20251020T161708Z
UID:10003960-1825752600-1825758000@goujonissimo.be
SUMMARY:Yoga Yengar
DESCRIPTION:Yogadocent Karin geeft twee keer per week Yengar Yoga in Goujonissimo. Dit is een actieve vorm van yoga\, waarbij je werkt met hulpmiddelen zoals blokken\, dekens en stoelen om je te helpen de verschillende houdingen op de juiste manier aan te nemen. Yoga draagt bij aan je kracht\, flexibiliteit en stabiliteit en kan ook een grote stimulans zijn voor je mentale welzijn.  \nTarieven \n\n15 € / 1 les\n60 € / 5 les\n120 € / 10 les
URL:https://goujonissimo.be/nl/event/yoga-yengar/2027-11-09/
LOCATION:Gym
CATEGORIES:Sportive
ATTACH;FMTTYPE=image/jpeg:https://goujonissimo.be/wp-content/uploads/2024/04/yoga-yengar.jpg
END:VEVENT
BEGIN:VEVENT
DTSTART;TZID=Europe/Brussels:20271110T100000
DTEND;TZID=Europe/Brussels:20271110T110000
DTSTAMP:20260426T010214
CREATED:20260227T084441Z
LAST-MODIFIED:20260227T090940Z
UID:10013159-1825840800-1825844400@goujonissimo.be
SUMMARY:Zachte gym vrouwen
DESCRIPTION:Lokaal Dienstencentrum Cosmos biedt een “Zachte Gym” aan voor senioren in Goujonissimo. \nIn kleine groepen van 10 tot 15 personen beweeg je samen op muziek. Het is een activiteit die bedoeld is voor senioren of mensen die soms moeilijk tot bewegen komen. \nOp woensdag is de activiteit alleen voor vrouwen. \n 
URL:https://goujonissimo.be/nl/event/zachte-gym-vrouwen-2-2-3/2027-11-10/
ATTACH;FMTTYPE=image/png:https://goujonissimo.be/wp-content/uploads/2024/03/gym-douce.png
END:VEVENT
BEGIN:VEVENT
DTSTART;TZID=Europe/Brussels:20271112T100000
DTEND;TZID=Europe/Brussels:20271112T110000
DTSTAMP:20260426T010214
CREATED:20250411T114609Z
LAST-MODIFIED:20260213T101005Z
UID:10007754-1826013600-1826017200@goujonissimo.be
SUMMARY:Werelddans
DESCRIPTION:Wil je boeiende ritmes en fascinerende culturen ontdekken? \nSluit je elke vrijdag bij ons aan voor een nieuwe dans! \nIn Goujonissimo
URL:https://goujonissimo.be/nl/event/werelddans/2027-11-12/
ATTACH;FMTTYPE=image/jpeg:https://goujonissimo.be/wp-content/uploads/2025/04/danse-femme.jpg
END:VEVENT
BEGIN:VEVENT
DTSTART;TZID=Europe/Brussels:20271115T090000
DTEND;TZID=Europe/Brussels:20271115T120000
DTSTAMP:20260426T010214
CREATED:20241206T133625Z
LAST-MODIFIED:20260403T082419Z
UID:10007028-1826269200-1826280000@goujonissimo.be
SUMMARY:De handen in elkaar (creatieve activiteiten)
DESCRIPTION:Creatieve activiteiten elke maandag van 9.00 tot 12.00 \nNaaiatelier\, breien\, duurzame voeding\, museumbezoek… \nIn Goujonissimo
URL:https://goujonissimo.be/nl/event/de-handen-in-elkaar-creatieve-activiteiten/2027-11-15/
ATTACH;FMTTYPE=image/png:https://goujonissimo.be/wp-content/uploads/2024/12/image-1.png
END:VEVENT
BEGIN:VEVENT
DTSTART;TZID=Europe/Zurich:20271115T143000
DTEND;TZID=Europe/Zurich:20271115T150000
DTSTAMP:20260426T010214
CREATED:20240326T092426Z
LAST-MODIFIED:20250814T082939Z
UID:10009102-1826289000-1826290800@goujonissimo.be
SUMMARY:Zachte Gym
DESCRIPTION:Lokaal Dienstencentrum Cosmos biedt een “Zachte Gym” aan voor senioren in Goujonissimo. \nIn kleine groepen van 10 tot 15 personen beweeg je samen op muziek. Het is een activiteit die bedoeld is voor senioren of mensen die soms moeilijk tot bewegen komen.  \nOp maandag is de groep gemengd en sporten mannen en vrouwen samen.
URL:https://goujonissimo.be/nl/event/zachte-gym-2/2027-11-15/
LOCATION:Gym
CATEGORIES:Sportive
ATTACH;FMTTYPE=image/png:https://goujonissimo.be/wp-content/uploads/2024/03/gym-douce.png
END:VEVENT
BEGIN:VEVENT
DTSTART;TZID=Europe/Brussels:20271115T170000
DTEND;TZID=Europe/Brussels:20271115T180000
DTSTAMP:20260426T010214
CREATED:20240917T142340Z
LAST-MODIFIED:20260403T082527Z
UID:10006158-1826298000-1826301600@goujonissimo.be
SUMMARY:Samen lopen
DESCRIPTION:Wil je samen in groep lopen? \nKom en neem deel aan de gratis loopgroep die elke maandag om 17 uur plaatsvindt. \nVergeet niet in sportkleding te komen. \nVoor alle niveaus! \nOntmoetingsplaats: Goujonissimo
URL:https://goujonissimo.be/nl/event/samen-lopen-2/2027-11-15/
ATTACH;FMTTYPE=image/webp:https://goujonissimo.be/wp-content/uploads/2024/09/courir-e1726582766322.webp
END:VEVENT
BEGIN:VEVENT
DTSTART;TZID=Europe/Zurich:20271115T183000
DTEND;TZID=Europe/Zurich:20271115T200000
DTSTAMP:20260426T010214
CREATED:20240326T092426Z
LAST-MODIFIED:20260403T082743Z
UID:10004224-1826303400-1826308800@goujonissimo.be
SUMMARY:Yoga Yengar
DESCRIPTION:Yogadocent Karin geeft twee keer per week Yengar Yoga in Goujonissimo. Dit is een actieve vorm van yoga\, waarbij je werkt met hulpmiddelen zoals blokken\, dekens en stoelen om je te helpen de verschillende houdingen op de juiste manier aan te nemen. Yoga draagt bij aan je kracht\, flexibiliteit en stabiliteit en kan ook een grote stimulans zijn voor je mentale welzijn.  \nTarieven \n\n15 € / 1 les\n60 € / 5 les\n120 € / 10 les
URL:https://goujonissimo.be/nl/event/yoga-yengar-2/2027-11-15/
LOCATION:Gym
CATEGORIES:Sportive
ATTACH;FMTTYPE=image/jpeg:https://goujonissimo.be/wp-content/uploads/2024/04/yoga-yengar.jpg
END:VEVENT
BEGIN:VEVENT
DTSTART;TZID=Europe/Zurich:20271116T093000
DTEND;TZID=Europe/Zurich:20271116T110000
DTSTAMP:20260426T010214
CREATED:20240405T084752Z
LAST-MODIFIED:20251020T161708Z
UID:10003961-1826357400-1826362800@goujonissimo.be
SUMMARY:Yoga Yengar
DESCRIPTION:Yogadocent Karin geeft twee keer per week Yengar Yoga in Goujonissimo. Dit is een actieve vorm van yoga\, waarbij je werkt met hulpmiddelen zoals blokken\, dekens en stoelen om je te helpen de verschillende houdingen op de juiste manier aan te nemen. Yoga draagt bij aan je kracht\, flexibiliteit en stabiliteit en kan ook een grote stimulans zijn voor je mentale welzijn.  \nTarieven \n\n15 € / 1 les\n60 € / 5 les\n120 € / 10 les
URL:https://goujonissimo.be/nl/event/yoga-yengar/2027-11-16/
LOCATION:Gym
CATEGORIES:Sportive
ATTACH;FMTTYPE=image/jpeg:https://goujonissimo.be/wp-content/uploads/2024/04/yoga-yengar.jpg
END:VEVENT
BEGIN:VEVENT
DTSTART;TZID=Europe/Brussels:20271117T100000
DTEND;TZID=Europe/Brussels:20271117T110000
DTSTAMP:20260426T010214
CREATED:20260227T084441Z
LAST-MODIFIED:20260227T090940Z
UID:10013160-1826445600-1826449200@goujonissimo.be
SUMMARY:Zachte gym vrouwen
DESCRIPTION:Lokaal Dienstencentrum Cosmos biedt een “Zachte Gym” aan voor senioren in Goujonissimo. \nIn kleine groepen van 10 tot 15 personen beweeg je samen op muziek. Het is een activiteit die bedoeld is voor senioren of mensen die soms moeilijk tot bewegen komen. \nOp woensdag is de activiteit alleen voor vrouwen. \n 
URL:https://goujonissimo.be/nl/event/zachte-gym-vrouwen-2-2-3/2027-11-17/
ATTACH;FMTTYPE=image/png:https://goujonissimo.be/wp-content/uploads/2024/03/gym-douce.png
END:VEVENT
BEGIN:VEVENT
DTSTART;TZID=Europe/Brussels:20271117T103000
DTEND;TZID=Europe/Brussels:20271117T120000
DTSTAMP:20260426T010214
CREATED:20240829T075633Z
LAST-MODIFIED:20260109T073805Z
UID:10009387-1826447400-1826452800@goujonissimo.be
SUMMARY:Op weg naar ontspanning
DESCRIPTION:Ontdek manieren om je te relaxeren: \n\nademhalings- en meditatieoefeningen\nmindful wandelen\nmeditatief tekenen\ngeluidsimmersie\n\nIn Goujonissimo
URL:https://goujonissimo.be/nl/event/op-weg-naar-ontspanning/2027-11-17/
LOCATION:Gym
CATEGORIES:Gezondheid,Mental Zorg
ATTACH;FMTTYPE=image/webp:https://goujonissimo.be/wp-content/uploads/2024/05/abdominal-breathing-african-woman-practicing-belly-relaxation-breath-awareness-yoga-exercise-meditation-body-mind-emotions-226379546.webp
END:VEVENT
BEGIN:VEVENT
DTSTART;TZID=Europe/Brussels:20271119T100000
DTEND;TZID=Europe/Brussels:20271119T110000
DTSTAMP:20260426T010214
CREATED:20250411T114609Z
LAST-MODIFIED:20260213T101005Z
UID:10007755-1826618400-1826622000@goujonissimo.be
SUMMARY:Werelddans
DESCRIPTION:Wil je boeiende ritmes en fascinerende culturen ontdekken? \nSluit je elke vrijdag bij ons aan voor een nieuwe dans! \nIn Goujonissimo
URL:https://goujonissimo.be/nl/event/werelddans/2027-11-19/
ATTACH;FMTTYPE=image/jpeg:https://goujonissimo.be/wp-content/uploads/2025/04/danse-femme.jpg
END:VEVENT
BEGIN:VEVENT
DTSTART;TZID=Europe/Brussels:20271122T090000
DTEND;TZID=Europe/Brussels:20271122T120000
DTSTAMP:20260426T010214
CREATED:20241206T133625Z
LAST-MODIFIED:20260403T082419Z
UID:10007029-1826874000-1826884800@goujonissimo.be
SUMMARY:De handen in elkaar (creatieve activiteiten)
DESCRIPTION:Creatieve activiteiten elke maandag van 9.00 tot 12.00 \nNaaiatelier\, breien\, duurzame voeding\, museumbezoek… \nIn Goujonissimo
URL:https://goujonissimo.be/nl/event/de-handen-in-elkaar-creatieve-activiteiten/2027-11-22/
ATTACH;FMTTYPE=image/png:https://goujonissimo.be/wp-content/uploads/2024/12/image-1.png
END:VEVENT
BEGIN:VEVENT
DTSTART;TZID=Europe/Zurich:20271122T143000
DTEND;TZID=Europe/Zurich:20271122T150000
DTSTAMP:20260426T010214
CREATED:20240326T092426Z
LAST-MODIFIED:20250814T082939Z
UID:10009103-1826893800-1826895600@goujonissimo.be
SUMMARY:Zachte Gym
DESCRIPTION:Lokaal Dienstencentrum Cosmos biedt een “Zachte Gym” aan voor senioren in Goujonissimo. \nIn kleine groepen van 10 tot 15 personen beweeg je samen op muziek. Het is een activiteit die bedoeld is voor senioren of mensen die soms moeilijk tot bewegen komen.  \nOp maandag is de groep gemengd en sporten mannen en vrouwen samen.
URL:https://goujonissimo.be/nl/event/zachte-gym-2/2027-11-22/
LOCATION:Gym
CATEGORIES:Sportive
ATTACH;FMTTYPE=image/png:https://goujonissimo.be/wp-content/uploads/2024/03/gym-douce.png
END:VEVENT
BEGIN:VEVENT
DTSTART;TZID=Europe/Brussels:20271122T170000
DTEND;TZID=Europe/Brussels:20271122T180000
DTSTAMP:20260426T010214
CREATED:20240917T142340Z
LAST-MODIFIED:20260403T082527Z
UID:10006159-1826902800-1826906400@goujonissimo.be
SUMMARY:Samen lopen
DESCRIPTION:Wil je samen in groep lopen? \nKom en neem deel aan de gratis loopgroep die elke maandag om 17 uur plaatsvindt. \nVergeet niet in sportkleding te komen. \nVoor alle niveaus! \nOntmoetingsplaats: Goujonissimo
URL:https://goujonissimo.be/nl/event/samen-lopen-2/2027-11-22/
ATTACH;FMTTYPE=image/webp:https://goujonissimo.be/wp-content/uploads/2024/09/courir-e1726582766322.webp
END:VEVENT
BEGIN:VEVENT
DTSTART;TZID=Europe/Zurich:20271122T183000
DTEND;TZID=Europe/Zurich:20271122T200000
DTSTAMP:20260426T010214
CREATED:20240326T092426Z
LAST-MODIFIED:20260403T082743Z
UID:10004225-1826908200-1826913600@goujonissimo.be
SUMMARY:Yoga Yengar
DESCRIPTION:Yogadocent Karin geeft twee keer per week Yengar Yoga in Goujonissimo. Dit is een actieve vorm van yoga\, waarbij je werkt met hulpmiddelen zoals blokken\, dekens en stoelen om je te helpen de verschillende houdingen op de juiste manier aan te nemen. Yoga draagt bij aan je kracht\, flexibiliteit en stabiliteit en kan ook een grote stimulans zijn voor je mentale welzijn.  \nTarieven \n\n15 € / 1 les\n60 € / 5 les\n120 € / 10 les
URL:https://goujonissimo.be/nl/event/yoga-yengar-2/2027-11-22/
LOCATION:Gym
CATEGORIES:Sportive
ATTACH;FMTTYPE=image/jpeg:https://goujonissimo.be/wp-content/uploads/2024/04/yoga-yengar.jpg
END:VEVENT
BEGIN:VEVENT
DTSTART;TZID=Europe/Zurich:20271123T093000
DTEND;TZID=Europe/Zurich:20271123T110000
DTSTAMP:20260426T010214
CREATED:20240405T084752Z
LAST-MODIFIED:20251020T161708Z
UID:10003962-1826962200-1826967600@goujonissimo.be
SUMMARY:Yoga Yengar
DESCRIPTION:Yogadocent Karin geeft twee keer per week Yengar Yoga in Goujonissimo. Dit is een actieve vorm van yoga\, waarbij je werkt met hulpmiddelen zoals blokken\, dekens en stoelen om je te helpen de verschillende houdingen op de juiste manier aan te nemen. Yoga draagt bij aan je kracht\, flexibiliteit en stabiliteit en kan ook een grote stimulans zijn voor je mentale welzijn.  \nTarieven \n\n15 € / 1 les\n60 € / 5 les\n120 € / 10 les
URL:https://goujonissimo.be/nl/event/yoga-yengar/2027-11-23/
LOCATION:Gym
CATEGORIES:Sportive
ATTACH;FMTTYPE=image/jpeg:https://goujonissimo.be/wp-content/uploads/2024/04/yoga-yengar.jpg
END:VEVENT
BEGIN:VEVENT
DTSTART;TZID=Europe/Brussels:20271124T100000
DTEND;TZID=Europe/Brussels:20271124T110000
DTSTAMP:20260426T010214
CREATED:20260227T084441Z
LAST-MODIFIED:20260227T090940Z
UID:10013161-1827050400-1827054000@goujonissimo.be
SUMMARY:Zachte gym vrouwen
DESCRIPTION:Lokaal Dienstencentrum Cosmos biedt een “Zachte Gym” aan voor senioren in Goujonissimo. \nIn kleine groepen van 10 tot 15 personen beweeg je samen op muziek. Het is een activiteit die bedoeld is voor senioren of mensen die soms moeilijk tot bewegen komen. \nOp woensdag is de activiteit alleen voor vrouwen. \n 
URL:https://goujonissimo.be/nl/event/zachte-gym-vrouwen-2-2-3/2027-11-24/
ATTACH;FMTTYPE=image/png:https://goujonissimo.be/wp-content/uploads/2024/03/gym-douce.png
END:VEVENT
BEGIN:VEVENT
DTSTART;TZID=Europe/Brussels:20271126T100000
DTEND;TZID=Europe/Brussels:20271126T110000
DTSTAMP:20260426T010214
CREATED:20250411T114609Z
LAST-MODIFIED:20260213T101005Z
UID:10007756-1827223200-1827226800@goujonissimo.be
SUMMARY:Werelddans
DESCRIPTION:Wil je boeiende ritmes en fascinerende culturen ontdekken? \nSluit je elke vrijdag bij ons aan voor een nieuwe dans! \nIn Goujonissimo
URL:https://goujonissimo.be/nl/event/werelddans/2027-11-26/
ATTACH;FMTTYPE=image/jpeg:https://goujonissimo.be/wp-content/uploads/2025/04/danse-femme.jpg
END:VEVENT
END:VCALENDAR