BEGIN:VCALENDAR
VERSION:2.0
PRODID:-//Goujonissimo - ECPv6.15.16//NONSGML v1.0//EN
CALSCALE:GREGORIAN
METHOD:PUBLISH
X-WR-CALNAME:Goujonissimo
X-ORIGINAL-URL:https://goujonissimo.be
X-WR-CALDESC:Évènements pour Goujonissimo
REFRESH-INTERVAL;VALUE=DURATION:PT1H
X-Robots-Tag:noindex
X-PUBLISHED-TTL:PT1H
BEGIN:VTIMEZONE
TZID:Europe/Brussels
BEGIN:DAYLIGHT
TZOFFSETFROM:+0100
TZOFFSETTO:+0200
TZNAME:CEST
DTSTART:20250330T010000
END:DAYLIGHT
BEGIN:STANDARD
TZOFFSETFROM:+0200
TZOFFSETTO:+0100
TZNAME:CET
DTSTART:20251026T010000
END:STANDARD
BEGIN:DAYLIGHT
TZOFFSETFROM:+0100
TZOFFSETTO:+0200
TZNAME:CEST
DTSTART:20260329T010000
END:DAYLIGHT
BEGIN:STANDARD
TZOFFSETFROM:+0200
TZOFFSETTO:+0100
TZNAME:CET
DTSTART:20261025T010000
END:STANDARD
BEGIN:DAYLIGHT
TZOFFSETFROM:+0100
TZOFFSETTO:+0200
TZNAME:CEST
DTSTART:20270328T010000
END:DAYLIGHT
BEGIN:STANDARD
TZOFFSETFROM:+0200
TZOFFSETTO:+0100
TZNAME:CET
DTSTART:20271031T010000
END:STANDARD
END:VTIMEZONE
BEGIN:VTIMEZONE
TZID:Europe/Zurich
BEGIN:DAYLIGHT
TZOFFSETFROM:+0100
TZOFFSETTO:+0200
TZNAME:CEST
DTSTART:20250330T010000
END:DAYLIGHT
BEGIN:STANDARD
TZOFFSETFROM:+0200
TZOFFSETTO:+0100
TZNAME:CET
DTSTART:20251026T010000
END:STANDARD
BEGIN:DAYLIGHT
TZOFFSETFROM:+0100
TZOFFSETTO:+0200
TZNAME:CEST
DTSTART:20260329T010000
END:DAYLIGHT
BEGIN:STANDARD
TZOFFSETFROM:+0200
TZOFFSETTO:+0100
TZNAME:CET
DTSTART:20261025T010000
END:STANDARD
BEGIN:DAYLIGHT
TZOFFSETFROM:+0100
TZOFFSETTO:+0200
TZNAME:CEST
DTSTART:20270328T010000
END:DAYLIGHT
BEGIN:STANDARD
TZOFFSETFROM:+0200
TZOFFSETTO:+0100
TZNAME:CET
DTSTART:20271031T010000
END:STANDARD
END:VTIMEZONE
BEGIN:VEVENT
DTSTART;TZID=Europe/Brussels:20260420T090000
DTEND;TZID=Europe/Brussels:20260420T120000
DTSTAMP:20260420T021727
CREATED:20241206T133247Z
LAST-MODIFIED:20260403T081719Z
UID:10006685-1776675600-1776686400@goujonissimo.be
SUMMARY:Main dans les mains (activités créatives)
DESCRIPTION:Activités créatives chaque lundi de 9 – 12h \nCouture\, tricot\, cuisine durable\, visite de musée… \nà Goujonissimo
URL:https://goujonissimo.be/event/main-dans-les-mains-activites-creatives/2026-04-20/
ATTACH;FMTTYPE=image/png:https://goujonissimo.be/wp-content/uploads/2024/12/image-1.png
END:VEVENT
BEGIN:VEVENT
DTSTART;TZID=Europe/Brussels:20260420T100000
DTEND;TZID=Europe/Brussels:20260420T120000
DTSTAMP:20260420T021727
CREATED:20260327T094207Z
LAST-MODIFIED:20260327T094207Z
UID:10013527-1776679200-1776686400@goujonissimo.be
SUMMARY:Comment retrouver de la sécurité avec soi et les autres
DESCRIPTION:
URL:https://goujonissimo.be/event/comment-retrouver-de-la-securite-avec-soi-et-les-autres/2026-04-20/
END:VEVENT
BEGIN:VEVENT
DTSTART;TZID=Europe/Zurich:20260420T143000
DTEND;TZID=Europe/Zurich:20260420T150000
DTSTAMP:20260420T021727
CREATED:20240326T092426Z
LAST-MODIFIED:20260403T081829Z
UID:10008704-1776695400-1776697200@goujonissimo.be
SUMMARY:Gym Douce Mixte
DESCRIPTION:Le centre de services local Cosmos propose une « Gym Douce » pour les seniors à Goujonissimo. \nEn petit groupe de 10 à 15 personnes\, vous bougez ensemble en musique. C’est une activité destinée aux seniors ou aux personnes qui ont parfois du mal à se déplacer.  \nLe lundi\, le groupe est mixte et les hommes et les femmes s’entraînent ensemble.
URL:https://goujonissimo.be/event/gym-douce-2/2026-04-20/
LOCATION:Salle de gym
CATEGORIES:Sportive
ATTACH;FMTTYPE=image/png:https://goujonissimo.be/wp-content/uploads/2024/03/gym-douce.png
END:VEVENT
BEGIN:VEVENT
DTSTART;TZID=Europe/Brussels:20260420T170000
DTEND;TZID=Europe/Brussels:20260420T180000
DTSTAMP:20260420T021727
CREATED:20240917T142340Z
LAST-MODIFIED:20260403T081929Z
UID:10005816-1776704400-1776708000@goujonissimo.be
SUMMARY:Courir ensemble
DESCRIPTION:Envie de courir en groupe? \nVenez participer gratuitement au groupe de course à pied qui se déroule chaque lundi à 17h. \nN’oubliez pas de venir en tenue sportive. \nOuvert pour tous les niveaux! \nLieu de rendez-vous: Goujonissimo
URL:https://goujonissimo.be/event/groupe-de-course-a-pied/2026-04-20/
ATTACH;FMTTYPE=image/webp:https://goujonissimo.be/wp-content/uploads/2024/09/courir-e1726582766322.webp
END:VEVENT
BEGIN:VEVENT
DTSTART;TZID=Europe/Zurich:20260420T183000
DTEND;TZID=Europe/Zurich:20260420T200000
DTSTAMP:20260420T021727
CREATED:20240326T092426Z
LAST-MODIFIED:20260403T084515Z
UID:10002184-1776709800-1776715200@goujonissimo.be
SUMMARY:Yoga Yengar
DESCRIPTION:Karin\, professeur de yoga\, enseigne le Yengar Yoga deux fois par semaine à Goujonissimo. Il s’agit d’une forme active de yoga\, où vous travaillez avec des outils tels que des blocs\, des couvertures et des chaises pour vous aider à adopter correctement les différentes postures. Le yoga contribue à votre force\, votre flexibilité et votre stabilité et peut également être un bon stimulant pour votre bien-être mental. \nTarifs \n\n15 € / 1 cours\n60 € / 5 cours\n120 € / 10 cours
URL:https://goujonissimo.be/event/yoga-yengar/2026-04-20/
LOCATION:Salle de gym
CATEGORIES:Sportive
ATTACH;FMTTYPE=image/jpeg:https://goujonissimo.be/wp-content/uploads/2024/04/yoga-yengar.jpg
END:VEVENT
END:VCALENDAR