BEGIN:VCALENDAR
VERSION:2.0
PRODID:-//Goujonissimo - ECPv6.15.16//NONSGML v1.0//EN
CALSCALE:GREGORIAN
METHOD:PUBLISH
X-WR-CALNAME:Goujonissimo
X-ORIGINAL-URL:https://goujonissimo.be
X-WR-CALDESC:Évènements pour Goujonissimo
REFRESH-INTERVAL;VALUE=DURATION:PT1H
X-Robots-Tag:noindex
X-PUBLISHED-TTL:PT1H
BEGIN:VTIMEZONE
TZID:Europe/Brussels
BEGIN:DAYLIGHT
TZOFFSETFROM:+0100
TZOFFSETTO:+0200
TZNAME:CEST
DTSTART:20250330T010000
END:DAYLIGHT
BEGIN:STANDARD
TZOFFSETFROM:+0200
TZOFFSETTO:+0100
TZNAME:CET
DTSTART:20251026T010000
END:STANDARD
BEGIN:DAYLIGHT
TZOFFSETFROM:+0100
TZOFFSETTO:+0200
TZNAME:CEST
DTSTART:20260329T010000
END:DAYLIGHT
BEGIN:STANDARD
TZOFFSETFROM:+0200
TZOFFSETTO:+0100
TZNAME:CET
DTSTART:20261025T010000
END:STANDARD
BEGIN:DAYLIGHT
TZOFFSETFROM:+0100
TZOFFSETTO:+0200
TZNAME:CEST
DTSTART:20270328T010000
END:DAYLIGHT
BEGIN:STANDARD
TZOFFSETFROM:+0200
TZOFFSETTO:+0100
TZNAME:CET
DTSTART:20271031T010000
END:STANDARD
END:VTIMEZONE
BEGIN:VEVENT
DTSTART;TZID=Europe/Brussels:20260423T081500
DTEND;TZID=Europe/Brussels:20260423T093000
DTSTAMP:20260423T061612
CREATED:20251107T095356Z
LAST-MODIFIED:20260327T104023Z
UID:10013540-1776932100-1776936600@goujonissimo.be
SUMMARY:Le KIOSK de santé mobile
DESCRIPTION:Le kiosque de santé mobile est une collaboration entre les habitants qu quartier\, CSSI Goujonissimo\, asbl Gezondheidskiosk\, la Commune d’Anderlecht\, Huis Van Het Kind\, PCS Goujons et une multitude d’autres partenaires du quartier. \nNous voulons construire ensemble un Kiosk de santé mobile! Nous serons installés à différents endroits dans le quartier Cureghem-biestebroeck. \nNous souhaitons: \n\napporter des informations sur la santé et le quartier à tout le monde\nêtre un endroit agréable et sûr où tout le monde  aime venir et rencontrer d’autres personnes\n\nAGENDA AVRIL \n \n 
URL:https://goujonissimo.be/event/le-kiosk-de-sante-mobile/2026-04-23/
ATTACH;FMTTYPE=image/png:https://goujonissimo.be/wp-content/uploads/2025/01/Capture-decran-2025-01-03-171227-e1762509570784.png
END:VEVENT
BEGIN:VEVENT
DTSTART;TZID=Europe/Brussels:20260423T160000
DTEND;TZID=Europe/Brussels:20260423T180000
DTSTAMP:20260423T061613
CREATED:20251030T131346Z
LAST-MODIFIED:20260327T104744Z
UID:10010367-1776960000-1776967200@goujonissimo.be
SUMMARY:Atelier creo -peinture
DESCRIPTION:Deux fois par mois l’artiste Joanna vous amène dans l’univers de la peinture. Une fois sur deux (Atelier Creo – expression)\, accompagnés de nos psychologues ( Amina et Anais) vous y trouverez la détente et votre moyen d’expression de soi même à travers des différentes formes d’art. Une autre fois (Atelier Creo-cours)\, Joanna partage avec vous ses connaissances techniques et vous apprend à dessiner comme de pro 😉 ! Les sessions sont destinées aux adultes et tout le monde est le bienvenu\, indépendamment de la langue ou du talent.
URL:https://goujonissimo.be/event/atelier-creo-peinture/2026-04-23/
ATTACH;FMTTYPE=image/jpeg:https://goujonissimo.be/wp-content/uploads/2025/10/maxresdefault.jpg
END:VEVENT
END:VCALENDAR