BEGIN:VCALENDAR
VERSION:2.0
PRODID:-//Goujonissimo - ECPv6.15.16//NONSGML v1.0//EN
CALSCALE:GREGORIAN
METHOD:PUBLISH
X-WR-CALNAME:Goujonissimo
X-ORIGINAL-URL:https://goujonissimo.be
X-WR-CALDESC:Évènements pour Goujonissimo
REFRESH-INTERVAL;VALUE=DURATION:PT1H
X-Robots-Tag:noindex
X-PUBLISHED-TTL:PT1H
BEGIN:VTIMEZONE
TZID:Europe/Zurich
BEGIN:DAYLIGHT
TZOFFSETFROM:+0100
TZOFFSETTO:+0200
TZNAME:CEST
DTSTART:20250330T010000
END:DAYLIGHT
BEGIN:STANDARD
TZOFFSETFROM:+0200
TZOFFSETTO:+0100
TZNAME:CET
DTSTART:20251026T010000
END:STANDARD
BEGIN:DAYLIGHT
TZOFFSETFROM:+0100
TZOFFSETTO:+0200
TZNAME:CEST
DTSTART:20260329T010000
END:DAYLIGHT
BEGIN:STANDARD
TZOFFSETFROM:+0200
TZOFFSETTO:+0100
TZNAME:CET
DTSTART:20261025T010000
END:STANDARD
BEGIN:DAYLIGHT
TZOFFSETFROM:+0100
TZOFFSETTO:+0200
TZNAME:CEST
DTSTART:20270328T010000
END:DAYLIGHT
BEGIN:STANDARD
TZOFFSETFROM:+0200
TZOFFSETTO:+0100
TZNAME:CET
DTSTART:20271031T010000
END:STANDARD
BEGIN:DAYLIGHT
TZOFFSETFROM:+0100
TZOFFSETTO:+0200
TZNAME:CEST
DTSTART:20280326T010000
END:DAYLIGHT
BEGIN:STANDARD
TZOFFSETFROM:+0200
TZOFFSETTO:+0100
TZNAME:CET
DTSTART:20281029T010000
END:STANDARD
END:VTIMEZONE
BEGIN:VTIMEZONE
TZID:Europe/Brussels
BEGIN:DAYLIGHT
TZOFFSETFROM:+0100
TZOFFSETTO:+0200
TZNAME:CEST
DTSTART:20250330T010000
END:DAYLIGHT
BEGIN:STANDARD
TZOFFSETFROM:+0200
TZOFFSETTO:+0100
TZNAME:CET
DTSTART:20251026T010000
END:STANDARD
BEGIN:DAYLIGHT
TZOFFSETFROM:+0100
TZOFFSETTO:+0200
TZNAME:CEST
DTSTART:20260329T010000
END:DAYLIGHT
BEGIN:STANDARD
TZOFFSETFROM:+0200
TZOFFSETTO:+0100
TZNAME:CET
DTSTART:20261025T010000
END:STANDARD
BEGIN:DAYLIGHT
TZOFFSETFROM:+0100
TZOFFSETTO:+0200
TZNAME:CEST
DTSTART:20270328T010000
END:DAYLIGHT
BEGIN:STANDARD
TZOFFSETFROM:+0200
TZOFFSETTO:+0100
TZNAME:CET
DTSTART:20271031T010000
END:STANDARD
BEGIN:DAYLIGHT
TZOFFSETFROM:+0100
TZOFFSETTO:+0200
TZNAME:CEST
DTSTART:20280326T010000
END:DAYLIGHT
BEGIN:STANDARD
TZOFFSETFROM:+0200
TZOFFSETTO:+0100
TZNAME:CET
DTSTART:20281029T010000
END:STANDARD
END:VTIMEZONE
BEGIN:VEVENT
DTSTART;TZID=Europe/Zurich:20261215T093000
DTEND;TZID=Europe/Zurich:20261215T110000
DTSTAMP:20260424T182337
CREATED:20240405T084752Z
LAST-MODIFIED:20260403T084411Z
UID:10002744-1797327000-1797332400@goujonissimo.be
SUMMARY:Yoga Yengar
DESCRIPTION:Karin\, professeur de yoga\, enseigne le Yengar Yoga deux fois par semaine à Goujonissimo. Il s’agit d’une forme active de yoga\, où vous travaillez avec des outils tels que des blocs\, des couvertures et des chaises pour vous aider à adopter correctement les différentes postures. Le yoga contribue à votre force\, votre flexibilité et votre stabilité et peut également être un bon stimulant pour votre bien-être mental. \nTarifs \n\n15 € / 1 cours\n60 € / 5 cours\n120 € / 10 cours
URL:https://goujonissimo.be/event/yoga-yengar-2/2026-12-15/
LOCATION:Salle de gym
CATEGORIES:Sportive
ATTACH;FMTTYPE=image/jpeg:https://goujonissimo.be/wp-content/uploads/2024/04/yoga-yengar.jpg
END:VEVENT
BEGIN:VEVENT
DTSTART;TZID=Europe/Zurich:20261216T100000
DTEND;TZID=Europe/Zurich:20261216T110000
DTSTAMP:20260424T182337
CREATED:20260227T084305Z
LAST-MODIFIED:20260227T084305Z
UID:10012844-1797415200-1797418800@goujonissimo.be
SUMMARY:Gym Douce Femmes
DESCRIPTION:Le centre de services local Cosmos propose une « Gym Douce » pour les seniors du quartier.  \nEn petit groupe de 10 à 15 personnes\, vous bougez ensemble en musique. C’est une activité destinée aux seniors ou aux personnes qui ont parfois du mal à se déplacer.  \nLe mercredi\, l’activité est réservée aux femmes.
URL:https://goujonissimo.be/event/gym-douce-femmes-2-2/2026-12-16/
LOCATION:Salle de gym
CATEGORIES:Convivial,Sportive
ATTACH;FMTTYPE=image/png:https://goujonissimo.be/wp-content/uploads/2024/03/gym-douce.png
END:VEVENT
BEGIN:VEVENT
DTSTART;TZID=Europe/Brussels:20261216T103000
DTEND;TZID=Europe/Brussels:20261216T120000
DTSTAMP:20260424T182337
CREATED:20260305T161046Z
LAST-MODIFIED:20260309T075856Z
UID:10013364-1797417000-1797422400@goujonissimo.be
SUMMARY:En route vers la relaxation
DESCRIPTION:Découvrez différentes manières pour vous relaxer: \n\n exercices de respiration et de méditation\n marche en pleine conscience\ndessin méditatif\n immersion sonore\n\nA Goujonissimo \n 
URL:https://goujonissimo.be/event/en-route-vers-la-relaxation-2/2026-12-16/
LOCATION:Salle de gym
CATEGORIES:Information,Santé,Santé Mentale
ATTACH;FMTTYPE=image/webp:https://goujonissimo.be/wp-content/uploads/2024/05/abdominal-breathing-african-woman-practicing-belly-relaxation-breath-awareness-yoga-exercise-meditation-body-mind-emotions-226379546.webp
END:VEVENT
BEGIN:VEVENT
DTSTART;TZID=Europe/Brussels:20261218T100000
DTEND;TZID=Europe/Brussels:20261218T110000
DTSTAMP:20260424T182337
CREATED:20250411T114102Z
LAST-MODIFIED:20260213T100553Z
UID:10007447-1797588000-1797591600@goujonissimo.be
SUMMARY:Danse d'ailleurs
DESCRIPTION:Envie de découvrir des rythmes envoutants et des cultures fascinantes? \nRejoignez-nous chaque vendredi pour un tour du monde à travers la danse! \nà Goujonissimo.
URL:https://goujonissimo.be/event/danse-dailleurs/2026-12-18/
ATTACH;FMTTYPE=image/jpeg:https://goujonissimo.be/wp-content/uploads/2025/04/danse-femme.jpg
END:VEVENT
BEGIN:VEVENT
DTSTART;TZID=Europe/Brussels:20261221T090000
DTEND;TZID=Europe/Brussels:20261221T120000
DTSTAMP:20260424T182337
CREATED:20241206T133247Z
LAST-MODIFIED:20260403T081719Z
UID:10006720-1797843600-1797854400@goujonissimo.be
SUMMARY:Main dans les mains (activités créatives)
DESCRIPTION:Activités créatives chaque lundi de 9 – 12h \nCouture\, tricot\, cuisine durable\, visite de musée… \nà Goujonissimo
URL:https://goujonissimo.be/event/main-dans-les-mains-activites-creatives/2026-12-21/
ATTACH;FMTTYPE=image/png:https://goujonissimo.be/wp-content/uploads/2024/12/image-1.png
END:VEVENT
BEGIN:VEVENT
DTSTART;TZID=Europe/Zurich:20261221T143000
DTEND;TZID=Europe/Zurich:20261221T150000
DTSTAMP:20260424T182337
CREATED:20240326T092426Z
LAST-MODIFIED:20260403T081829Z
UID:10008739-1797863400-1797865200@goujonissimo.be
SUMMARY:Gym Douce Mixte
DESCRIPTION:Le centre de services local Cosmos propose une « Gym Douce » pour les seniors à Goujonissimo. \nEn petit groupe de 10 à 15 personnes\, vous bougez ensemble en musique. C’est une activité destinée aux seniors ou aux personnes qui ont parfois du mal à se déplacer.  \nLe lundi\, le groupe est mixte et les hommes et les femmes s’entraînent ensemble.
URL:https://goujonissimo.be/event/gym-douce-2/2026-12-21/
LOCATION:Salle de gym
CATEGORIES:Sportive
ATTACH;FMTTYPE=image/png:https://goujonissimo.be/wp-content/uploads/2024/03/gym-douce.png
END:VEVENT
BEGIN:VEVENT
DTSTART;TZID=Europe/Brussels:20261221T170000
DTEND;TZID=Europe/Brussels:20261221T180000
DTSTAMP:20260424T182337
CREATED:20240917T142340Z
LAST-MODIFIED:20260403T081929Z
UID:10005851-1797872400-1797876000@goujonissimo.be
SUMMARY:Courir ensemble
DESCRIPTION:Envie de courir en groupe? \nVenez participer gratuitement au groupe de course à pied qui se déroule chaque lundi à 17h. \nN’oubliez pas de venir en tenue sportive. \nOuvert pour tous les niveaux! \nLieu de rendez-vous: Goujonissimo
URL:https://goujonissimo.be/event/groupe-de-course-a-pied/2026-12-21/
ATTACH;FMTTYPE=image/webp:https://goujonissimo.be/wp-content/uploads/2024/09/courir-e1726582766322.webp
END:VEVENT
BEGIN:VEVENT
DTSTART;TZID=Europe/Zurich:20261221T183000
DTEND;TZID=Europe/Zurich:20261221T200000
DTSTAMP:20260424T182337
CREATED:20240326T092426Z
LAST-MODIFIED:20260403T084515Z
UID:10002219-1797877800-1797883200@goujonissimo.be
SUMMARY:Yoga Yengar
DESCRIPTION:Karin\, professeur de yoga\, enseigne le Yengar Yoga deux fois par semaine à Goujonissimo. Il s’agit d’une forme active de yoga\, où vous travaillez avec des outils tels que des blocs\, des couvertures et des chaises pour vous aider à adopter correctement les différentes postures. Le yoga contribue à votre force\, votre flexibilité et votre stabilité et peut également être un bon stimulant pour votre bien-être mental. \nTarifs \n\n15 € / 1 cours\n60 € / 5 cours\n120 € / 10 cours
URL:https://goujonissimo.be/event/yoga-yengar/2026-12-21/
LOCATION:Salle de gym
CATEGORIES:Sportive
ATTACH;FMTTYPE=image/jpeg:https://goujonissimo.be/wp-content/uploads/2024/04/yoga-yengar.jpg
END:VEVENT
BEGIN:VEVENT
DTSTART;TZID=Europe/Zurich:20261222T093000
DTEND;TZID=Europe/Zurich:20261222T110000
DTSTAMP:20260424T182337
CREATED:20240405T084752Z
LAST-MODIFIED:20260403T084411Z
UID:10002745-1797931800-1797937200@goujonissimo.be
SUMMARY:Yoga Yengar
DESCRIPTION:Karin\, professeur de yoga\, enseigne le Yengar Yoga deux fois par semaine à Goujonissimo. Il s’agit d’une forme active de yoga\, où vous travaillez avec des outils tels que des blocs\, des couvertures et des chaises pour vous aider à adopter correctement les différentes postures. Le yoga contribue à votre force\, votre flexibilité et votre stabilité et peut également être un bon stimulant pour votre bien-être mental. \nTarifs \n\n15 € / 1 cours\n60 € / 5 cours\n120 € / 10 cours
URL:https://goujonissimo.be/event/yoga-yengar-2/2026-12-22/
LOCATION:Salle de gym
CATEGORIES:Sportive
ATTACH;FMTTYPE=image/jpeg:https://goujonissimo.be/wp-content/uploads/2024/04/yoga-yengar.jpg
END:VEVENT
BEGIN:VEVENT
DTSTART;TZID=Europe/Zurich:20261223T100000
DTEND;TZID=Europe/Zurich:20261223T110000
DTSTAMP:20260424T182337
CREATED:20260227T084305Z
LAST-MODIFIED:20260227T084305Z
UID:10012845-1798020000-1798023600@goujonissimo.be
SUMMARY:Gym Douce Femmes
DESCRIPTION:Le centre de services local Cosmos propose une « Gym Douce » pour les seniors du quartier.  \nEn petit groupe de 10 à 15 personnes\, vous bougez ensemble en musique. C’est une activité destinée aux seniors ou aux personnes qui ont parfois du mal à se déplacer.  \nLe mercredi\, l’activité est réservée aux femmes.
URL:https://goujonissimo.be/event/gym-douce-femmes-2-2/2026-12-23/
LOCATION:Salle de gym
CATEGORIES:Convivial,Sportive
ATTACH;FMTTYPE=image/png:https://goujonissimo.be/wp-content/uploads/2024/03/gym-douce.png
END:VEVENT
BEGIN:VEVENT
DTSTART;TZID=Europe/Brussels:20261225T100000
DTEND;TZID=Europe/Brussels:20261225T110000
DTSTAMP:20260424T182337
CREATED:20250411T114102Z
LAST-MODIFIED:20260213T100553Z
UID:10007448-1798192800-1798196400@goujonissimo.be
SUMMARY:Danse d'ailleurs
DESCRIPTION:Envie de découvrir des rythmes envoutants et des cultures fascinantes? \nRejoignez-nous chaque vendredi pour un tour du monde à travers la danse! \nà Goujonissimo.
URL:https://goujonissimo.be/event/danse-dailleurs/2026-12-25/
ATTACH;FMTTYPE=image/jpeg:https://goujonissimo.be/wp-content/uploads/2025/04/danse-femme.jpg
END:VEVENT
BEGIN:VEVENT
DTSTART;TZID=Europe/Brussels:20261228T090000
DTEND;TZID=Europe/Brussels:20261228T120000
DTSTAMP:20260424T182337
CREATED:20241206T133247Z
LAST-MODIFIED:20260403T081719Z
UID:10006721-1798448400-1798459200@goujonissimo.be
SUMMARY:Main dans les mains (activités créatives)
DESCRIPTION:Activités créatives chaque lundi de 9 – 12h \nCouture\, tricot\, cuisine durable\, visite de musée… \nà Goujonissimo
URL:https://goujonissimo.be/event/main-dans-les-mains-activites-creatives/2026-12-28/
ATTACH;FMTTYPE=image/png:https://goujonissimo.be/wp-content/uploads/2024/12/image-1.png
END:VEVENT
BEGIN:VEVENT
DTSTART;TZID=Europe/Zurich:20261228T143000
DTEND;TZID=Europe/Zurich:20261228T150000
DTSTAMP:20260424T182337
CREATED:20240326T092426Z
LAST-MODIFIED:20260403T081829Z
UID:10008740-1798468200-1798470000@goujonissimo.be
SUMMARY:Gym Douce Mixte
DESCRIPTION:Le centre de services local Cosmos propose une « Gym Douce » pour les seniors à Goujonissimo. \nEn petit groupe de 10 à 15 personnes\, vous bougez ensemble en musique. C’est une activité destinée aux seniors ou aux personnes qui ont parfois du mal à se déplacer.  \nLe lundi\, le groupe est mixte et les hommes et les femmes s’entraînent ensemble.
URL:https://goujonissimo.be/event/gym-douce-2/2026-12-28/
LOCATION:Salle de gym
CATEGORIES:Sportive
ATTACH;FMTTYPE=image/png:https://goujonissimo.be/wp-content/uploads/2024/03/gym-douce.png
END:VEVENT
BEGIN:VEVENT
DTSTART;TZID=Europe/Brussels:20261228T170000
DTEND;TZID=Europe/Brussels:20261228T180000
DTSTAMP:20260424T182337
CREATED:20240917T142340Z
LAST-MODIFIED:20260403T081929Z
UID:10005852-1798477200-1798480800@goujonissimo.be
SUMMARY:Courir ensemble
DESCRIPTION:Envie de courir en groupe? \nVenez participer gratuitement au groupe de course à pied qui se déroule chaque lundi à 17h. \nN’oubliez pas de venir en tenue sportive. \nOuvert pour tous les niveaux! \nLieu de rendez-vous: Goujonissimo
URL:https://goujonissimo.be/event/groupe-de-course-a-pied/2026-12-28/
ATTACH;FMTTYPE=image/webp:https://goujonissimo.be/wp-content/uploads/2024/09/courir-e1726582766322.webp
END:VEVENT
BEGIN:VEVENT
DTSTART;TZID=Europe/Zurich:20261228T183000
DTEND;TZID=Europe/Zurich:20261228T200000
DTSTAMP:20260424T182337
CREATED:20240326T092426Z
LAST-MODIFIED:20260403T084515Z
UID:10002220-1798482600-1798488000@goujonissimo.be
SUMMARY:Yoga Yengar
DESCRIPTION:Karin\, professeur de yoga\, enseigne le Yengar Yoga deux fois par semaine à Goujonissimo. Il s’agit d’une forme active de yoga\, où vous travaillez avec des outils tels que des blocs\, des couvertures et des chaises pour vous aider à adopter correctement les différentes postures. Le yoga contribue à votre force\, votre flexibilité et votre stabilité et peut également être un bon stimulant pour votre bien-être mental. \nTarifs \n\n15 € / 1 cours\n60 € / 5 cours\n120 € / 10 cours
URL:https://goujonissimo.be/event/yoga-yengar/2026-12-28/
LOCATION:Salle de gym
CATEGORIES:Sportive
ATTACH;FMTTYPE=image/jpeg:https://goujonissimo.be/wp-content/uploads/2024/04/yoga-yengar.jpg
END:VEVENT
BEGIN:VEVENT
DTSTART;TZID=Europe/Zurich:20261229T093000
DTEND;TZID=Europe/Zurich:20261229T110000
DTSTAMP:20260424T182337
CREATED:20240405T084752Z
LAST-MODIFIED:20260403T084411Z
UID:10002746-1798536600-1798542000@goujonissimo.be
SUMMARY:Yoga Yengar
DESCRIPTION:Karin\, professeur de yoga\, enseigne le Yengar Yoga deux fois par semaine à Goujonissimo. Il s’agit d’une forme active de yoga\, où vous travaillez avec des outils tels que des blocs\, des couvertures et des chaises pour vous aider à adopter correctement les différentes postures. Le yoga contribue à votre force\, votre flexibilité et votre stabilité et peut également être un bon stimulant pour votre bien-être mental. \nTarifs \n\n15 € / 1 cours\n60 € / 5 cours\n120 € / 10 cours
URL:https://goujonissimo.be/event/yoga-yengar-2/2026-12-29/
LOCATION:Salle de gym
CATEGORIES:Sportive
ATTACH;FMTTYPE=image/jpeg:https://goujonissimo.be/wp-content/uploads/2024/04/yoga-yengar.jpg
END:VEVENT
BEGIN:VEVENT
DTSTART;TZID=Europe/Zurich:20261230T100000
DTEND;TZID=Europe/Zurich:20261230T110000
DTSTAMP:20260424T182337
CREATED:20260227T084305Z
LAST-MODIFIED:20260227T084305Z
UID:10012846-1798624800-1798628400@goujonissimo.be
SUMMARY:Gym Douce Femmes
DESCRIPTION:Le centre de services local Cosmos propose une « Gym Douce » pour les seniors du quartier.  \nEn petit groupe de 10 à 15 personnes\, vous bougez ensemble en musique. C’est une activité destinée aux seniors ou aux personnes qui ont parfois du mal à se déplacer.  \nLe mercredi\, l’activité est réservée aux femmes.
URL:https://goujonissimo.be/event/gym-douce-femmes-2-2/2026-12-30/
LOCATION:Salle de gym
CATEGORIES:Convivial,Sportive
ATTACH;FMTTYPE=image/png:https://goujonissimo.be/wp-content/uploads/2024/03/gym-douce.png
END:VEVENT
BEGIN:VEVENT
DTSTART;TZID=Europe/Brussels:20261230T103000
DTEND;TZID=Europe/Brussels:20261230T120000
DTSTAMP:20260424T182337
CREATED:20260305T161046Z
LAST-MODIFIED:20260309T075856Z
UID:10013365-1798626600-1798632000@goujonissimo.be
SUMMARY:En route vers la relaxation
DESCRIPTION:Découvrez différentes manières pour vous relaxer: \n\n exercices de respiration et de méditation\n marche en pleine conscience\ndessin méditatif\n immersion sonore\n\nA Goujonissimo \n 
URL:https://goujonissimo.be/event/en-route-vers-la-relaxation-2/2026-12-30/
LOCATION:Salle de gym
CATEGORIES:Information,Santé,Santé Mentale
ATTACH;FMTTYPE=image/webp:https://goujonissimo.be/wp-content/uploads/2024/05/abdominal-breathing-african-woman-practicing-belly-relaxation-breath-awareness-yoga-exercise-meditation-body-mind-emotions-226379546.webp
END:VEVENT
BEGIN:VEVENT
DTSTART;TZID=Europe/Brussels:20270101T100000
DTEND;TZID=Europe/Brussels:20270101T110000
DTSTAMP:20260424T182337
CREATED:20250411T114102Z
LAST-MODIFIED:20260213T100553Z
UID:10007449-1798797600-1798801200@goujonissimo.be
SUMMARY:Danse d'ailleurs
DESCRIPTION:Envie de découvrir des rythmes envoutants et des cultures fascinantes? \nRejoignez-nous chaque vendredi pour un tour du monde à travers la danse! \nà Goujonissimo.
URL:https://goujonissimo.be/event/danse-dailleurs/2027-01-01/
ATTACH;FMTTYPE=image/jpeg:https://goujonissimo.be/wp-content/uploads/2025/04/danse-femme.jpg
END:VEVENT
BEGIN:VEVENT
DTSTART;TZID=Europe/Brussels:20270104T090000
DTEND;TZID=Europe/Brussels:20270104T120000
DTSTAMP:20260424T182337
CREATED:20241206T133247Z
LAST-MODIFIED:20260403T081719Z
UID:10006722-1799053200-1799064000@goujonissimo.be
SUMMARY:Main dans les mains (activités créatives)
DESCRIPTION:Activités créatives chaque lundi de 9 – 12h \nCouture\, tricot\, cuisine durable\, visite de musée… \nà Goujonissimo
URL:https://goujonissimo.be/event/main-dans-les-mains-activites-creatives/2027-01-04/
ATTACH;FMTTYPE=image/png:https://goujonissimo.be/wp-content/uploads/2024/12/image-1.png
END:VEVENT
BEGIN:VEVENT
DTSTART;TZID=Europe/Zurich:20270104T143000
DTEND;TZID=Europe/Zurich:20270104T150000
DTSTAMP:20260424T182337
CREATED:20240326T092426Z
LAST-MODIFIED:20260403T081829Z
UID:10008741-1799073000-1799074800@goujonissimo.be
SUMMARY:Gym Douce Mixte
DESCRIPTION:Le centre de services local Cosmos propose une « Gym Douce » pour les seniors à Goujonissimo. \nEn petit groupe de 10 à 15 personnes\, vous bougez ensemble en musique. C’est une activité destinée aux seniors ou aux personnes qui ont parfois du mal à se déplacer.  \nLe lundi\, le groupe est mixte et les hommes et les femmes s’entraînent ensemble.
URL:https://goujonissimo.be/event/gym-douce-2/2027-01-04/
LOCATION:Salle de gym
CATEGORIES:Sportive
ATTACH;FMTTYPE=image/png:https://goujonissimo.be/wp-content/uploads/2024/03/gym-douce.png
END:VEVENT
BEGIN:VEVENT
DTSTART;TZID=Europe/Brussels:20270104T170000
DTEND;TZID=Europe/Brussels:20270104T180000
DTSTAMP:20260424T182337
CREATED:20240917T142340Z
LAST-MODIFIED:20260403T081929Z
UID:10005853-1799082000-1799085600@goujonissimo.be
SUMMARY:Courir ensemble
DESCRIPTION:Envie de courir en groupe? \nVenez participer gratuitement au groupe de course à pied qui se déroule chaque lundi à 17h. \nN’oubliez pas de venir en tenue sportive. \nOuvert pour tous les niveaux! \nLieu de rendez-vous: Goujonissimo
URL:https://goujonissimo.be/event/groupe-de-course-a-pied/2027-01-04/
ATTACH;FMTTYPE=image/webp:https://goujonissimo.be/wp-content/uploads/2024/09/courir-e1726582766322.webp
END:VEVENT
BEGIN:VEVENT
DTSTART;TZID=Europe/Zurich:20270104T183000
DTEND;TZID=Europe/Zurich:20270104T200000
DTSTAMP:20260424T182337
CREATED:20240326T092426Z
LAST-MODIFIED:20260403T084515Z
UID:10002221-1799087400-1799092800@goujonissimo.be
SUMMARY:Yoga Yengar
DESCRIPTION:Karin\, professeur de yoga\, enseigne le Yengar Yoga deux fois par semaine à Goujonissimo. Il s’agit d’une forme active de yoga\, où vous travaillez avec des outils tels que des blocs\, des couvertures et des chaises pour vous aider à adopter correctement les différentes postures. Le yoga contribue à votre force\, votre flexibilité et votre stabilité et peut également être un bon stimulant pour votre bien-être mental. \nTarifs \n\n15 € / 1 cours\n60 € / 5 cours\n120 € / 10 cours
URL:https://goujonissimo.be/event/yoga-yengar/2027-01-04/
LOCATION:Salle de gym
CATEGORIES:Sportive
ATTACH;FMTTYPE=image/jpeg:https://goujonissimo.be/wp-content/uploads/2024/04/yoga-yengar.jpg
END:VEVENT
BEGIN:VEVENT
DTSTART;TZID=Europe/Zurich:20270105T093000
DTEND;TZID=Europe/Zurich:20270105T110000
DTSTAMP:20260424T182337
CREATED:20240405T084752Z
LAST-MODIFIED:20260403T084411Z
UID:10002747-1799141400-1799146800@goujonissimo.be
SUMMARY:Yoga Yengar
DESCRIPTION:Karin\, professeur de yoga\, enseigne le Yengar Yoga deux fois par semaine à Goujonissimo. Il s’agit d’une forme active de yoga\, où vous travaillez avec des outils tels que des blocs\, des couvertures et des chaises pour vous aider à adopter correctement les différentes postures. Le yoga contribue à votre force\, votre flexibilité et votre stabilité et peut également être un bon stimulant pour votre bien-être mental. \nTarifs \n\n15 € / 1 cours\n60 € / 5 cours\n120 € / 10 cours
URL:https://goujonissimo.be/event/yoga-yengar-2/2027-01-05/
LOCATION:Salle de gym
CATEGORIES:Sportive
ATTACH;FMTTYPE=image/jpeg:https://goujonissimo.be/wp-content/uploads/2024/04/yoga-yengar.jpg
END:VEVENT
BEGIN:VEVENT
DTSTART;TZID=Europe/Zurich:20270106T100000
DTEND;TZID=Europe/Zurich:20270106T110000
DTSTAMP:20260424T182337
CREATED:20260227T084305Z
LAST-MODIFIED:20260227T084305Z
UID:10012847-1799229600-1799233200@goujonissimo.be
SUMMARY:Gym Douce Femmes
DESCRIPTION:Le centre de services local Cosmos propose une « Gym Douce » pour les seniors du quartier.  \nEn petit groupe de 10 à 15 personnes\, vous bougez ensemble en musique. C’est une activité destinée aux seniors ou aux personnes qui ont parfois du mal à se déplacer.  \nLe mercredi\, l’activité est réservée aux femmes.
URL:https://goujonissimo.be/event/gym-douce-femmes-2-2/2027-01-06/
LOCATION:Salle de gym
CATEGORIES:Convivial,Sportive
ATTACH;FMTTYPE=image/png:https://goujonissimo.be/wp-content/uploads/2024/03/gym-douce.png
END:VEVENT
BEGIN:VEVENT
DTSTART;TZID=Europe/Zurich:20270107T090000
DTEND;TZID=Europe/Zurich:20270107T110000
DTSTAMP:20260424T182337
CREATED:20251229T091305Z
LAST-MODIFIED:20251229T100309Z
UID:10012195-1799312400-1799319600@goujonissimo.be
SUMMARY:Petit déjeuner
DESCRIPTION:Goujonissimo organise un petit-déjeuner tous les premiers jeudis du mois. Tout le monde est le bienvenu pour une rencontre agréable\, pour faire connaissance et pour rencontrer les collègues de Goujonissimo. \nLes habitants du quartier qui souhaitent apporter leurs propres friandises sont les bienvenus\, mais ce n’est en aucun cas une obligation. \nTout le monde est le bienvenu !
URL:https://goujonissimo.be/event/petit-dejeuner-2-2-2/2027-01-07/
LOCATION:Salle communautaire
ATTACH;FMTTYPE=image/webp:https://goujonissimo.be/wp-content/uploads/2024/03/Goujonissimo_Activite-petit-dej.webp
END:VEVENT
BEGIN:VEVENT
DTSTART;TZID=Europe/Brussels:20270108T100000
DTEND;TZID=Europe/Brussels:20270108T110000
DTSTAMP:20260424T182337
CREATED:20250411T114102Z
LAST-MODIFIED:20260213T100553Z
UID:10007450-1799402400-1799406000@goujonissimo.be
SUMMARY:Danse d'ailleurs
DESCRIPTION:Envie de découvrir des rythmes envoutants et des cultures fascinantes? \nRejoignez-nous chaque vendredi pour un tour du monde à travers la danse! \nà Goujonissimo.
URL:https://goujonissimo.be/event/danse-dailleurs/2027-01-08/
ATTACH;FMTTYPE=image/jpeg:https://goujonissimo.be/wp-content/uploads/2025/04/danse-femme.jpg
END:VEVENT
BEGIN:VEVENT
DTSTART;TZID=Europe/Brussels:20270111T090000
DTEND;TZID=Europe/Brussels:20270111T120000
DTSTAMP:20260424T182337
CREATED:20241206T133247Z
LAST-MODIFIED:20260403T081719Z
UID:10006723-1799658000-1799668800@goujonissimo.be
SUMMARY:Main dans les mains (activités créatives)
DESCRIPTION:Activités créatives chaque lundi de 9 – 12h \nCouture\, tricot\, cuisine durable\, visite de musée… \nà Goujonissimo
URL:https://goujonissimo.be/event/main-dans-les-mains-activites-creatives/2027-01-11/
ATTACH;FMTTYPE=image/png:https://goujonissimo.be/wp-content/uploads/2024/12/image-1.png
END:VEVENT
BEGIN:VEVENT
DTSTART;TZID=Europe/Zurich:20270111T143000
DTEND;TZID=Europe/Zurich:20270111T150000
DTSTAMP:20260424T182337
CREATED:20240326T092426Z
LAST-MODIFIED:20260403T081829Z
UID:10008742-1799677800-1799679600@goujonissimo.be
SUMMARY:Gym Douce Mixte
DESCRIPTION:Le centre de services local Cosmos propose une « Gym Douce » pour les seniors à Goujonissimo. \nEn petit groupe de 10 à 15 personnes\, vous bougez ensemble en musique. C’est une activité destinée aux seniors ou aux personnes qui ont parfois du mal à se déplacer.  \nLe lundi\, le groupe est mixte et les hommes et les femmes s’entraînent ensemble.
URL:https://goujonissimo.be/event/gym-douce-2/2027-01-11/
LOCATION:Salle de gym
CATEGORIES:Sportive
ATTACH;FMTTYPE=image/png:https://goujonissimo.be/wp-content/uploads/2024/03/gym-douce.png
END:VEVENT
BEGIN:VEVENT
DTSTART;TZID=Europe/Brussels:20270111T170000
DTEND;TZID=Europe/Brussels:20270111T180000
DTSTAMP:20260424T182337
CREATED:20240917T142340Z
LAST-MODIFIED:20260403T081929Z
UID:10005854-1799686800-1799690400@goujonissimo.be
SUMMARY:Courir ensemble
DESCRIPTION:Envie de courir en groupe? \nVenez participer gratuitement au groupe de course à pied qui se déroule chaque lundi à 17h. \nN’oubliez pas de venir en tenue sportive. \nOuvert pour tous les niveaux! \nLieu de rendez-vous: Goujonissimo
URL:https://goujonissimo.be/event/groupe-de-course-a-pied/2027-01-11/
ATTACH;FMTTYPE=image/webp:https://goujonissimo.be/wp-content/uploads/2024/09/courir-e1726582766322.webp
END:VEVENT
END:VCALENDAR