BEGIN:VCALENDAR
VERSION:2.0
PRODID:-//Goujonissimo - ECPv6.15.16//NONSGML v1.0//EN
CALSCALE:GREGORIAN
METHOD:PUBLISH
X-ORIGINAL-URL:https://goujonissimo.be
X-WR-CALDESC:Évènements pour Goujonissimo
REFRESH-INTERVAL;VALUE=DURATION:PT1H
X-Robots-Tag:noindex
X-PUBLISHED-TTL:PT1H
BEGIN:VTIMEZONE
TZID:Europe/Brussels
BEGIN:DAYLIGHT
TZOFFSETFROM:+0100
TZOFFSETTO:+0200
TZNAME:CEST
DTSTART:20240331T010000
END:DAYLIGHT
BEGIN:STANDARD
TZOFFSETFROM:+0200
TZOFFSETTO:+0100
TZNAME:CET
DTSTART:20241027T010000
END:STANDARD
BEGIN:DAYLIGHT
TZOFFSETFROM:+0100
TZOFFSETTO:+0200
TZNAME:CEST
DTSTART:20250330T010000
END:DAYLIGHT
BEGIN:STANDARD
TZOFFSETFROM:+0200
TZOFFSETTO:+0100
TZNAME:CET
DTSTART:20251026T010000
END:STANDARD
BEGIN:DAYLIGHT
TZOFFSETFROM:+0100
TZOFFSETTO:+0200
TZNAME:CEST
DTSTART:20260329T010000
END:DAYLIGHT
BEGIN:STANDARD
TZOFFSETFROM:+0200
TZOFFSETTO:+0100
TZNAME:CET
DTSTART:20261025T010000
END:STANDARD
END:VTIMEZONE
BEGIN:VTIMEZONE
TZID:Europe/Zurich
BEGIN:DAYLIGHT
TZOFFSETFROM:+0100
TZOFFSETTO:+0200
TZNAME:CEST
DTSTART:20240331T010000
END:DAYLIGHT
BEGIN:STANDARD
TZOFFSETFROM:+0200
TZOFFSETTO:+0100
TZNAME:CET
DTSTART:20241027T010000
END:STANDARD
BEGIN:DAYLIGHT
TZOFFSETFROM:+0100
TZOFFSETTO:+0200
TZNAME:CEST
DTSTART:20250330T010000
END:DAYLIGHT
BEGIN:STANDARD
TZOFFSETFROM:+0200
TZOFFSETTO:+0100
TZNAME:CET
DTSTART:20251026T010000
END:STANDARD
BEGIN:DAYLIGHT
TZOFFSETFROM:+0100
TZOFFSETTO:+0200
TZNAME:CEST
DTSTART:20260329T010000
END:DAYLIGHT
BEGIN:STANDARD
TZOFFSETFROM:+0200
TZOFFSETTO:+0100
TZNAME:CET
DTSTART:20261025T010000
END:STANDARD
END:VTIMEZONE
BEGIN:VEVENT
DTSTART;TZID=Europe/Brussels:20250521T103000
DTEND;TZID=Europe/Brussels:20250921T110000
DTSTAMP:20260426T062551
CREATED:20240829T074735Z
LAST-MODIFIED:20260305T160604Z
UID:10007216-1747823400-1758452400@goujonissimo.be
SUMMARY:En route vers la relaxation
DESCRIPTION:Découvrez différentes manières pour vous relaxer: \n\n exercices de respiration et de méditation\n marche en pleine conscience\ndessin méditatif\n immersion sonore\n\nA Goujonissimo \n 
URL:https://goujonissimo.be/event/en-route-vers-la-relaxation/2025-05-21/
LOCATION:Salle de gym
CATEGORIES:Information,Santé,Santé Mentale
ATTACH;FMTTYPE=image/webp:https://goujonissimo.be/wp-content/uploads/2024/05/abdominal-breathing-african-woman-practicing-belly-relaxation-breath-awareness-yoga-exercise-meditation-body-mind-emotions-226379546.webp
END:VEVENT
BEGIN:VEVENT
DTSTART;TZID=Europe/Brussels:20250604T103000
DTEND;TZID=Europe/Brussels:20251005T110000
DTSTAMP:20260426T062551
CREATED:20240829T074735Z
LAST-MODIFIED:20260305T160604Z
UID:10007217-1749033000-1759662000@goujonissimo.be
SUMMARY:En route vers la relaxation
DESCRIPTION:Découvrez différentes manières pour vous relaxer: \n\n exercices de respiration et de méditation\n marche en pleine conscience\ndessin méditatif\n immersion sonore\n\nA Goujonissimo \n 
URL:https://goujonissimo.be/event/en-route-vers-la-relaxation/2025-06-04/
LOCATION:Salle de gym
CATEGORIES:Information,Santé,Santé Mentale
ATTACH;FMTTYPE=image/webp:https://goujonissimo.be/wp-content/uploads/2024/05/abdominal-breathing-african-woman-practicing-belly-relaxation-breath-awareness-yoga-exercise-meditation-body-mind-emotions-226379546.webp
END:VEVENT
BEGIN:VEVENT
DTSTART;TZID=Europe/Brussels:20250618T103000
DTEND;TZID=Europe/Brussels:20251019T110000
DTSTAMP:20260426T062551
CREATED:20240829T074735Z
LAST-MODIFIED:20260305T160604Z
UID:10007218-1750242600-1760871600@goujonissimo.be
SUMMARY:En route vers la relaxation
DESCRIPTION:Découvrez différentes manières pour vous relaxer: \n\n exercices de respiration et de méditation\n marche en pleine conscience\ndessin méditatif\n immersion sonore\n\nA Goujonissimo \n 
URL:https://goujonissimo.be/event/en-route-vers-la-relaxation/2025-06-18/
LOCATION:Salle de gym
CATEGORIES:Information,Santé,Santé Mentale
ATTACH;FMTTYPE=image/webp:https://goujonissimo.be/wp-content/uploads/2024/05/abdominal-breathing-african-woman-practicing-belly-relaxation-breath-awareness-yoga-exercise-meditation-body-mind-emotions-226379546.webp
END:VEVENT
BEGIN:VEVENT
DTSTART;TZID=Europe/Brussels:20250702T103000
DTEND;TZID=Europe/Brussels:20251102T100000
DTSTAMP:20260426T062551
CREATED:20240829T074735Z
LAST-MODIFIED:20260305T160604Z
UID:10007219-1751452200-1762077600@goujonissimo.be
SUMMARY:En route vers la relaxation
DESCRIPTION:Découvrez différentes manières pour vous relaxer: \n\n exercices de respiration et de méditation\n marche en pleine conscience\ndessin méditatif\n immersion sonore\n\nA Goujonissimo \n 
URL:https://goujonissimo.be/event/en-route-vers-la-relaxation/2025-07-02/
LOCATION:Salle de gym
CATEGORIES:Information,Santé,Santé Mentale
ATTACH;FMTTYPE=image/webp:https://goujonissimo.be/wp-content/uploads/2024/05/abdominal-breathing-african-woman-practicing-belly-relaxation-breath-awareness-yoga-exercise-meditation-body-mind-emotions-226379546.webp
END:VEVENT
BEGIN:VEVENT
DTSTART;TZID=Europe/Brussels:20250716T103000
DTEND;TZID=Europe/Brussels:20251116T100000
DTSTAMP:20260426T062551
CREATED:20240829T074735Z
LAST-MODIFIED:20260305T160604Z
UID:10007220-1752661800-1763287200@goujonissimo.be
SUMMARY:En route vers la relaxation
DESCRIPTION:Découvrez différentes manières pour vous relaxer: \n\n exercices de respiration et de méditation\n marche en pleine conscience\ndessin méditatif\n immersion sonore\n\nA Goujonissimo \n 
URL:https://goujonissimo.be/event/en-route-vers-la-relaxation/2025-07-16/
LOCATION:Salle de gym
CATEGORIES:Information,Santé,Santé Mentale
ATTACH;FMTTYPE=image/webp:https://goujonissimo.be/wp-content/uploads/2024/05/abdominal-breathing-african-woman-practicing-belly-relaxation-breath-awareness-yoga-exercise-meditation-body-mind-emotions-226379546.webp
END:VEVENT
BEGIN:VEVENT
DTSTART;TZID=Europe/Brussels:20250730T103000
DTEND;TZID=Europe/Brussels:20251130T100000
DTSTAMP:20260426T062551
CREATED:20240829T074735Z
LAST-MODIFIED:20260305T160604Z
UID:10007221-1753871400-1764496800@goujonissimo.be
SUMMARY:En route vers la relaxation
DESCRIPTION:Découvrez différentes manières pour vous relaxer: \n\n exercices de respiration et de méditation\n marche en pleine conscience\ndessin méditatif\n immersion sonore\n\nA Goujonissimo \n 
URL:https://goujonissimo.be/event/en-route-vers-la-relaxation/2025-07-30/
LOCATION:Salle de gym
CATEGORIES:Information,Santé,Santé Mentale
ATTACH;FMTTYPE=image/webp:https://goujonissimo.be/wp-content/uploads/2024/05/abdominal-breathing-african-woman-practicing-belly-relaxation-breath-awareness-yoga-exercise-meditation-body-mind-emotions-226379546.webp
END:VEVENT
BEGIN:VEVENT
DTSTART;TZID=Europe/Brussels:20250813T103000
DTEND;TZID=Europe/Brussels:20251214T100000
DTSTAMP:20260426T062551
CREATED:20240829T074735Z
LAST-MODIFIED:20260305T160604Z
UID:10007222-1755081000-1765706400@goujonissimo.be
SUMMARY:En route vers la relaxation
DESCRIPTION:Découvrez différentes manières pour vous relaxer: \n\n exercices de respiration et de méditation\n marche en pleine conscience\ndessin méditatif\n immersion sonore\n\nA Goujonissimo \n 
URL:https://goujonissimo.be/event/en-route-vers-la-relaxation/2025-08-13/
LOCATION:Salle de gym
CATEGORIES:Information,Santé,Santé Mentale
ATTACH;FMTTYPE=image/webp:https://goujonissimo.be/wp-content/uploads/2024/05/abdominal-breathing-african-woman-practicing-belly-relaxation-breath-awareness-yoga-exercise-meditation-body-mind-emotions-226379546.webp
END:VEVENT
BEGIN:VEVENT
DTSTART;TZID=Europe/Brussels:20250827T103000
DTEND;TZID=Europe/Brussels:20251228T100000
DTSTAMP:20260426T062551
CREATED:20240829T074735Z
LAST-MODIFIED:20260305T160604Z
UID:10007223-1756290600-1766916000@goujonissimo.be
SUMMARY:En route vers la relaxation
DESCRIPTION:Découvrez différentes manières pour vous relaxer: \n\n exercices de respiration et de méditation\n marche en pleine conscience\ndessin méditatif\n immersion sonore\n\nA Goujonissimo \n 
URL:https://goujonissimo.be/event/en-route-vers-la-relaxation/2025-08-27/
LOCATION:Salle de gym
CATEGORIES:Information,Santé,Santé Mentale
ATTACH;FMTTYPE=image/webp:https://goujonissimo.be/wp-content/uploads/2024/05/abdominal-breathing-african-woman-practicing-belly-relaxation-breath-awareness-yoga-exercise-meditation-body-mind-emotions-226379546.webp
END:VEVENT
BEGIN:VEVENT
DTSTART;TZID=Europe/Brussels:20250915T090000
DTEND;TZID=Europe/Brussels:20250915T120000
DTSTAMP:20260426T062551
CREATED:20241206T133247Z
LAST-MODIFIED:20260403T081719Z
UID:10006654-1757926800-1757937600@goujonissimo.be
SUMMARY:Main dans les mains (activités créatives)
DESCRIPTION:Activités créatives chaque lundi de 9 – 12h \nCouture\, tricot\, cuisine durable\, visite de musée… \nà Goujonissimo
URL:https://goujonissimo.be/event/main-dans-les-mains-activites-creatives/2025-09-15/
ATTACH;FMTTYPE=image/png:https://goujonissimo.be/wp-content/uploads/2024/12/image-1.png
END:VEVENT
BEGIN:VEVENT
DTSTART;TZID=Europe/Zurich:20250915T143000
DTEND;TZID=Europe/Zurich:20250915T150000
DTSTAMP:20260426T062551
CREATED:20240326T092426Z
LAST-MODIFIED:20260403T081829Z
UID:10008673-1757946600-1757948400@goujonissimo.be
SUMMARY:Gym Douce Mixte
DESCRIPTION:Le centre de services local Cosmos propose une « Gym Douce » pour les seniors à Goujonissimo. \nEn petit groupe de 10 à 15 personnes\, vous bougez ensemble en musique. C’est une activité destinée aux seniors ou aux personnes qui ont parfois du mal à se déplacer.  \nLe lundi\, le groupe est mixte et les hommes et les femmes s’entraînent ensemble.
URL:https://goujonissimo.be/event/gym-douce-2/2025-09-15/
LOCATION:Salle de gym
CATEGORIES:Sportive
ATTACH;FMTTYPE=image/png:https://goujonissimo.be/wp-content/uploads/2024/03/gym-douce.png
END:VEVENT
BEGIN:VEVENT
DTSTART;TZID=Europe/Brussels:20250915T170000
DTEND;TZID=Europe/Brussels:20250915T180000
DTSTAMP:20260426T062551
CREATED:20240917T142340Z
LAST-MODIFIED:20260403T081929Z
UID:10005785-1757955600-1757959200@goujonissimo.be
SUMMARY:Courir ensemble
DESCRIPTION:Envie de courir en groupe? \nVenez participer gratuitement au groupe de course à pied qui se déroule chaque lundi à 17h. \nN’oubliez pas de venir en tenue sportive. \nOuvert pour tous les niveaux! \nLieu de rendez-vous: Goujonissimo
URL:https://goujonissimo.be/event/groupe-de-course-a-pied/2025-09-15/
ATTACH;FMTTYPE=image/webp:https://goujonissimo.be/wp-content/uploads/2024/09/courir-e1726582766322.webp
END:VEVENT
BEGIN:VEVENT
DTSTART;TZID=Europe/Brussels:20250915T180000
DTEND;TZID=Europe/Brussels:20250915T203000
DTSTAMP:20260426T062551
CREATED:20250102T093631Z
LAST-MODIFIED:20260313T100608Z
UID:10007242-1757959200-1757968200@goujonissimo.be
SUMMARY:Cinéclub
DESCRIPTION: Mardi 24 mars – 18h – 20h30  \nFilm « Radical » \n  \n \n  \nMercredi 22 avril – 15h à 17h \nFilm « Le voyage de Chihiro » \n \n  \n 
URL:https://goujonissimo.be/event/cineclub-goujons-4/2025-09-15/
ATTACH;FMTTYPE=image/webp:https://goujonissimo.be/wp-content/uploads/2024/12/les-films-incontournables-du-cinema-w_2500x875.webp
END:VEVENT
BEGIN:VEVENT
DTSTART;TZID=Europe/Zurich:20250915T183000
DTEND;TZID=Europe/Zurich:20250915T200000
DTSTAMP:20260426T062551
CREATED:20240326T092426Z
LAST-MODIFIED:20260403T084515Z
UID:10002153-1757961000-1757966400@goujonissimo.be
SUMMARY:Yoga Yengar
DESCRIPTION:Karin\, professeur de yoga\, enseigne le Yengar Yoga deux fois par semaine à Goujonissimo. Il s’agit d’une forme active de yoga\, où vous travaillez avec des outils tels que des blocs\, des couvertures et des chaises pour vous aider à adopter correctement les différentes postures. Le yoga contribue à votre force\, votre flexibilité et votre stabilité et peut également être un bon stimulant pour votre bien-être mental. \nTarifs \n\n15 € / 1 cours\n60 € / 5 cours\n120 € / 10 cours
URL:https://goujonissimo.be/event/yoga-yengar/2025-09-15/
LOCATION:Salle de gym
CATEGORIES:Sportive
ATTACH;FMTTYPE=image/jpeg:https://goujonissimo.be/wp-content/uploads/2024/04/yoga-yengar.jpg
END:VEVENT
BEGIN:VEVENT
DTSTART;TZID=Europe/Zurich:20250916T093000
DTEND;TZID=Europe/Zurich:20250916T110000
DTSTAMP:20260426T062551
CREATED:20240405T084752Z
LAST-MODIFIED:20260403T084411Z
UID:10002679-1758015000-1758020400@goujonissimo.be
SUMMARY:Yoga Yengar
DESCRIPTION:Karin\, professeur de yoga\, enseigne le Yengar Yoga deux fois par semaine à Goujonissimo. Il s’agit d’une forme active de yoga\, où vous travaillez avec des outils tels que des blocs\, des couvertures et des chaises pour vous aider à adopter correctement les différentes postures. Le yoga contribue à votre force\, votre flexibilité et votre stabilité et peut également être un bon stimulant pour votre bien-être mental. \nTarifs \n\n15 € / 1 cours\n60 € / 5 cours\n120 € / 10 cours
URL:https://goujonissimo.be/event/yoga-yengar-2/2025-09-16/
LOCATION:Salle de gym
CATEGORIES:Sportive
ATTACH;FMTTYPE=image/jpeg:https://goujonissimo.be/wp-content/uploads/2024/04/yoga-yengar.jpg
END:VEVENT
BEGIN:VEVENT
DTSTART;TZID=Europe/Zurich:20250918T100000
DTEND;TZID=Europe/Zurich:20250918T114500
DTSTAMP:20260426T062551
CREATED:20240405T084046Z
LAST-MODIFIED:20251229T083724Z
UID:10011906-1758189600-1758195900@goujonissimo.be
SUMMARY:Gym Douce Femmes
DESCRIPTION:Le centre de services local Cosmos propose une « Gym Douce » pour les seniors du quartier.  \nEn petit groupe de 10 à 15 personnes\, vous bougez ensemble en musique. C’est une activité destinée aux seniors ou aux personnes qui ont parfois du mal à se déplacer.  \nLe jeudi\, l’activité est réservée aux femmes.
URL:https://goujonissimo.be/event/gym-douce-femmes/2025-09-18/
LOCATION:Salle de gym
CATEGORIES:Convivial,Sportive
ATTACH;FMTTYPE=image/png:https://goujonissimo.be/wp-content/uploads/2024/03/gym-douce.png
END:VEVENT
BEGIN:VEVENT
DTSTART;TZID=Europe/Brussels:20250919T100000
DTEND;TZID=Europe/Brussels:20250919T110000
DTSTAMP:20260426T062551
CREATED:20250411T114102Z
LAST-MODIFIED:20260213T100553Z
UID:10007382-1758276000-1758279600@goujonissimo.be
SUMMARY:Danse d'ailleurs
DESCRIPTION:Envie de découvrir des rythmes envoutants et des cultures fascinantes? \nRejoignez-nous chaque vendredi pour un tour du monde à travers la danse! \nà Goujonissimo.
URL:https://goujonissimo.be/event/danse-dailleurs/2025-09-19/
ATTACH;FMTTYPE=image/jpeg:https://goujonissimo.be/wp-content/uploads/2025/04/danse-femme.jpg
END:VEVENT
BEGIN:VEVENT
DTSTART;TZID=Europe/Brussels:20250919T150000
DTEND;TZID=Europe/Brussels:20250919T180000
DTSTAMP:20260426T062551
CREATED:20250912T063821Z
LAST-MODIFIED:20250912T063821Z
UID:10009933-1758294000-1758304800@goujonissimo.be
SUMMARY:Rencontrons-Nous! Visite d'un musée
DESCRIPTION:Nous allons visiter le musée de la migration ! Venez découvrir l’histoire de la superdiversité de Bruxelles. \nDépart à Goujonissimo
URL:https://goujonissimo.be/event/rencontrons-nous-visite-dun-musee/
ATTACH;FMTTYPE=image/jpeg:https://goujonissimo.be/wp-content/uploads/2025/08/vignette_photographier_musee.jpg
END:VEVENT
END:VCALENDAR