BEGIN:VCALENDAR
VERSION:2.0
PRODID:-//Goujonissimo - ECPv6.15.16//NONSGML v1.0//EN
CALSCALE:GREGORIAN
METHOD:PUBLISH
X-WR-CALNAME:Goujonissimo
X-ORIGINAL-URL:https://goujonissimo.be
X-WR-CALDESC:Évènements pour Goujonissimo
REFRESH-INTERVAL;VALUE=DURATION:PT1H
X-Robots-Tag:noindex
X-PUBLISHED-TTL:PT1H
BEGIN:VTIMEZONE
TZID:Europe/Brussels
BEGIN:DAYLIGHT
TZOFFSETFROM:+0100
TZOFFSETTO:+0200
TZNAME:CEST
DTSTART:20240331T010000
END:DAYLIGHT
BEGIN:STANDARD
TZOFFSETFROM:+0200
TZOFFSETTO:+0100
TZNAME:CET
DTSTART:20241027T010000
END:STANDARD
BEGIN:DAYLIGHT
TZOFFSETFROM:+0100
TZOFFSETTO:+0200
TZNAME:CEST
DTSTART:20250330T010000
END:DAYLIGHT
BEGIN:STANDARD
TZOFFSETFROM:+0200
TZOFFSETTO:+0100
TZNAME:CET
DTSTART:20251026T010000
END:STANDARD
BEGIN:DAYLIGHT
TZOFFSETFROM:+0100
TZOFFSETTO:+0200
TZNAME:CEST
DTSTART:20260329T010000
END:DAYLIGHT
BEGIN:STANDARD
TZOFFSETFROM:+0200
TZOFFSETTO:+0100
TZNAME:CET
DTSTART:20261025T010000
END:STANDARD
BEGIN:DAYLIGHT
TZOFFSETFROM:+0100
TZOFFSETTO:+0200
TZNAME:CEST
DTSTART:20270328T010000
END:DAYLIGHT
BEGIN:STANDARD
TZOFFSETFROM:+0200
TZOFFSETTO:+0100
TZNAME:CET
DTSTART:20271031T010000
END:STANDARD
END:VTIMEZONE
BEGIN:VTIMEZONE
TZID:Europe/Zurich
BEGIN:DAYLIGHT
TZOFFSETFROM:+0100
TZOFFSETTO:+0200
TZNAME:CEST
DTSTART:20240331T010000
END:DAYLIGHT
BEGIN:STANDARD
TZOFFSETFROM:+0200
TZOFFSETTO:+0100
TZNAME:CET
DTSTART:20241027T010000
END:STANDARD
BEGIN:DAYLIGHT
TZOFFSETFROM:+0100
TZOFFSETTO:+0200
TZNAME:CEST
DTSTART:20250330T010000
END:DAYLIGHT
BEGIN:STANDARD
TZOFFSETFROM:+0200
TZOFFSETTO:+0100
TZNAME:CET
DTSTART:20251026T010000
END:STANDARD
BEGIN:DAYLIGHT
TZOFFSETFROM:+0100
TZOFFSETTO:+0200
TZNAME:CEST
DTSTART:20260329T010000
END:DAYLIGHT
BEGIN:STANDARD
TZOFFSETFROM:+0200
TZOFFSETTO:+0100
TZNAME:CET
DTSTART:20261025T010000
END:STANDARD
END:VTIMEZONE
BEGIN:VEVENT
DTSTART;TZID=Europe/Brussels:20250702T103000
DTEND;TZID=Europe/Brussels:20251102T100000
DTSTAMP:20260425T210516
CREATED:20240829T074735Z
LAST-MODIFIED:20260305T160604Z
UID:10007219-1751452200-1762077600@goujonissimo.be
SUMMARY:En route vers la relaxation
DESCRIPTION:Découvrez différentes manières pour vous relaxer: \n\n exercices de respiration et de méditation\n marche en pleine conscience\ndessin méditatif\n immersion sonore\n\nA Goujonissimo \n 
URL:https://goujonissimo.be/event/en-route-vers-la-relaxation/2025-07-02/
LOCATION:Salle de gym
CATEGORIES:Information,Santé,Santé Mentale
ATTACH;FMTTYPE=image/webp:https://goujonissimo.be/wp-content/uploads/2024/05/abdominal-breathing-african-woman-practicing-belly-relaxation-breath-awareness-yoga-exercise-meditation-body-mind-emotions-226379546.webp
END:VEVENT
BEGIN:VEVENT
DTSTART;TZID=Europe/Brussels:20250716T103000
DTEND;TZID=Europe/Brussels:20251116T100000
DTSTAMP:20260425T210516
CREATED:20240829T074735Z
LAST-MODIFIED:20260305T160604Z
UID:10007220-1752661800-1763287200@goujonissimo.be
SUMMARY:En route vers la relaxation
DESCRIPTION:Découvrez différentes manières pour vous relaxer: \n\n exercices de respiration et de méditation\n marche en pleine conscience\ndessin méditatif\n immersion sonore\n\nA Goujonissimo \n 
URL:https://goujonissimo.be/event/en-route-vers-la-relaxation/2025-07-16/
LOCATION:Salle de gym
CATEGORIES:Information,Santé,Santé Mentale
ATTACH;FMTTYPE=image/webp:https://goujonissimo.be/wp-content/uploads/2024/05/abdominal-breathing-african-woman-practicing-belly-relaxation-breath-awareness-yoga-exercise-meditation-body-mind-emotions-226379546.webp
END:VEVENT
BEGIN:VEVENT
DTSTART;TZID=Europe/Brussels:20250730T103000
DTEND;TZID=Europe/Brussels:20251130T100000
DTSTAMP:20260425T210516
CREATED:20240829T074735Z
LAST-MODIFIED:20260305T160604Z
UID:10007221-1753871400-1764496800@goujonissimo.be
SUMMARY:En route vers la relaxation
DESCRIPTION:Découvrez différentes manières pour vous relaxer: \n\n exercices de respiration et de méditation\n marche en pleine conscience\ndessin méditatif\n immersion sonore\n\nA Goujonissimo \n 
URL:https://goujonissimo.be/event/en-route-vers-la-relaxation/2025-07-30/
LOCATION:Salle de gym
CATEGORIES:Information,Santé,Santé Mentale
ATTACH;FMTTYPE=image/webp:https://goujonissimo.be/wp-content/uploads/2024/05/abdominal-breathing-african-woman-practicing-belly-relaxation-breath-awareness-yoga-exercise-meditation-body-mind-emotions-226379546.webp
END:VEVENT
BEGIN:VEVENT
DTSTART;TZID=Europe/Brussels:20250813T103000
DTEND;TZID=Europe/Brussels:20251214T100000
DTSTAMP:20260425T210517
CREATED:20240829T074735Z
LAST-MODIFIED:20260305T160604Z
UID:10007222-1755081000-1765706400@goujonissimo.be
SUMMARY:En route vers la relaxation
DESCRIPTION:Découvrez différentes manières pour vous relaxer: \n\n exercices de respiration et de méditation\n marche en pleine conscience\ndessin méditatif\n immersion sonore\n\nA Goujonissimo \n 
URL:https://goujonissimo.be/event/en-route-vers-la-relaxation/2025-08-13/
LOCATION:Salle de gym
CATEGORIES:Information,Santé,Santé Mentale
ATTACH;FMTTYPE=image/webp:https://goujonissimo.be/wp-content/uploads/2024/05/abdominal-breathing-african-woman-practicing-belly-relaxation-breath-awareness-yoga-exercise-meditation-body-mind-emotions-226379546.webp
END:VEVENT
BEGIN:VEVENT
DTSTART;TZID=Europe/Brussels:20250827T103000
DTEND;TZID=Europe/Brussels:20251228T100000
DTSTAMP:20260425T210517
CREATED:20240829T074735Z
LAST-MODIFIED:20260305T160604Z
UID:10007223-1756290600-1766916000@goujonissimo.be
SUMMARY:En route vers la relaxation
DESCRIPTION:Découvrez différentes manières pour vous relaxer: \n\n exercices de respiration et de méditation\n marche en pleine conscience\ndessin méditatif\n immersion sonore\n\nA Goujonissimo \n 
URL:https://goujonissimo.be/event/en-route-vers-la-relaxation/2025-08-27/
LOCATION:Salle de gym
CATEGORIES:Information,Santé,Santé Mentale
ATTACH;FMTTYPE=image/webp:https://goujonissimo.be/wp-content/uploads/2024/05/abdominal-breathing-african-woman-practicing-belly-relaxation-breath-awareness-yoga-exercise-meditation-body-mind-emotions-226379546.webp
END:VEVENT
BEGIN:VEVENT
DTSTART;TZID=Europe/Brussels:20250924T103000
DTEND;TZID=Europe/Brussels:20260125T100000
DTSTAMP:20260425T210517
CREATED:20240829T074735Z
LAST-MODIFIED:20260305T160604Z
UID:10007225-1758709800-1769335200@goujonissimo.be
SUMMARY:En route vers la relaxation
DESCRIPTION:Découvrez différentes manières pour vous relaxer: \n\n exercices de respiration et de méditation\n marche en pleine conscience\ndessin méditatif\n immersion sonore\n\nA Goujonissimo \n 
URL:https://goujonissimo.be/event/en-route-vers-la-relaxation/2025-09-24/
LOCATION:Salle de gym
CATEGORIES:Information,Santé,Santé Mentale
ATTACH;FMTTYPE=image/webp:https://goujonissimo.be/wp-content/uploads/2024/05/abdominal-breathing-african-woman-practicing-belly-relaxation-breath-awareness-yoga-exercise-meditation-body-mind-emotions-226379546.webp
END:VEVENT
BEGIN:VEVENT
DTSTART;TZID=Europe/Brussels:20251020T090000
DTEND;TZID=Europe/Brussels:20251020T120000
DTSTAMP:20260425T210517
CREATED:20241206T133247Z
LAST-MODIFIED:20260403T081719Z
UID:10006659-1760950800-1760961600@goujonissimo.be
SUMMARY:Main dans les mains (activités créatives)
DESCRIPTION:Activités créatives chaque lundi de 9 – 12h \nCouture\, tricot\, cuisine durable\, visite de musée… \nà Goujonissimo
URL:https://goujonissimo.be/event/main-dans-les-mains-activites-creatives/2025-10-20/
ATTACH;FMTTYPE=image/png:https://goujonissimo.be/wp-content/uploads/2024/12/image-1.png
END:VEVENT
BEGIN:VEVENT
DTSTART;TZID=Europe/Zurich:20251020T143000
DTEND;TZID=Europe/Zurich:20251020T150000
DTSTAMP:20260425T210517
CREATED:20240326T092426Z
LAST-MODIFIED:20260403T081829Z
UID:10008678-1760970600-1760972400@goujonissimo.be
SUMMARY:Gym Douce Mixte
DESCRIPTION:Le centre de services local Cosmos propose une « Gym Douce » pour les seniors à Goujonissimo. \nEn petit groupe de 10 à 15 personnes\, vous bougez ensemble en musique. C’est une activité destinée aux seniors ou aux personnes qui ont parfois du mal à se déplacer.  \nLe lundi\, le groupe est mixte et les hommes et les femmes s’entraînent ensemble.
URL:https://goujonissimo.be/event/gym-douce-2/2025-10-20/
LOCATION:Salle de gym
CATEGORIES:Sportive
ATTACH;FMTTYPE=image/png:https://goujonissimo.be/wp-content/uploads/2024/03/gym-douce.png
END:VEVENT
BEGIN:VEVENT
DTSTART;TZID=Europe/Brussels:20251020T170000
DTEND;TZID=Europe/Brussels:20251020T180000
DTSTAMP:20260425T210517
CREATED:20240917T142340Z
LAST-MODIFIED:20260403T081929Z
UID:10005790-1760979600-1760983200@goujonissimo.be
SUMMARY:Courir ensemble
DESCRIPTION:Envie de courir en groupe? \nVenez participer gratuitement au groupe de course à pied qui se déroule chaque lundi à 17h. \nN’oubliez pas de venir en tenue sportive. \nOuvert pour tous les niveaux! \nLieu de rendez-vous: Goujonissimo
URL:https://goujonissimo.be/event/groupe-de-course-a-pied/2025-10-20/
ATTACH;FMTTYPE=image/webp:https://goujonissimo.be/wp-content/uploads/2024/09/courir-e1726582766322.webp
END:VEVENT
BEGIN:VEVENT
DTSTART;TZID=Europe/Zurich:20251020T183000
DTEND;TZID=Europe/Zurich:20251020T200000
DTSTAMP:20260425T210517
CREATED:20240326T092426Z
LAST-MODIFIED:20260403T084515Z
UID:10002158-1760985000-1760990400@goujonissimo.be
SUMMARY:Yoga Yengar
DESCRIPTION:Karin\, professeur de yoga\, enseigne le Yengar Yoga deux fois par semaine à Goujonissimo. Il s’agit d’une forme active de yoga\, où vous travaillez avec des outils tels que des blocs\, des couvertures et des chaises pour vous aider à adopter correctement les différentes postures. Le yoga contribue à votre force\, votre flexibilité et votre stabilité et peut également être un bon stimulant pour votre bien-être mental. \nTarifs \n\n15 € / 1 cours\n60 € / 5 cours\n120 € / 10 cours
URL:https://goujonissimo.be/event/yoga-yengar/2025-10-20/
LOCATION:Salle de gym
CATEGORIES:Sportive
ATTACH;FMTTYPE=image/jpeg:https://goujonissimo.be/wp-content/uploads/2024/04/yoga-yengar.jpg
END:VEVENT
BEGIN:VEVENT
DTSTART;TZID=Europe/Zurich:20251021T093000
DTEND;TZID=Europe/Zurich:20251021T110000
DTSTAMP:20260425T210517
CREATED:20240405T084752Z
LAST-MODIFIED:20260403T084411Z
UID:10002684-1761039000-1761044400@goujonissimo.be
SUMMARY:Yoga Yengar
DESCRIPTION:Karin\, professeur de yoga\, enseigne le Yengar Yoga deux fois par semaine à Goujonissimo. Il s’agit d’une forme active de yoga\, où vous travaillez avec des outils tels que des blocs\, des couvertures et des chaises pour vous aider à adopter correctement les différentes postures. Le yoga contribue à votre force\, votre flexibilité et votre stabilité et peut également être un bon stimulant pour votre bien-être mental. \nTarifs \n\n15 € / 1 cours\n60 € / 5 cours\n120 € / 10 cours
URL:https://goujonissimo.be/event/yoga-yengar-2/2025-10-21/
LOCATION:Salle de gym
CATEGORIES:Sportive
ATTACH;FMTTYPE=image/jpeg:https://goujonissimo.be/wp-content/uploads/2024/04/yoga-yengar.jpg
END:VEVENT
BEGIN:VEVENT
DTSTART;TZID=Europe/Brussels:20251022T103000
DTEND;TZID=Europe/Brussels:20251022T120000
DTSTAMP:20260425T210517
CREATED:20240829T074735Z
LAST-MODIFIED:20260305T160604Z
UID:10007227-1761129000-1761134400@goujonissimo.be
SUMMARY:En route vers la relaxation
DESCRIPTION:Découvrez différentes manières pour vous relaxer: \n\n exercices de respiration et de méditation\n marche en pleine conscience\ndessin méditatif\n immersion sonore\n\nA Goujonissimo \n 
URL:https://goujonissimo.be/event/en-route-vers-la-relaxation/2025-10-22/
LOCATION:Salle de gym
CATEGORIES:Information,Santé,Santé Mentale
ATTACH;FMTTYPE=image/webp:https://goujonissimo.be/wp-content/uploads/2024/05/abdominal-breathing-african-woman-practicing-belly-relaxation-breath-awareness-yoga-exercise-meditation-body-mind-emotions-226379546.webp
END:VEVENT
BEGIN:VEVENT
DTSTART;TZID=Europe/Brussels:20251022T140000
DTEND;TZID=Europe/Brussels:20251022T160000
DTSTAMP:20260425T210517
CREATED:20240718T100347Z
LAST-MODIFIED:20250901T085356Z
UID:10009854-1761141600-1761148800@goujonissimo.be
SUMMARY:Inventer des chansons c'est rigolo !
DESCRIPTION:On se lancera dans des jeux musicaux\, et on t’aidera à développer ensemble des chansons qui parle de toi et de tes émotions! \nEnfants de 8 à 12 ans. \nStage du 11 au 13 août de 13h à 16h
URL:https://goujonissimo.be/event/inviter-des-chansons-cest-rigolo/2025-10-22/
CATEGORIES:Convivial
ATTACH;FMTTYPE=image/png:https://goujonissimo.be/wp-content/uploads/2024/07/image-site-web-inventer-des-chansons.png
END:VEVENT
BEGIN:VEVENT
DTSTART;TZID=Europe/Brussels:20251022T180000
DTEND;TZID=Europe/Brussels:20251022T203000
DTSTAMP:20260425T210517
CREATED:20250102T093631Z
LAST-MODIFIED:20260313T100608Z
UID:10010274-1761156000-1761165000@goujonissimo.be
SUMMARY:Cinéclub
DESCRIPTION: Mardi 24 mars – 18h – 20h30  \nFilm « Radical » \n  \n \n  \nMercredi 22 avril – 15h à 17h \nFilm « Le voyage de Chihiro » \n \n  \n 
URL:https://goujonissimo.be/event/cineclub-goujons-4/2025-10-22/
ATTACH;FMTTYPE=image/webp:https://goujonissimo.be/wp-content/uploads/2024/12/les-films-incontournables-du-cinema-w_2500x875.webp
END:VEVENT
BEGIN:VEVENT
DTSTART;TZID=Europe/Zurich:20251023T100000
DTEND;TZID=Europe/Zurich:20251023T114500
DTSTAMP:20260425T210517
CREATED:20240405T084046Z
LAST-MODIFIED:20251229T083724Z
UID:10011911-1761213600-1761219900@goujonissimo.be
SUMMARY:Gym Douce Femmes
DESCRIPTION:Le centre de services local Cosmos propose une « Gym Douce » pour les seniors du quartier.  \nEn petit groupe de 10 à 15 personnes\, vous bougez ensemble en musique. C’est une activité destinée aux seniors ou aux personnes qui ont parfois du mal à se déplacer.  \nLe jeudi\, l’activité est réservée aux femmes.
URL:https://goujonissimo.be/event/gym-douce-femmes/2025-10-23/
LOCATION:Salle de gym
CATEGORIES:Convivial,Sportive
ATTACH;FMTTYPE=image/png:https://goujonissimo.be/wp-content/uploads/2024/03/gym-douce.png
END:VEVENT
BEGIN:VEVENT
DTSTART;TZID=Europe/Brussels:20251023T160000
DTEND;TZID=Europe/Brussels:20251023T160000
DTSTAMP:20260425T210517
CREATED:20241031T114715Z
LAST-MODIFIED:20260327T111251Z
UID:10009990-1761235200-1761235200@goujonissimo.be
SUMMARY:Atelier Creo - expression de soi
DESCRIPTION:Deux fois par mois l’artiste Joanna vous amène dans l’univers de la peinture. Une fois sur deux (Atelier Creo – expression)\, accompagnés de nos psychologues ( Amina et Anais) vous y trouverez la détente et votre moyen d’expression de soi même à travers des différentes formes d’art. Une autre fois (Atelier Creo-cours)\, Joanna partage avec vous ses connaissances techniques et vous apprend à dessiner comme de pro 😉 ! Les sessions sont destinées aux adultes et tout le monde est le bienvenu\, indépendamment de la langue ou du talent. \n  \n  \n 
URL:https://goujonissimo.be/event/atelier-dexpression-de-soi-peinture/2025-10-23/
ATTACH;FMTTYPE=image/jpeg:https://goujonissimo.be/wp-content/uploads/2024/10/atelier-peinture.jpg
END:VEVENT
BEGIN:VEVENT
DTSTART;TZID=Europe/Brussels:20251024T100000
DTEND;TZID=Europe/Brussels:20251024T110000
DTSTAMP:20260425T210517
CREATED:20250411T114102Z
LAST-MODIFIED:20260213T100553Z
UID:10007387-1761300000-1761303600@goujonissimo.be
SUMMARY:Danse d'ailleurs
DESCRIPTION:Envie de découvrir des rythmes envoutants et des cultures fascinantes? \nRejoignez-nous chaque vendredi pour un tour du monde à travers la danse! \nà Goujonissimo.
URL:https://goujonissimo.be/event/danse-dailleurs/2025-10-24/
ATTACH;FMTTYPE=image/jpeg:https://goujonissimo.be/wp-content/uploads/2025/04/danse-femme.jpg
END:VEVENT
END:VCALENDAR