BEGIN:VCALENDAR
VERSION:2.0
PRODID:-//Goujonissimo - ECPv6.15.16//NONSGML v1.0//EN
CALSCALE:GREGORIAN
METHOD:PUBLISH
X-WR-CALNAME:Goujonissimo
X-ORIGINAL-URL:https://goujonissimo.be
X-WR-CALDESC:Évènements pour Goujonissimo
REFRESH-INTERVAL;VALUE=DURATION:PT1H
X-Robots-Tag:noindex
X-PUBLISHED-TTL:PT1H
BEGIN:VTIMEZONE
TZID:Europe/Brussels
BEGIN:DAYLIGHT
TZOFFSETFROM:+0100
TZOFFSETTO:+0200
TZNAME:CEST
DTSTART:20240331T010000
END:DAYLIGHT
BEGIN:STANDARD
TZOFFSETFROM:+0200
TZOFFSETTO:+0100
TZNAME:CET
DTSTART:20241027T010000
END:STANDARD
BEGIN:DAYLIGHT
TZOFFSETFROM:+0100
TZOFFSETTO:+0200
TZNAME:CEST
DTSTART:20250330T010000
END:DAYLIGHT
BEGIN:STANDARD
TZOFFSETFROM:+0200
TZOFFSETTO:+0100
TZNAME:CET
DTSTART:20251026T010000
END:STANDARD
BEGIN:DAYLIGHT
TZOFFSETFROM:+0100
TZOFFSETTO:+0200
TZNAME:CEST
DTSTART:20260329T010000
END:DAYLIGHT
BEGIN:STANDARD
TZOFFSETFROM:+0200
TZOFFSETTO:+0100
TZNAME:CET
DTSTART:20261025T010000
END:STANDARD
BEGIN:DAYLIGHT
TZOFFSETFROM:+0100
TZOFFSETTO:+0200
TZNAME:CEST
DTSTART:20270328T010000
END:DAYLIGHT
BEGIN:STANDARD
TZOFFSETFROM:+0200
TZOFFSETTO:+0100
TZNAME:CET
DTSTART:20271031T010000
END:STANDARD
END:VTIMEZONE
BEGIN:VTIMEZONE
TZID:Europe/Zurich
BEGIN:DAYLIGHT
TZOFFSETFROM:+0100
TZOFFSETTO:+0200
TZNAME:CEST
DTSTART:20240331T010000
END:DAYLIGHT
BEGIN:STANDARD
TZOFFSETFROM:+0200
TZOFFSETTO:+0100
TZNAME:CET
DTSTART:20241027T010000
END:STANDARD
BEGIN:DAYLIGHT
TZOFFSETFROM:+0100
TZOFFSETTO:+0200
TZNAME:CEST
DTSTART:20250330T010000
END:DAYLIGHT
BEGIN:STANDARD
TZOFFSETFROM:+0200
TZOFFSETTO:+0100
TZNAME:CET
DTSTART:20251026T010000
END:STANDARD
BEGIN:DAYLIGHT
TZOFFSETFROM:+0100
TZOFFSETTO:+0200
TZNAME:CEST
DTSTART:20260329T010000
END:DAYLIGHT
BEGIN:STANDARD
TZOFFSETFROM:+0200
TZOFFSETTO:+0100
TZNAME:CET
DTSTART:20261025T010000
END:STANDARD
END:VTIMEZONE
BEGIN:VEVENT
DTSTART;TZID=Europe/Brussels:20250716T103000
DTEND;TZID=Europe/Brussels:20251116T100000
DTSTAMP:20260425T150419
CREATED:20240829T074735Z
LAST-MODIFIED:20260305T160604Z
UID:10007220-1752661800-1763287200@goujonissimo.be
SUMMARY:En route vers la relaxation
DESCRIPTION:Découvrez différentes manières pour vous relaxer: \n\n exercices de respiration et de méditation\n marche en pleine conscience\ndessin méditatif\n immersion sonore\n\nA Goujonissimo \n 
URL:https://goujonissimo.be/event/en-route-vers-la-relaxation/2025-07-16/
LOCATION:Salle de gym
CATEGORIES:Information,Santé,Santé Mentale
ATTACH;FMTTYPE=image/webp:https://goujonissimo.be/wp-content/uploads/2024/05/abdominal-breathing-african-woman-practicing-belly-relaxation-breath-awareness-yoga-exercise-meditation-body-mind-emotions-226379546.webp
END:VEVENT
BEGIN:VEVENT
DTSTART;TZID=Europe/Brussels:20250730T103000
DTEND;TZID=Europe/Brussels:20251130T100000
DTSTAMP:20260425T150419
CREATED:20240829T074735Z
LAST-MODIFIED:20260305T160604Z
UID:10007221-1753871400-1764496800@goujonissimo.be
SUMMARY:En route vers la relaxation
DESCRIPTION:Découvrez différentes manières pour vous relaxer: \n\n exercices de respiration et de méditation\n marche en pleine conscience\ndessin méditatif\n immersion sonore\n\nA Goujonissimo \n 
URL:https://goujonissimo.be/event/en-route-vers-la-relaxation/2025-07-30/
LOCATION:Salle de gym
CATEGORIES:Information,Santé,Santé Mentale
ATTACH;FMTTYPE=image/webp:https://goujonissimo.be/wp-content/uploads/2024/05/abdominal-breathing-african-woman-practicing-belly-relaxation-breath-awareness-yoga-exercise-meditation-body-mind-emotions-226379546.webp
END:VEVENT
BEGIN:VEVENT
DTSTART;TZID=Europe/Brussels:20250813T103000
DTEND;TZID=Europe/Brussels:20251214T100000
DTSTAMP:20260425T150419
CREATED:20240829T074735Z
LAST-MODIFIED:20260305T160604Z
UID:10007222-1755081000-1765706400@goujonissimo.be
SUMMARY:En route vers la relaxation
DESCRIPTION:Découvrez différentes manières pour vous relaxer: \n\n exercices de respiration et de méditation\n marche en pleine conscience\ndessin méditatif\n immersion sonore\n\nA Goujonissimo \n 
URL:https://goujonissimo.be/event/en-route-vers-la-relaxation/2025-08-13/
LOCATION:Salle de gym
CATEGORIES:Information,Santé,Santé Mentale
ATTACH;FMTTYPE=image/webp:https://goujonissimo.be/wp-content/uploads/2024/05/abdominal-breathing-african-woman-practicing-belly-relaxation-breath-awareness-yoga-exercise-meditation-body-mind-emotions-226379546.webp
END:VEVENT
BEGIN:VEVENT
DTSTART;TZID=Europe/Brussels:20250827T103000
DTEND;TZID=Europe/Brussels:20251228T100000
DTSTAMP:20260425T150419
CREATED:20240829T074735Z
LAST-MODIFIED:20260305T160604Z
UID:10007223-1756290600-1766916000@goujonissimo.be
SUMMARY:En route vers la relaxation
DESCRIPTION:Découvrez différentes manières pour vous relaxer: \n\n exercices de respiration et de méditation\n marche en pleine conscience\ndessin méditatif\n immersion sonore\n\nA Goujonissimo \n 
URL:https://goujonissimo.be/event/en-route-vers-la-relaxation/2025-08-27/
LOCATION:Salle de gym
CATEGORIES:Information,Santé,Santé Mentale
ATTACH;FMTTYPE=image/webp:https://goujonissimo.be/wp-content/uploads/2024/05/abdominal-breathing-african-woman-practicing-belly-relaxation-breath-awareness-yoga-exercise-meditation-body-mind-emotions-226379546.webp
END:VEVENT
BEGIN:VEVENT
DTSTART;TZID=Europe/Brussels:20250924T103000
DTEND;TZID=Europe/Brussels:20260125T100000
DTSTAMP:20260425T150419
CREATED:20240829T074735Z
LAST-MODIFIED:20260305T160604Z
UID:10007225-1758709800-1769335200@goujonissimo.be
SUMMARY:En route vers la relaxation
DESCRIPTION:Découvrez différentes manières pour vous relaxer: \n\n exercices de respiration et de méditation\n marche en pleine conscience\ndessin méditatif\n immersion sonore\n\nA Goujonissimo \n 
URL:https://goujonissimo.be/event/en-route-vers-la-relaxation/2025-09-24/
LOCATION:Salle de gym
CATEGORIES:Information,Santé,Santé Mentale
ATTACH;FMTTYPE=image/webp:https://goujonissimo.be/wp-content/uploads/2024/05/abdominal-breathing-african-woman-practicing-belly-relaxation-breath-awareness-yoga-exercise-meditation-body-mind-emotions-226379546.webp
END:VEVENT
BEGIN:VEVENT
DTSTART;TZID=Europe/Brussels:20251103T090000
DTEND;TZID=Europe/Brussels:20251103T120000
DTSTAMP:20260425T150419
CREATED:20241206T133247Z
LAST-MODIFIED:20260403T081719Z
UID:10006661-1762160400-1762171200@goujonissimo.be
SUMMARY:Main dans les mains (activités créatives)
DESCRIPTION:Activités créatives chaque lundi de 9 – 12h \nCouture\, tricot\, cuisine durable\, visite de musée… \nà Goujonissimo
URL:https://goujonissimo.be/event/main-dans-les-mains-activites-creatives/2025-11-03/
ATTACH;FMTTYPE=image/png:https://goujonissimo.be/wp-content/uploads/2024/12/image-1.png
END:VEVENT
BEGIN:VEVENT
DTSTART;TZID=Europe/Zurich:20251103T143000
DTEND;TZID=Europe/Zurich:20251103T150000
DTSTAMP:20260425T150420
CREATED:20240326T092426Z
LAST-MODIFIED:20260403T081829Z
UID:10008680-1762180200-1762182000@goujonissimo.be
SUMMARY:Gym Douce Mixte
DESCRIPTION:Le centre de services local Cosmos propose une « Gym Douce » pour les seniors à Goujonissimo. \nEn petit groupe de 10 à 15 personnes\, vous bougez ensemble en musique. C’est une activité destinée aux seniors ou aux personnes qui ont parfois du mal à se déplacer.  \nLe lundi\, le groupe est mixte et les hommes et les femmes s’entraînent ensemble.
URL:https://goujonissimo.be/event/gym-douce-2/2025-11-03/
LOCATION:Salle de gym
CATEGORIES:Sportive
ATTACH;FMTTYPE=image/png:https://goujonissimo.be/wp-content/uploads/2024/03/gym-douce.png
END:VEVENT
BEGIN:VEVENT
DTSTART;TZID=Europe/Brussels:20251103T170000
DTEND;TZID=Europe/Brussels:20251103T180000
DTSTAMP:20260425T150420
CREATED:20240917T142340Z
LAST-MODIFIED:20260403T081929Z
UID:10005792-1762189200-1762192800@goujonissimo.be
SUMMARY:Courir ensemble
DESCRIPTION:Envie de courir en groupe? \nVenez participer gratuitement au groupe de course à pied qui se déroule chaque lundi à 17h. \nN’oubliez pas de venir en tenue sportive. \nOuvert pour tous les niveaux! \nLieu de rendez-vous: Goujonissimo
URL:https://goujonissimo.be/event/groupe-de-course-a-pied/2025-11-03/
ATTACH;FMTTYPE=image/webp:https://goujonissimo.be/wp-content/uploads/2024/09/courir-e1726582766322.webp
END:VEVENT
BEGIN:VEVENT
DTSTART;TZID=Europe/Zurich:20251103T183000
DTEND;TZID=Europe/Zurich:20251103T200000
DTSTAMP:20260425T150420
CREATED:20240326T092426Z
LAST-MODIFIED:20260403T084515Z
UID:10002160-1762194600-1762200000@goujonissimo.be
SUMMARY:Yoga Yengar
DESCRIPTION:Karin\, professeur de yoga\, enseigne le Yengar Yoga deux fois par semaine à Goujonissimo. Il s’agit d’une forme active de yoga\, où vous travaillez avec des outils tels que des blocs\, des couvertures et des chaises pour vous aider à adopter correctement les différentes postures. Le yoga contribue à votre force\, votre flexibilité et votre stabilité et peut également être un bon stimulant pour votre bien-être mental. \nTarifs \n\n15 € / 1 cours\n60 € / 5 cours\n120 € / 10 cours
URL:https://goujonissimo.be/event/yoga-yengar/2025-11-03/
LOCATION:Salle de gym
CATEGORIES:Sportive
ATTACH;FMTTYPE=image/jpeg:https://goujonissimo.be/wp-content/uploads/2024/04/yoga-yengar.jpg
END:VEVENT
BEGIN:VEVENT
DTSTART;TZID=Europe/Zurich:20251104T090000
DTEND;TZID=Europe/Zurich:20251104T110000
DTSTAMP:20260425T150420
CREATED:20251219T142849Z
LAST-MODIFIED:20251219T142849Z
UID:10010797-1762246800-1762254000@goujonissimo.be
SUMMARY:Petit déjeuner
DESCRIPTION:Goujonissimo organise un petit-déjeuner tous les premiers jeudis du mois. Tout le monde est le bienvenu pour une rencontre agréable\, pour faire connaissance et pour rencontrer les collègues de Goujonissimo. \nLes habitants du quartier qui souhaitent apporter leurs propres friandises sont les bienvenus\, mais ce n’est en aucun cas une obligation. \nTout le monde est le bienvenu !
URL:https://goujonissimo.be/event/petit-dejeuner-2-2/2025-11-04/
LOCATION:Salle communautaire
ATTACH;FMTTYPE=image/webp:https://goujonissimo.be/wp-content/uploads/2024/03/Goujonissimo_Activite-petit-dej.webp
END:VEVENT
BEGIN:VEVENT
DTSTART;TZID=Europe/Zurich:20251104T093000
DTEND;TZID=Europe/Zurich:20251104T110000
DTSTAMP:20260425T150420
CREATED:20240405T084752Z
LAST-MODIFIED:20260403T084411Z
UID:10002686-1762248600-1762254000@goujonissimo.be
SUMMARY:Yoga Yengar
DESCRIPTION:Karin\, professeur de yoga\, enseigne le Yengar Yoga deux fois par semaine à Goujonissimo. Il s’agit d’une forme active de yoga\, où vous travaillez avec des outils tels que des blocs\, des couvertures et des chaises pour vous aider à adopter correctement les différentes postures. Le yoga contribue à votre force\, votre flexibilité et votre stabilité et peut également être un bon stimulant pour votre bien-être mental. \nTarifs \n\n15 € / 1 cours\n60 € / 5 cours\n120 € / 10 cours
URL:https://goujonissimo.be/event/yoga-yengar-2/2025-11-04/
LOCATION:Salle de gym
CATEGORIES:Sportive
ATTACH;FMTTYPE=image/jpeg:https://goujonissimo.be/wp-content/uploads/2024/04/yoga-yengar.jpg
END:VEVENT
BEGIN:VEVENT
DTSTART;TZID=Europe/Brussels:20251105T100000
DTEND;TZID=Europe/Brussels:20251105T113000
DTSTAMP:20260425T150420
CREATED:20240628T140548Z
LAST-MODIFIED:20250902T110542Z
UID:10009377-1762336800-1762342200@goujonissimo.be
SUMMARY:Massage bébé
DESCRIPTION:Une activité plaisante\, calme et interactive pour les parents et leur bébé de 4 semaines à 6 mois. \n2 juillet: Goujonissimo 10h – 11h30 \n6 août: Goujonissimo 10h – 11h30 \n3 septembre: Huis van het kind  10h – 11h30 \n1 octobre: Huis van het kind 10h – 11h30 \n5 novembre: Goujonissimo 10h – 11h30 \n3 décembre: Huis van het kind 10h – 11h30 \n  \n 
URL:https://goujonissimo.be/event/massage-bebe-3/2025-11-05/
CATEGORIES:Convivial,Information,Santé,Santé Mentale
ATTACH;FMTTYPE=image/jpeg:https://goujonissimo.be/wp-content/uploads/2024/05/babymassage.jpg
END:VEVENT
BEGIN:VEVENT
DTSTART;TZID=Europe/Brussels:20251105T103000
DTEND;TZID=Europe/Brussels:20251105T120000
DTSTAMP:20260425T150420
CREATED:20240829T074735Z
LAST-MODIFIED:20260305T160604Z
UID:10007228-1762338600-1762344000@goujonissimo.be
SUMMARY:En route vers la relaxation
DESCRIPTION:Découvrez différentes manières pour vous relaxer: \n\n exercices de respiration et de méditation\n marche en pleine conscience\ndessin méditatif\n immersion sonore\n\nA Goujonissimo \n 
URL:https://goujonissimo.be/event/en-route-vers-la-relaxation/2025-11-05/
LOCATION:Salle de gym
CATEGORIES:Information,Santé,Santé Mentale
ATTACH;FMTTYPE=image/webp:https://goujonissimo.be/wp-content/uploads/2024/05/abdominal-breathing-african-woman-practicing-belly-relaxation-breath-awareness-yoga-exercise-meditation-body-mind-emotions-226379546.webp
END:VEVENT
BEGIN:VEVENT
DTSTART;TZID=Europe/Zurich:20251106T090000
DTEND;TZID=Europe/Zurich:20251106T110000
DTSTAMP:20260425T150420
CREATED:20251229T091305Z
LAST-MODIFIED:20251229T100309Z
UID:10012182-1762419600-1762426800@goujonissimo.be
SUMMARY:Petit déjeuner
DESCRIPTION:Goujonissimo organise un petit-déjeuner tous les premiers jeudis du mois. Tout le monde est le bienvenu pour une rencontre agréable\, pour faire connaissance et pour rencontrer les collègues de Goujonissimo. \nLes habitants du quartier qui souhaitent apporter leurs propres friandises sont les bienvenus\, mais ce n’est en aucun cas une obligation. \nTout le monde est le bienvenu !
URL:https://goujonissimo.be/event/petit-dejeuner-2-2-2/2025-11-06/
LOCATION:Salle communautaire
ATTACH;FMTTYPE=image/webp:https://goujonissimo.be/wp-content/uploads/2024/03/Goujonissimo_Activite-petit-dej.webp
END:VEVENT
BEGIN:VEVENT
DTSTART;TZID=Europe/Brussels:20251106T090000
DTEND;TZID=Europe/Brussels:20251106T123000
DTSTAMP:20260425T150420
CREATED:20250204T142921Z
LAST-MODIFIED:20250827T124440Z
UID:10007288-1762419600-1762432200@goujonissimo.be
SUMMARY:Apprends à défendre tes droits
DESCRIPTION:Atelier d’information: mes droits de locataire \nPour les locataires de logements privés \nLe propriétaire peut-il augmenter mon loyer ? Peut-il me mettre dehors quand il veut ?\nMon loyer est-il trop cher pour ce que c’est ? Faisons le test ensemble ! \n  \nUn jeudi par mois \nà Goujonissimo
URL:https://goujonissimo.be/event/apprends-a-defendre-tes-droits/2025-11-06/
ATTACH;FMTTYPE=image/png:https://goujonissimo.be/wp-content/uploads/2025/02/Capture-decran-2025-02-04-150646.png
END:VEVENT
BEGIN:VEVENT
DTSTART;TZID=Europe/Zurich:20251106T100000
DTEND;TZID=Europe/Zurich:20251106T114500
DTSTAMP:20260425T150420
CREATED:20240405T084046Z
LAST-MODIFIED:20251229T083724Z
UID:10011913-1762423200-1762429500@goujonissimo.be
SUMMARY:Gym Douce Femmes
DESCRIPTION:Le centre de services local Cosmos propose une « Gym Douce » pour les seniors du quartier.  \nEn petit groupe de 10 à 15 personnes\, vous bougez ensemble en musique. C’est une activité destinée aux seniors ou aux personnes qui ont parfois du mal à se déplacer.  \nLe jeudi\, l’activité est réservée aux femmes.
URL:https://goujonissimo.be/event/gym-douce-femmes/2025-11-06/
LOCATION:Salle de gym
CATEGORIES:Convivial,Sportive
ATTACH;FMTTYPE=image/png:https://goujonissimo.be/wp-content/uploads/2024/03/gym-douce.png
END:VEVENT
BEGIN:VEVENT
DTSTART;TZID=Europe/Brussels:20251107T100000
DTEND;TZID=Europe/Brussels:20251107T110000
DTSTAMP:20260425T150420
CREATED:20250411T114102Z
LAST-MODIFIED:20260213T100553Z
UID:10007389-1762509600-1762513200@goujonissimo.be
SUMMARY:Danse d'ailleurs
DESCRIPTION:Envie de découvrir des rythmes envoutants et des cultures fascinantes? \nRejoignez-nous chaque vendredi pour un tour du monde à travers la danse! \nà Goujonissimo.
URL:https://goujonissimo.be/event/danse-dailleurs/2025-11-07/
ATTACH;FMTTYPE=image/jpeg:https://goujonissimo.be/wp-content/uploads/2025/04/danse-femme.jpg
END:VEVENT
END:VCALENDAR