BEGIN:VCALENDAR
VERSION:2.0
PRODID:-//Goujonissimo - ECPv6.15.16//NONSGML v1.0//EN
CALSCALE:GREGORIAN
METHOD:PUBLISH
X-WR-CALNAME:Goujonissimo
X-ORIGINAL-URL:https://goujonissimo.be
X-WR-CALDESC:Évènements pour Goujonissimo
REFRESH-INTERVAL;VALUE=DURATION:PT1H
X-Robots-Tag:noindex
X-PUBLISHED-TTL:PT1H
BEGIN:VTIMEZONE
TZID:Europe/Brussels
BEGIN:DAYLIGHT
TZOFFSETFROM:+0100
TZOFFSETTO:+0200
TZNAME:CEST
DTSTART:20240331T010000
END:DAYLIGHT
BEGIN:STANDARD
TZOFFSETFROM:+0200
TZOFFSETTO:+0100
TZNAME:CET
DTSTART:20241027T010000
END:STANDARD
BEGIN:DAYLIGHT
TZOFFSETFROM:+0100
TZOFFSETTO:+0200
TZNAME:CEST
DTSTART:20250330T010000
END:DAYLIGHT
BEGIN:STANDARD
TZOFFSETFROM:+0200
TZOFFSETTO:+0100
TZNAME:CET
DTSTART:20251026T010000
END:STANDARD
BEGIN:DAYLIGHT
TZOFFSETFROM:+0100
TZOFFSETTO:+0200
TZNAME:CEST
DTSTART:20260329T010000
END:DAYLIGHT
BEGIN:STANDARD
TZOFFSETFROM:+0200
TZOFFSETTO:+0100
TZNAME:CET
DTSTART:20261025T010000
END:STANDARD
BEGIN:DAYLIGHT
TZOFFSETFROM:+0100
TZOFFSETTO:+0200
TZNAME:CEST
DTSTART:20270328T010000
END:DAYLIGHT
BEGIN:STANDARD
TZOFFSETFROM:+0200
TZOFFSETTO:+0100
TZNAME:CET
DTSTART:20271031T010000
END:STANDARD
END:VTIMEZONE
BEGIN:VTIMEZONE
TZID:Europe/Zurich
BEGIN:DAYLIGHT
TZOFFSETFROM:+0100
TZOFFSETTO:+0200
TZNAME:CEST
DTSTART:20250330T010000
END:DAYLIGHT
BEGIN:STANDARD
TZOFFSETFROM:+0200
TZOFFSETTO:+0100
TZNAME:CET
DTSTART:20251026T010000
END:STANDARD
BEGIN:DAYLIGHT
TZOFFSETFROM:+0100
TZOFFSETTO:+0200
TZNAME:CEST
DTSTART:20260329T010000
END:DAYLIGHT
BEGIN:STANDARD
TZOFFSETFROM:+0200
TZOFFSETTO:+0100
TZNAME:CET
DTSTART:20261025T010000
END:STANDARD
BEGIN:DAYLIGHT
TZOFFSETFROM:+0100
TZOFFSETTO:+0200
TZNAME:CEST
DTSTART:20270328T010000
END:DAYLIGHT
BEGIN:STANDARD
TZOFFSETFROM:+0200
TZOFFSETTO:+0100
TZNAME:CET
DTSTART:20271031T010000
END:STANDARD
END:VTIMEZONE
BEGIN:VEVENT
DTSTART;TZID=Europe/Brussels:20250924T103000
DTEND;TZID=Europe/Brussels:20260125T100000
DTSTAMP:20260424T034250
CREATED:20240829T074735Z
LAST-MODIFIED:20260305T160604Z
UID:10007225-1758709800-1769335200@goujonissimo.be
SUMMARY:En route vers la relaxation
DESCRIPTION:Découvrez différentes manières pour vous relaxer: \n\n exercices de respiration et de méditation\n marche en pleine conscience\ndessin méditatif\n immersion sonore\n\nA Goujonissimo \n 
URL:https://goujonissimo.be/event/en-route-vers-la-relaxation/2025-09-24/
LOCATION:Salle de gym
CATEGORIES:Information,Santé,Santé Mentale
ATTACH;FMTTYPE=image/webp:https://goujonissimo.be/wp-content/uploads/2024/05/abdominal-breathing-african-woman-practicing-belly-relaxation-breath-awareness-yoga-exercise-meditation-body-mind-emotions-226379546.webp
END:VEVENT
BEGIN:VEVENT
DTSTART;TZID=Europe/Brussels:20260119T090000
DTEND;TZID=Europe/Brussels:20260119T120000
DTSTAMP:20260424T034250
CREATED:20241206T133247Z
LAST-MODIFIED:20260403T081719Z
UID:10006672-1768813200-1768824000@goujonissimo.be
SUMMARY:Main dans les mains (activités créatives)
DESCRIPTION:Activités créatives chaque lundi de 9 – 12h \nCouture\, tricot\, cuisine durable\, visite de musée… \nà Goujonissimo
URL:https://goujonissimo.be/event/main-dans-les-mains-activites-creatives/2026-01-19/
ATTACH;FMTTYPE=image/png:https://goujonissimo.be/wp-content/uploads/2024/12/image-1.png
END:VEVENT
BEGIN:VEVENT
DTSTART;TZID=Europe/Zurich:20260119T143000
DTEND;TZID=Europe/Zurich:20260119T150000
DTSTAMP:20260424T034250
CREATED:20240326T092426Z
LAST-MODIFIED:20260403T081829Z
UID:10008691-1768833000-1768834800@goujonissimo.be
SUMMARY:Gym Douce Mixte
DESCRIPTION:Le centre de services local Cosmos propose une « Gym Douce » pour les seniors à Goujonissimo. \nEn petit groupe de 10 à 15 personnes\, vous bougez ensemble en musique. C’est une activité destinée aux seniors ou aux personnes qui ont parfois du mal à se déplacer.  \nLe lundi\, le groupe est mixte et les hommes et les femmes s’entraînent ensemble.
URL:https://goujonissimo.be/event/gym-douce-2/2026-01-19/
LOCATION:Salle de gym
CATEGORIES:Sportive
ATTACH;FMTTYPE=image/png:https://goujonissimo.be/wp-content/uploads/2024/03/gym-douce.png
END:VEVENT
BEGIN:VEVENT
DTSTART;TZID=Europe/Brussels:20260119T170000
DTEND;TZID=Europe/Brussels:20260119T180000
DTSTAMP:20260424T034250
CREATED:20240917T142340Z
LAST-MODIFIED:20260403T081929Z
UID:10005803-1768842000-1768845600@goujonissimo.be
SUMMARY:Courir ensemble
DESCRIPTION:Envie de courir en groupe? \nVenez participer gratuitement au groupe de course à pied qui se déroule chaque lundi à 17h. \nN’oubliez pas de venir en tenue sportive. \nOuvert pour tous les niveaux! \nLieu de rendez-vous: Goujonissimo
URL:https://goujonissimo.be/event/groupe-de-course-a-pied/2026-01-19/
ATTACH;FMTTYPE=image/webp:https://goujonissimo.be/wp-content/uploads/2024/09/courir-e1726582766322.webp
END:VEVENT
BEGIN:VEVENT
DTSTART;TZID=Europe/Zurich:20260119T183000
DTEND;TZID=Europe/Zurich:20260119T200000
DTSTAMP:20260424T034251
CREATED:20240326T092426Z
LAST-MODIFIED:20260403T084515Z
UID:10002171-1768847400-1768852800@goujonissimo.be
SUMMARY:Yoga Yengar
DESCRIPTION:Karin\, professeur de yoga\, enseigne le Yengar Yoga deux fois par semaine à Goujonissimo. Il s’agit d’une forme active de yoga\, où vous travaillez avec des outils tels que des blocs\, des couvertures et des chaises pour vous aider à adopter correctement les différentes postures. Le yoga contribue à votre force\, votre flexibilité et votre stabilité et peut également être un bon stimulant pour votre bien-être mental. \nTarifs \n\n15 € / 1 cours\n60 € / 5 cours\n120 € / 10 cours
URL:https://goujonissimo.be/event/yoga-yengar/2026-01-19/
LOCATION:Salle de gym
CATEGORIES:Sportive
ATTACH;FMTTYPE=image/jpeg:https://goujonissimo.be/wp-content/uploads/2024/04/yoga-yengar.jpg
END:VEVENT
BEGIN:VEVENT
DTSTART;TZID=Europe/Zurich:20260120T093000
DTEND;TZID=Europe/Zurich:20260120T110000
DTSTAMP:20260424T034251
CREATED:20240405T084752Z
LAST-MODIFIED:20260403T084411Z
UID:10002697-1768901400-1768906800@goujonissimo.be
SUMMARY:Yoga Yengar
DESCRIPTION:Karin\, professeur de yoga\, enseigne le Yengar Yoga deux fois par semaine à Goujonissimo. Il s’agit d’une forme active de yoga\, où vous travaillez avec des outils tels que des blocs\, des couvertures et des chaises pour vous aider à adopter correctement les différentes postures. Le yoga contribue à votre force\, votre flexibilité et votre stabilité et peut également être un bon stimulant pour votre bien-être mental. \nTarifs \n\n15 € / 1 cours\n60 € / 5 cours\n120 € / 10 cours
URL:https://goujonissimo.be/event/yoga-yengar-2/2026-01-20/
LOCATION:Salle de gym
CATEGORIES:Sportive
ATTACH;FMTTYPE=image/jpeg:https://goujonissimo.be/wp-content/uploads/2024/04/yoga-yengar.jpg
END:VEVENT
BEGIN:VEVENT
DTSTART;TZID=Europe/Brussels:20260120T180000
DTEND;TZID=Europe/Brussels:20260120T200000
DTSTAMP:20260424T034251
CREATED:20250102T093631Z
LAST-MODIFIED:20260313T100608Z
UID:10012731-1768932000-1768939200@goujonissimo.be
SUMMARY:Cinéclub
DESCRIPTION: Mardi 24 mars – 18h – 20h30  \nFilm « Radical » \n  \n \n  \nMercredi 22 avril – 15h à 17h \nFilm « Le voyage de Chihiro » \n \n  \n 
URL:https://goujonissimo.be/event/cineclub-goujons-4/2026-01-20/
ATTACH;FMTTYPE=image/webp:https://goujonissimo.be/wp-content/uploads/2024/12/les-films-incontournables-du-cinema-w_2500x875.webp
END:VEVENT
BEGIN:VEVENT
DTSTART;TZID=Europe/Zurich:20260122T090000
DTEND;TZID=Europe/Zurich:20260122T123000
DTSTAMP:20260424T034251
CREATED:20260122T104143Z
LAST-MODIFIED:20260423T123651Z
UID:10012766-1769072400-1769085000@goujonissimo.be
SUMMARY:Cuisine Santé
DESCRIPTION:Chaque dernier jeudi du mois\, Medikuregem et Goujonissimo organisent conjointement un atelier sur la cuisine saine. La diététicienne Nacera fournit des ingrédients sains et parle de l’alimentation saine. Ensuite\, le groupe de participants travaille ensemble à la préparation d’un repas et savoure un bon repas ensemble.
URL:https://goujonissimo.be/event/cuisine-sante-2-2-2-3/2026-01-22/
LOCATION:Cuisine
CATEGORIES:Convivial,Santé
ATTACH;FMTTYPE=image/webp:https://goujonissimo.be/wp-content/uploads/2024/03/Goujonissimo_Activite-Cuisine-Saine.webp
END:VEVENT
END:VCALENDAR