BEGIN:VCALENDAR
VERSION:2.0
PRODID:-//Goujonissimo - ECPv6.15.16//NONSGML v1.0//EN
CALSCALE:GREGORIAN
METHOD:PUBLISH
X-ORIGINAL-URL:https://goujonissimo.be
X-WR-CALDESC:Évènements pour Goujonissimo
REFRESH-INTERVAL;VALUE=DURATION:PT1H
X-Robots-Tag:noindex
X-PUBLISHED-TTL:PT1H
BEGIN:VTIMEZONE
TZID:Europe/Brussels
BEGIN:DAYLIGHT
TZOFFSETFROM:+0100
TZOFFSETTO:+0200
TZNAME:CEST
DTSTART:20250330T010000
END:DAYLIGHT
BEGIN:STANDARD
TZOFFSETFROM:+0200
TZOFFSETTO:+0100
TZNAME:CET
DTSTART:20251026T010000
END:STANDARD
BEGIN:DAYLIGHT
TZOFFSETFROM:+0100
TZOFFSETTO:+0200
TZNAME:CEST
DTSTART:20260329T010000
END:DAYLIGHT
BEGIN:STANDARD
TZOFFSETFROM:+0200
TZOFFSETTO:+0100
TZNAME:CET
DTSTART:20261025T010000
END:STANDARD
BEGIN:DAYLIGHT
TZOFFSETFROM:+0100
TZOFFSETTO:+0200
TZNAME:CEST
DTSTART:20270328T010000
END:DAYLIGHT
BEGIN:STANDARD
TZOFFSETFROM:+0200
TZOFFSETTO:+0100
TZNAME:CET
DTSTART:20271031T010000
END:STANDARD
END:VTIMEZONE
BEGIN:VTIMEZONE
TZID:Europe/Zurich
BEGIN:DAYLIGHT
TZOFFSETFROM:+0100
TZOFFSETTO:+0200
TZNAME:CEST
DTSTART:20250330T010000
END:DAYLIGHT
BEGIN:STANDARD
TZOFFSETFROM:+0200
TZOFFSETTO:+0100
TZNAME:CET
DTSTART:20251026T010000
END:STANDARD
BEGIN:DAYLIGHT
TZOFFSETFROM:+0100
TZOFFSETTO:+0200
TZNAME:CEST
DTSTART:20260329T010000
END:DAYLIGHT
BEGIN:STANDARD
TZOFFSETFROM:+0200
TZOFFSETTO:+0100
TZNAME:CET
DTSTART:20261025T010000
END:STANDARD
BEGIN:DAYLIGHT
TZOFFSETFROM:+0100
TZOFFSETTO:+0200
TZNAME:CEST
DTSTART:20270328T010000
END:DAYLIGHT
BEGIN:STANDARD
TZOFFSETFROM:+0200
TZOFFSETTO:+0100
TZNAME:CET
DTSTART:20271031T010000
END:STANDARD
END:VTIMEZONE
BEGIN:VEVENT
DTSTART;TZID=Europe/Brussels:20260209T090000
DTEND;TZID=Europe/Brussels:20260209T120000
DTSTAMP:20260421T184006
CREATED:20241206T133247Z
LAST-MODIFIED:20260403T081719Z
UID:10006675-1770627600-1770638400@goujonissimo.be
SUMMARY:Main dans les mains (activités créatives)
DESCRIPTION:Activités créatives chaque lundi de 9 – 12h \nCouture\, tricot\, cuisine durable\, visite de musée… \nà Goujonissimo
URL:https://goujonissimo.be/event/main-dans-les-mains-activites-creatives/2026-02-09/
ATTACH;FMTTYPE=image/png:https://goujonissimo.be/wp-content/uploads/2024/12/image-1.png
END:VEVENT
BEGIN:VEVENT
DTSTART;TZID=Europe/Zurich:20260209T143000
DTEND;TZID=Europe/Zurich:20260209T150000
DTSTAMP:20260421T184006
CREATED:20240326T092426Z
LAST-MODIFIED:20260403T081829Z
UID:10008694-1770647400-1770649200@goujonissimo.be
SUMMARY:Gym Douce Mixte
DESCRIPTION:Le centre de services local Cosmos propose une « Gym Douce » pour les seniors à Goujonissimo. \nEn petit groupe de 10 à 15 personnes\, vous bougez ensemble en musique. C’est une activité destinée aux seniors ou aux personnes qui ont parfois du mal à se déplacer.  \nLe lundi\, le groupe est mixte et les hommes et les femmes s’entraînent ensemble.
URL:https://goujonissimo.be/event/gym-douce-2/2026-02-09/
LOCATION:Salle de gym
CATEGORIES:Sportive
ATTACH;FMTTYPE=image/png:https://goujonissimo.be/wp-content/uploads/2024/03/gym-douce.png
END:VEVENT
BEGIN:VEVENT
DTSTART;TZID=Europe/Brussels:20260209T170000
DTEND;TZID=Europe/Brussels:20260209T180000
DTSTAMP:20260421T184006
CREATED:20240917T142340Z
LAST-MODIFIED:20260403T081929Z
UID:10005806-1770656400-1770660000@goujonissimo.be
SUMMARY:Courir ensemble
DESCRIPTION:Envie de courir en groupe? \nVenez participer gratuitement au groupe de course à pied qui se déroule chaque lundi à 17h. \nN’oubliez pas de venir en tenue sportive. \nOuvert pour tous les niveaux! \nLieu de rendez-vous: Goujonissimo
URL:https://goujonissimo.be/event/groupe-de-course-a-pied/2026-02-09/
ATTACH;FMTTYPE=image/webp:https://goujonissimo.be/wp-content/uploads/2024/09/courir-e1726582766322.webp
END:VEVENT
BEGIN:VEVENT
DTSTART;TZID=Europe/Zurich:20260209T183000
DTEND;TZID=Europe/Zurich:20260209T200000
DTSTAMP:20260421T184006
CREATED:20240326T092426Z
LAST-MODIFIED:20260403T084515Z
UID:10002174-1770661800-1770667200@goujonissimo.be
SUMMARY:Yoga Yengar
DESCRIPTION:Karin\, professeur de yoga\, enseigne le Yengar Yoga deux fois par semaine à Goujonissimo. Il s’agit d’une forme active de yoga\, où vous travaillez avec des outils tels que des blocs\, des couvertures et des chaises pour vous aider à adopter correctement les différentes postures. Le yoga contribue à votre force\, votre flexibilité et votre stabilité et peut également être un bon stimulant pour votre bien-être mental. \nTarifs \n\n15 € / 1 cours\n60 € / 5 cours\n120 € / 10 cours
URL:https://goujonissimo.be/event/yoga-yengar/2026-02-09/
LOCATION:Salle de gym
CATEGORIES:Sportive
ATTACH;FMTTYPE=image/jpeg:https://goujonissimo.be/wp-content/uploads/2024/04/yoga-yengar.jpg
END:VEVENT
BEGIN:VEVENT
DTSTART;TZID=Europe/Zurich:20260210T093000
DTEND;TZID=Europe/Zurich:20260210T110000
DTSTAMP:20260421T184006
CREATED:20240405T084752Z
LAST-MODIFIED:20260403T084411Z
UID:10002700-1770715800-1770721200@goujonissimo.be
SUMMARY:Yoga Yengar
DESCRIPTION:Karin\, professeur de yoga\, enseigne le Yengar Yoga deux fois par semaine à Goujonissimo. Il s’agit d’une forme active de yoga\, où vous travaillez avec des outils tels que des blocs\, des couvertures et des chaises pour vous aider à adopter correctement les différentes postures. Le yoga contribue à votre force\, votre flexibilité et votre stabilité et peut également être un bon stimulant pour votre bien-être mental. \nTarifs \n\n15 € / 1 cours\n60 € / 5 cours\n120 € / 10 cours
URL:https://goujonissimo.be/event/yoga-yengar-2/2026-02-10/
LOCATION:Salle de gym
CATEGORIES:Sportive
ATTACH;FMTTYPE=image/jpeg:https://goujonissimo.be/wp-content/uploads/2024/04/yoga-yengar.jpg
END:VEVENT
BEGIN:VEVENT
DTSTART;TZID=Europe/Brussels:20260212T090000
DTEND;TZID=Europe/Brussels:20260212T130000
DTSTAMP:20260421T184006
CREATED:20260122T092547Z
LAST-MODIFIED:20260306T081318Z
UID:10012746-1770886800-1770901200@goujonissimo.be
SUMMARY:Cuisine du Monde
DESCRIPTION:Voyagez à travers les Saveurs : Découvrez les Délices du Monde ! \nChaque mois\, on cuisine ensemble et on découvrira des plats différents dans le Monde! \nRejoignez nous dans cette expérience unique où chaque repas est une aventure. Laissez vous surprendre par des combinaisons inattendues\, explorez des saveurs inédites et partagez ce moment de découverte avec vos proches. C’est plus qu’un repas\, c’est un voyage sensoriel autour du monde. \n\nChaque deuxième jeudi du mois.\nDe 9 à 13h
URL:https://goujonissimo.be/event/cuisine-du-monde-2/2026-02-12/
ATTACH;FMTTYPE=image/jpeg:https://goujonissimo.be/wp-content/uploads/2024/10/gastronomie-monde-carte.jpg
END:VEVENT
BEGIN:VEVENT
DTSTART;TZID=Europe/Brussels:20260212T160000
DTEND;TZID=Europe/Brussels:20260212T180000
DTSTAMP:20260421T184006
CREATED:20241031T114715Z
LAST-MODIFIED:20260327T111251Z
UID:10010348-1770912000-1770919200@goujonissimo.be
SUMMARY:Atelier Creo - expression de soi
DESCRIPTION:Deux fois par mois l’artiste Joanna vous amène dans l’univers de la peinture. Une fois sur deux (Atelier Creo – expression)\, accompagnés de nos psychologues ( Amina et Anais) vous y trouverez la détente et votre moyen d’expression de soi même à travers des différentes formes d’art. Une autre fois (Atelier Creo-cours)\, Joanna partage avec vous ses connaissances techniques et vous apprend à dessiner comme de pro 😉 ! Les sessions sont destinées aux adultes et tout le monde est le bienvenu\, indépendamment de la langue ou du talent. \n  \n  \n 
URL:https://goujonissimo.be/event/atelier-dexpression-de-soi-peinture/2026-02-12/
ATTACH;FMTTYPE=image/jpeg:https://goujonissimo.be/wp-content/uploads/2024/10/atelier-peinture.jpg
END:VEVENT
BEGIN:VEVENT
DTSTART;TZID=Europe/Brussels:20260213T100000
DTEND;TZID=Europe/Brussels:20260213T110000
DTSTAMP:20260421T184006
CREATED:20250411T114102Z
LAST-MODIFIED:20260213T100553Z
UID:10007403-1770976800-1770980400@goujonissimo.be
SUMMARY:Danse d'ailleurs
DESCRIPTION:Envie de découvrir des rythmes envoutants et des cultures fascinantes? \nRejoignez-nous chaque vendredi pour un tour du monde à travers la danse! \nà Goujonissimo.
URL:https://goujonissimo.be/event/danse-dailleurs/2026-02-13/
ATTACH;FMTTYPE=image/jpeg:https://goujonissimo.be/wp-content/uploads/2025/04/danse-femme.jpg
END:VEVENT
END:VCALENDAR